BEGIN:VCALENDAR
VERSION:2.0
PRODID:-//Fairlawn Avenue United Church - ECPv6.15.20//NONSGML v1.0//EN
CALSCALE:GREGORIAN
METHOD:PUBLISH
X-WR-CALNAME:Fairlawn Avenue United Church
X-ORIGINAL-URL:https://www.fairlawnchurch.ca
X-WR-CALDESC:Events for Fairlawn Avenue United Church
REFRESH-INTERVAL;VALUE=DURATION:PT1H
X-Robots-Tag:noindex
X-PUBLISHED-TTL:PT1H
BEGIN:VTIMEZONE
TZID:America/Toronto
BEGIN:DAYLIGHT
TZOFFSETFROM:-0500
TZOFFSETTO:-0400
TZNAME:EDT
DTSTART:20220313T070000
END:DAYLIGHT
BEGIN:STANDARD
TZOFFSETFROM:-0400
TZOFFSETTO:-0500
TZNAME:EST
DTSTART:20221106T060000
END:STANDARD
BEGIN:DAYLIGHT
TZOFFSETFROM:-0500
TZOFFSETTO:-0400
TZNAME:EDT
DTSTART:20230312T070000
END:DAYLIGHT
BEGIN:STANDARD
TZOFFSETFROM:-0400
TZOFFSETTO:-0500
TZNAME:EST
DTSTART:20231105T060000
END:STANDARD
BEGIN:DAYLIGHT
TZOFFSETFROM:-0500
TZOFFSETTO:-0400
TZNAME:EDT
DTSTART:20240310T070000
END:DAYLIGHT
BEGIN:STANDARD
TZOFFSETFROM:-0400
TZOFFSETTO:-0500
TZNAME:EST
DTSTART:20241103T060000
END:STANDARD
BEGIN:DAYLIGHT
TZOFFSETFROM:-0500
TZOFFSETTO:-0400
TZNAME:EDT
DTSTART:20250309T070000
END:DAYLIGHT
BEGIN:STANDARD
TZOFFSETFROM:-0400
TZOFFSETTO:-0500
TZNAME:EST
DTSTART:20251102T060000
END:STANDARD
END:VTIMEZONE
BEGIN:VEVENT
DTSTART;TZID=America/Toronto:20241130T100000
DTEND;TZID=America/Toronto:20241130T160000
DTSTAMP:20260423T210900
CREATED:20241119T210246Z
LAST-MODIFIED:20241220T022018Z
UID:56440-1732960800-1732982400@www.fairlawnchurch.ca
SUMMARY:56th Scouts Christmas Tree & Wreath Sale
DESCRIPTION:Fresh cut premium Fraser Firs (6-8 ft) $120 \n16″ Christmas Wreaths $35 \nSaturdays 10:00am – 4:00pm \nSundays 1:00pm – 4:00pm \nCash or Credit \nQuestions and Pre-orders:  info@56torontoscouts.com \n 
URL:https://www.fairlawnchurch.ca/events/56th-scouts-christmas-tree-wreath-sale/2024-11-30/
LOCATION:Fairlawn Avenue United Church\, 28 Fairlawn Avenue\, Toronto\, Toronto\, M5M 1S7\, Canada
CATEGORIES:Community Partner,Property
ATTACH;FMTTYPE=image/png:https://www.fairlawnchurch.ca/wp-content/uploads/2024/11/Christmas-Tree-Flyer-3.png
ORGANIZER;CN="Property Council":MAILTO:property@fairlawnavenueunited.ca
END:VEVENT
BEGIN:VEVENT
DTSTART;TZID=America/Toronto:20231002T151500
DTEND;TZID=America/Toronto:20231002T163000
DTSTAMP:20260423T210900
CREATED:20230930T041517Z
LAST-MODIFIED:20231106T185337Z
UID:48287-1696259700-1696264200@www.fairlawnchurch.ca
SUMMARY:Tai Chi with Rob Metcalf - Fall 2023
DESCRIPTION:UPDATE -> Due to the cancellation of the session on Monday\, October 30\, the series will extend one week and have its final session on Monday. december 4\, 2023. \n\nJoin Rob Metcalf for this 10-week series of Tai Chi Monday afternoons at 3:15pm to 4:30pm\, September 11 – November 27. (Please note – there are NO CLASSES on Monday\, October 9 or Monday\, October 23 ). \nTo register or for information\, please contact Rob at taichi@fairlawnavenueunited.ca. \nThis gentle form of exercise can help maintain strength\, flexibility\, and balance.  Tai chi is often described as “meditation in motion\,” but it might well be called “medication in motion.” There is growing evidence that this mind-body practice\, which originated in China as a martial art\, has value in treating or preventing many health problems. \nYou don’t need to subscribe to or learn much about tai chi’s roots in Chinese philosophy to enjoy its health benefits\, but these concepts can help make sense of its approach: \n\nQi — an energy force thought to flow through the body; tai chi is said to unblock and encourage the proper flow of qi.\nYin and yang — opposing elements thought to make up the universe that need to be kept in harmony. Tai chi is said to promote this balance.
URL:https://www.fairlawnchurch.ca/events/tai-chi-fall-2023/2023-10-02/
LOCATION:Fairlawn Avenue United Church\, 28 Fairlawn Avenue\, Toronto\, Toronto\, M5M 1S7\, Canada
CATEGORIES:Community Partner
ATTACH;FMTTYPE=image/jpeg:https://www.fairlawnchurch.ca/wp-content/uploads/2023/02/Tai-Chi-Feb623.jpg
END:VEVENT
END:VCALENDAR