BEGIN:VCALENDAR
VERSION:2.0
PRODID:-//Fairlawn Avenue United Church - ECPv6.15.20//NONSGML v1.0//EN
CALSCALE:GREGORIAN
METHOD:PUBLISH
X-ORIGINAL-URL:https://www.fairlawnchurch.ca
X-WR-CALDESC:Events for Fairlawn Avenue United Church
REFRESH-INTERVAL;VALUE=DURATION:PT1H
X-Robots-Tag:noindex
X-PUBLISHED-TTL:PT1H
BEGIN:VTIMEZONE
TZID:America/Toronto
BEGIN:DAYLIGHT
TZOFFSETFROM:-0500
TZOFFSETTO:-0400
TZNAME:EDT
DTSTART:20220313T070000
END:DAYLIGHT
BEGIN:STANDARD
TZOFFSETFROM:-0400
TZOFFSETTO:-0500
TZNAME:EST
DTSTART:20221106T060000
END:STANDARD
BEGIN:DAYLIGHT
TZOFFSETFROM:-0500
TZOFFSETTO:-0400
TZNAME:EDT
DTSTART:20230312T070000
END:DAYLIGHT
BEGIN:STANDARD
TZOFFSETFROM:-0400
TZOFFSETTO:-0500
TZNAME:EST
DTSTART:20231105T060000
END:STANDARD
BEGIN:DAYLIGHT
TZOFFSETFROM:-0500
TZOFFSETTO:-0400
TZNAME:EDT
DTSTART:20240310T070000
END:DAYLIGHT
BEGIN:STANDARD
TZOFFSETFROM:-0400
TZOFFSETTO:-0500
TZNAME:EST
DTSTART:20241103T060000
END:STANDARD
END:VTIMEZONE
BEGIN:VEVENT
DTSTART;TZID=America/Toronto:20231120T080000
DTEND;TZID=America/Toronto:20231120T170000
DTSTAMP:20260424T023929
CREATED:20230715T014535Z
LAST-MODIFIED:20230715T014926Z
UID:49247-1700467200-1700499600@www.fairlawnchurch.ca
SUMMARY:Transgender Day of Remembrance
DESCRIPTION:The Transgender Day of Remembrance\, November 20\, was set aside to recognize those who have been killed due to ignorance and hatred\, targeted because they were trans or gender non-conforming. The first event took place in 1999 in San Francisco to honour Rita Hester\, who had been brutally murdered the previous year.
URL:https://www.fairlawnchurch.ca/events/transgender-day-of-remembrance/
LOCATION:Toronto
CATEGORIES:Affirm,Affirm Ministry
ATTACH;FMTTYPE=image/jpeg:https://www.fairlawnchurch.ca/wp-content/uploads/2023/07/002776_1120-transdayofremembrance.jpg
END:VEVENT
BEGIN:VEVENT
DTSTART;TZID=America/Toronto:20230416T133000
DTEND;TZID=America/Toronto:20230416T153000
DTSTAMP:20260424T023930
CREATED:20230223T034848Z
LAST-MODIFIED:20230223T034849Z
UID:47005-1681651800-1681659000@www.fairlawnchurch.ca
SUMMARY:International Day of Pink ~ Martin Boyce’s Courage to Stand Up Tour
DESCRIPTION:Fairlawn’s Affirm Ministry\, in partnership with International Day of Pink\, will be hosting Martin Boyce’s cross-Canada Courage to Stand Up tour on Sunday\, April 16 at 1:30pm\, his only public event in the GTA. \nWe’ll have more information in the coming weeks about registering for the event that is being held in the sanctuary. \nBoyce was a participant in 1969’s Stonewall (or\, Stonewall Riots\, Stonewall Uprising) in New York City\, a pivotal moment in queer/trans history. He remains an activist to this day. The tour is being funded by the U.S. Embassy. Boyce will be interviewed by Michael Coren\, Anglican priest\, columnist and former broadcaster. Save the date!
URL:https://www.fairlawnchurch.ca/events/international-day-of-pink-martin-boyces-courage-to-stand-up-tour/
LOCATION:Fairlawn Avenue United Church\, 28 Fairlawn Avenue\, Toronto\, Toronto\, M5M 1S7\, Canada
CATEGORIES:Affirm Ministry
ATTACH;FMTTYPE=image/png:https://www.fairlawnchurch.ca/wp-content/uploads/2023/02/DayOfPinkShirt-e1677123999515.png
ORGANIZER;CN="Affirm Ministry":MAILTO:affirm@fairlawnavenueunited.ca
END:VEVENT
BEGIN:VEVENT
DTSTART;TZID=America/Toronto:20230220T090000
DTEND;TZID=America/Toronto:20230220T170000
DTSTAMP:20260424T023930
CREATED:20230205T045850Z
LAST-MODIFIED:20230205T050644Z
UID:46894-1676883600-1676912400@www.fairlawnchurch.ca
SUMMARY:Happy Family Day
DESCRIPTION:The church will be closed Monday\, Feb. 20 for Family Day
URL:https://www.fairlawnchurch.ca/events/happy-family-day/
LOCATION:Fairlawn Avenue United Church\, 28 Fairlawn Avenue\, Toronto\, Toronto\, M5M 1S7\, Canada
CATEGORIES:Administration,Affirm Ministry,Embrace Action,Experience Belonging,Explore Spirituality
ATTACH;FMTTYPE=image/jpeg:https://www.fairlawnchurch.ca/wp-content/uploads/2023/02/family_day.jpg
END:VEVENT
END:VCALENDAR