BEGIN:VCALENDAR
VERSION:2.0
PRODID:-//Fairlawn Avenue United Church - ECPv6.15.20//NONSGML v1.0//EN
CALSCALE:GREGORIAN
METHOD:PUBLISH
X-ORIGINAL-URL:https://www.fairlawnchurch.ca
X-WR-CALDESC:Events for Fairlawn Avenue United Church
REFRESH-INTERVAL;VALUE=DURATION:PT1H
X-Robots-Tag:noindex
X-PUBLISHED-TTL:PT1H
BEGIN:VTIMEZONE
TZID:America/Toronto
BEGIN:DAYLIGHT
TZOFFSETFROM:-0500
TZOFFSETTO:-0400
TZNAME:EDT
DTSTART:20250309T070000
END:DAYLIGHT
BEGIN:STANDARD
TZOFFSETFROM:-0400
TZOFFSETTO:-0500
TZNAME:EST
DTSTART:20251102T060000
END:STANDARD
BEGIN:DAYLIGHT
TZOFFSETFROM:-0500
TZOFFSETTO:-0400
TZNAME:EDT
DTSTART:20260308T070000
END:DAYLIGHT
BEGIN:STANDARD
TZOFFSETFROM:-0400
TZOFFSETTO:-0500
TZNAME:EST
DTSTART:20261101T060000
END:STANDARD
BEGIN:DAYLIGHT
TZOFFSETFROM:-0500
TZOFFSETTO:-0400
TZNAME:EDT
DTSTART:20270314T070000
END:DAYLIGHT
BEGIN:STANDARD
TZOFFSETFROM:-0400
TZOFFSETTO:-0500
TZNAME:EST
DTSTART:20271107T060000
END:STANDARD
END:VTIMEZONE
BEGIN:VEVENT
DTSTART;TZID=America/Toronto:20260520T190000
DTEND;TZID=America/Toronto:20260520T203000
DTSTAMP:20260423T193543
CREATED:20250104T053826Z
LAST-MODIFIED:20260316T144219Z
UID:61014-1779303600-1779309000@www.fairlawnchurch.ca
SUMMARY:Pastoral Visitation Team Meeting
DESCRIPTION:Pastoral Visitation Team Meeting \nOur pastoral visitation ministry provides support and compassion for those who may occasionally experience difficulty in their lives and supports our senior members when they can no longer regularly attend church. We send cards and flowers and keep them connected to Fairlawn through phone calls and personal visits.  \nIf you have any questions or would like to be involved in this ministry\, please contact Kathy Salisbury or Elaine Pitts at pastoralcare@fairlawnavenueunited.ca.
URL:https://www.fairlawnchurch.ca/events/zoom-pastoral-visitation-team-meeting/2026-05-20/
LOCATION:Online
CATEGORIES:Pastoral Care
ATTACH;FMTTYPE=image/jpeg:https://www.fairlawnchurch.ca/wp-content/uploads/2021/11/church-people-clip-art-614926.jpg
ORGANIZER;CN="Pastoral Care":MAILTO:pastoralcare@fairlawnavenueunited.ca
END:VEVENT
END:VCALENDAR