BEGIN:VCALENDAR
VERSION:2.0
PRODID:-//Fairlawn Avenue United Church - ECPv6.15.20//NONSGML v1.0//EN
CALSCALE:GREGORIAN
METHOD:PUBLISH
X-ORIGINAL-URL:https://www.fairlawnchurch.ca
X-WR-CALDESC:Events for Fairlawn Avenue United Church
REFRESH-INTERVAL;VALUE=DURATION:PT1H
X-Robots-Tag:noindex
X-PUBLISHED-TTL:PT1H
BEGIN:VTIMEZONE
TZID:America/Toronto
BEGIN:DAYLIGHT
TZOFFSETFROM:-0500
TZOFFSETTO:-0400
TZNAME:EDT
DTSTART:20250309T070000
END:DAYLIGHT
BEGIN:STANDARD
TZOFFSETFROM:-0400
TZOFFSETTO:-0500
TZNAME:EST
DTSTART:20251102T060000
END:STANDARD
BEGIN:DAYLIGHT
TZOFFSETFROM:-0500
TZOFFSETTO:-0400
TZNAME:EDT
DTSTART:20260308T070000
END:DAYLIGHT
BEGIN:STANDARD
TZOFFSETFROM:-0400
TZOFFSETTO:-0500
TZNAME:EST
DTSTART:20261101T060000
END:STANDARD
BEGIN:DAYLIGHT
TZOFFSETFROM:-0500
TZOFFSETTO:-0400
TZNAME:EDT
DTSTART:20270314T070000
END:DAYLIGHT
BEGIN:STANDARD
TZOFFSETFROM:-0400
TZOFFSETTO:-0500
TZNAME:EST
DTSTART:20271107T060000
END:STANDARD
END:VTIMEZONE
BEGIN:VEVENT
DTSTART;TZID=America/Toronto:20260413T100000
DTEND;TZID=America/Toronto:20260413T113000
DTSTAMP:20260423T200247
CREATED:20260323T041526Z
LAST-MODIFIED:20260324T021056Z
UID:61640-1776074400-1776079800@www.fairlawnchurch.ca
SUMMARY:Men's Group
DESCRIPTION:Men’s Group:  \nPlease note – the meeting on Easter Monday\, April 6’26 (Statutory Holiday) has been rescheduled one week later on Monday\, April 13. \nOn the first Monday morning of each month (September – June)\, the Men’s Group meet for a time of friendship and discussion. The wide-ranging conversations offer men a chance to discuss issues of mutual interest. \nFor information\, please contact es@fairlawnavenueunited.ca
URL:https://www.fairlawnchurch.ca/events/mens-group/2026-04-13/
LOCATION:Fairlawn Avenue United Church\, 28 Fairlawn Avenue\, Toronto\, Toronto\, M5M 1S7\, Canada
CATEGORIES:Explore Spirituality,Men's Group
ATTACH;FMTTYPE=image/jpeg:https://www.fairlawnchurch.ca/wp-content/uploads/2021/09/Mens-Group.jpg
ORGANIZER;CN="Explore Spirituality":MAILTO:es@fairlawnavenueunited.ca
END:VEVENT
END:VCALENDAR