BEGIN:VCALENDAR
VERSION:2.0
PRODID:-//Fairlawn Avenue United Church - ECPv6.15.20//NONSGML v1.0//EN
CALSCALE:GREGORIAN
METHOD:PUBLISH
X-ORIGINAL-URL:https://www.fairlawnchurch.ca
X-WR-CALDESC:Events for Fairlawn Avenue United Church
REFRESH-INTERVAL;VALUE=DURATION:PT1H
X-Robots-Tag:noindex
X-PUBLISHED-TTL:PT1H
BEGIN:VTIMEZONE
TZID:America/Toronto
BEGIN:DAYLIGHT
TZOFFSETFROM:-0500
TZOFFSETTO:-0400
TZNAME:EDT
DTSTART:20250309T070000
END:DAYLIGHT
BEGIN:STANDARD
TZOFFSETFROM:-0400
TZOFFSETTO:-0500
TZNAME:EST
DTSTART:20251102T060000
END:STANDARD
BEGIN:DAYLIGHT
TZOFFSETFROM:-0500
TZOFFSETTO:-0400
TZNAME:EDT
DTSTART:20260308T070000
END:DAYLIGHT
BEGIN:STANDARD
TZOFFSETFROM:-0400
TZOFFSETTO:-0500
TZNAME:EST
DTSTART:20261101T060000
END:STANDARD
BEGIN:DAYLIGHT
TZOFFSETFROM:-0500
TZOFFSETTO:-0400
TZNAME:EDT
DTSTART:20270314T070000
END:DAYLIGHT
BEGIN:STANDARD
TZOFFSETFROM:-0400
TZOFFSETTO:-0500
TZNAME:EST
DTSTART:20271107T060000
END:STANDARD
END:VTIMEZONE
BEGIN:VEVENT
DTSTART;TZID=America/Toronto:20260301T103000
DTEND;TZID=America/Toronto:20260301T113000
DTSTAMP:20260423T183614
CREATED:20260126T192833Z
LAST-MODIFIED:20260126T192833Z
UID:61196-1772361000-1772364600@www.fairlawnchurch.ca
SUMMARY:Worship Service ~ Lent
DESCRIPTION:Worship service at Fairlawn Avenue United Church are on Sunday mornings in our Sanctuary with Rev. Dr. Cameron Watts\, Eleanor Daley\, Director of Music and the Fairlawn Avenue Senior Choir. \nEnjoy a cup of coffee or tea\, in our post-service Coffee Hour in the sanctuary. Coffee Hour provides an important opportunity for people to connect with one another\, Experience Belonging\, welcome visitors and guests\, and feel part of Fairlawn. \nIf you’d like to revisit any of our worship services\, curated musical offerings and service bulletins\, they are posted online on our website worship page.
URL:https://www.fairlawnchurch.ca/events/worship-service-lent/2026-03-01/
LOCATION:Fairlawn Avenue United Church\, 28 Fairlawn Avenue\, Toronto\, Toronto\, M5M 1S7\, Canada
CATEGORIES:Explore Spirituality,Music,Worship
ATTACH;FMTTYPE=image/png:https://www.fairlawnchurch.ca/wp-content/uploads/2026/01/Lent-Worship.png
ORGANIZER;CN="Explore Spirituality":MAILTO:es@fairlawnavenueunited.ca
END:VEVENT
BEGIN:VEVENT
DTSTART;TZID=America/Toronto:20260301T103000
DTEND;TZID=America/Toronto:20260301T120000
DTSTAMP:20260423T183614
CREATED:20260123T054514Z
LAST-MODIFIED:20260123T160544Z
UID:61170-1772361000-1772366400@www.fairlawnchurch.ca
SUMMARY:Special Music
DESCRIPTION:You’re Invited to Special Music at Fairlawn Avenue United Church. \nSunday\, March 1\, 2026 at 10:30am\, the Senior Choir of Fairlawn Avenue with Eleanor Daley\, Director of Music present Requiem by John Rutter with Chamber Orchestra. \nJohn Rutter’s Requiem is a tender and luminous choral work that speaks gently of loss\, hope\, and peace. Blending ancient Latin texts with English psalms\, its flowing melodies and warm harmonies offer comfort and quiet beauty. Rather than mourning alone\, this Requiem invites listeners into a space of rest\, remembrance\, and healing.
URL:https://www.fairlawnchurch.ca/events/special-music/
LOCATION:Fairlawn Avenue United Church\, 28 Fairlawn Avenue\, Toronto\, Toronto\, M5M 1S7\, Canada
CATEGORIES:Explore Spirituality,Music,Worship
ATTACH;FMTTYPE=image/png:https://www.fairlawnchurch.ca/wp-content/uploads/2026/01/SP-Music-March-126-thumb.png
ORGANIZER;CN="Music":MAILTO:eleanor@fairlawnavenueunited.ca
END:VEVENT
BEGIN:VEVENT
DTSTART;TZID=America/Toronto:20260305T193000
DTEND;TZID=America/Toronto:20260305T210000
DTSTAMP:20260423T183614
CREATED:20250922T022932Z
LAST-MODIFIED:20260208T040206Z
UID:59491-1772739000-1772744400@www.fairlawnchurch.ca
SUMMARY:Fairlawn Senior Choir Practice
DESCRIPTION:JANUARY 15\, 2026 ->  Due to the winter storm and to ensure the safety of all\, Choir has been cancelled this evening. \nThe Senior Choir of Fairlawn Avenue United Church is an auditioned group of approximately 35 members\, including an 8-member professional core. \nThe Seniors sing every Sunday from September through June at the 10:30 am worship service\, and are responsible for an introit\, two anthems and all other service music. In order to cover that amount and level of music\, often with a minimum of rehearsal time\, choristers must have singing experience and excellent music/sight-reading skills. \nPractice is weekly on Thursday evenings.
URL:https://www.fairlawnchurch.ca/events/fairlawn-senior-choir-practice/2026-03-05/
LOCATION:Fairlawn Avenue United Church\, 28 Fairlawn Avenue\, Toronto\, Toronto\, M5M 1S7\, Canada
CATEGORIES:Choir,Explore Spirituality,Music
ATTACH;FMTTYPE=image/jpeg:https://www.fairlawnchurch.ca/wp-content/uploads/2012/01/0H3D1wPgrjoWWo6SMtR8RyFrsStI6-tIsEE0NnV_pdE.jpg
ORGANIZER;CN="Music":MAILTO:eleanor@fairlawnavenueunited.ca
END:VEVENT
BEGIN:VEVENT
DTSTART;TZID=America/Toronto:20260308T103000
DTEND;TZID=America/Toronto:20260308T113000
DTSTAMP:20260423T183614
CREATED:20260126T192833Z
LAST-MODIFIED:20260126T192833Z
UID:61197-1772965800-1772969400@www.fairlawnchurch.ca
SUMMARY:Worship Service ~ Lent
DESCRIPTION:Worship service at Fairlawn Avenue United Church are on Sunday mornings in our Sanctuary with Rev. Dr. Cameron Watts\, Eleanor Daley\, Director of Music and the Fairlawn Avenue Senior Choir. \nEnjoy a cup of coffee or tea\, in our post-service Coffee Hour in the sanctuary. Coffee Hour provides an important opportunity for people to connect with one another\, Experience Belonging\, welcome visitors and guests\, and feel part of Fairlawn. \nIf you’d like to revisit any of our worship services\, curated musical offerings and service bulletins\, they are posted online on our website worship page.
URL:https://www.fairlawnchurch.ca/events/worship-service-lent/2026-03-08/
LOCATION:Fairlawn Avenue United Church\, 28 Fairlawn Avenue\, Toronto\, Toronto\, M5M 1S7\, Canada
CATEGORIES:Explore Spirituality,Music,Worship
ATTACH;FMTTYPE=image/png:https://www.fairlawnchurch.ca/wp-content/uploads/2026/01/Lent-Worship.png
ORGANIZER;CN="Explore Spirituality":MAILTO:es@fairlawnavenueunited.ca
END:VEVENT
BEGIN:VEVENT
DTSTART;TZID=America/Toronto:20260312T193000
DTEND;TZID=America/Toronto:20260312T210000
DTSTAMP:20260423T183614
CREATED:20250922T022932Z
LAST-MODIFIED:20260208T040206Z
UID:59492-1773343800-1773349200@www.fairlawnchurch.ca
SUMMARY:Fairlawn Senior Choir Practice
DESCRIPTION:JANUARY 15\, 2026 ->  Due to the winter storm and to ensure the safety of all\, Choir has been cancelled this evening. \nThe Senior Choir of Fairlawn Avenue United Church is an auditioned group of approximately 35 members\, including an 8-member professional core. \nThe Seniors sing every Sunday from September through June at the 10:30 am worship service\, and are responsible for an introit\, two anthems and all other service music. In order to cover that amount and level of music\, often with a minimum of rehearsal time\, choristers must have singing experience and excellent music/sight-reading skills. \nPractice is weekly on Thursday evenings.
URL:https://www.fairlawnchurch.ca/events/fairlawn-senior-choir-practice/2026-03-12/
LOCATION:Fairlawn Avenue United Church\, 28 Fairlawn Avenue\, Toronto\, Toronto\, M5M 1S7\, Canada
CATEGORIES:Choir,Explore Spirituality,Music
ATTACH;FMTTYPE=image/jpeg:https://www.fairlawnchurch.ca/wp-content/uploads/2012/01/0H3D1wPgrjoWWo6SMtR8RyFrsStI6-tIsEE0NnV_pdE.jpg
ORGANIZER;CN="Music":MAILTO:eleanor@fairlawnavenueunited.ca
END:VEVENT
BEGIN:VEVENT
DTSTART;TZID=America/Toronto:20260315T103000
DTEND;TZID=America/Toronto:20260315T113000
DTSTAMP:20260423T183614
CREATED:20260126T192833Z
LAST-MODIFIED:20260126T192833Z
UID:61198-1773570600-1773574200@www.fairlawnchurch.ca
SUMMARY:Worship Service ~ Lent
DESCRIPTION:Worship service at Fairlawn Avenue United Church are on Sunday mornings in our Sanctuary with Rev. Dr. Cameron Watts\, Eleanor Daley\, Director of Music and the Fairlawn Avenue Senior Choir. \nEnjoy a cup of coffee or tea\, in our post-service Coffee Hour in the sanctuary. Coffee Hour provides an important opportunity for people to connect with one another\, Experience Belonging\, welcome visitors and guests\, and feel part of Fairlawn. \nIf you’d like to revisit any of our worship services\, curated musical offerings and service bulletins\, they are posted online on our website worship page.
URL:https://www.fairlawnchurch.ca/events/worship-service-lent/2026-03-15/
LOCATION:Fairlawn Avenue United Church\, 28 Fairlawn Avenue\, Toronto\, Toronto\, M5M 1S7\, Canada
CATEGORIES:Explore Spirituality,Music,Worship
ATTACH;FMTTYPE=image/png:https://www.fairlawnchurch.ca/wp-content/uploads/2026/01/Lent-Worship.png
ORGANIZER;CN="Explore Spirituality":MAILTO:es@fairlawnavenueunited.ca
END:VEVENT
BEGIN:VEVENT
DTSTART;TZID=America/Toronto:20260319T193000
DTEND;TZID=America/Toronto:20260319T210000
DTSTAMP:20260423T183614
CREATED:20250922T022932Z
LAST-MODIFIED:20260208T040206Z
UID:59493-1773948600-1773954000@www.fairlawnchurch.ca
SUMMARY:Fairlawn Senior Choir Practice
DESCRIPTION:JANUARY 15\, 2026 ->  Due to the winter storm and to ensure the safety of all\, Choir has been cancelled this evening. \nThe Senior Choir of Fairlawn Avenue United Church is an auditioned group of approximately 35 members\, including an 8-member professional core. \nThe Seniors sing every Sunday from September through June at the 10:30 am worship service\, and are responsible for an introit\, two anthems and all other service music. In order to cover that amount and level of music\, often with a minimum of rehearsal time\, choristers must have singing experience and excellent music/sight-reading skills. \nPractice is weekly on Thursday evenings.
URL:https://www.fairlawnchurch.ca/events/fairlawn-senior-choir-practice/2026-03-19/
LOCATION:Fairlawn Avenue United Church\, 28 Fairlawn Avenue\, Toronto\, Toronto\, M5M 1S7\, Canada
CATEGORIES:Choir,Explore Spirituality,Music
ATTACH;FMTTYPE=image/jpeg:https://www.fairlawnchurch.ca/wp-content/uploads/2012/01/0H3D1wPgrjoWWo6SMtR8RyFrsStI6-tIsEE0NnV_pdE.jpg
ORGANIZER;CN="Music":MAILTO:eleanor@fairlawnavenueunited.ca
END:VEVENT
BEGIN:VEVENT
DTSTART;TZID=America/Toronto:20260322T103000
DTEND;TZID=America/Toronto:20260322T113000
DTSTAMP:20260423T183614
CREATED:20260126T192833Z
LAST-MODIFIED:20260126T192833Z
UID:61199-1774175400-1774179000@www.fairlawnchurch.ca
SUMMARY:Worship Service ~ Lent
DESCRIPTION:Worship service at Fairlawn Avenue United Church are on Sunday mornings in our Sanctuary with Rev. Dr. Cameron Watts\, Eleanor Daley\, Director of Music and the Fairlawn Avenue Senior Choir. \nEnjoy a cup of coffee or tea\, in our post-service Coffee Hour in the sanctuary. Coffee Hour provides an important opportunity for people to connect with one another\, Experience Belonging\, welcome visitors and guests\, and feel part of Fairlawn. \nIf you’d like to revisit any of our worship services\, curated musical offerings and service bulletins\, they are posted online on our website worship page.
URL:https://www.fairlawnchurch.ca/events/worship-service-lent/2026-03-22/
LOCATION:Fairlawn Avenue United Church\, 28 Fairlawn Avenue\, Toronto\, Toronto\, M5M 1S7\, Canada
CATEGORIES:Explore Spirituality,Music,Worship
ATTACH;FMTTYPE=image/png:https://www.fairlawnchurch.ca/wp-content/uploads/2026/01/Lent-Worship.png
ORGANIZER;CN="Explore Spirituality":MAILTO:es@fairlawnavenueunited.ca
END:VEVENT
BEGIN:VEVENT
DTSTART;TZID=America/Toronto:20260326T193000
DTEND;TZID=America/Toronto:20260326T210000
DTSTAMP:20260423T183614
CREATED:20250922T022932Z
LAST-MODIFIED:20260208T040207Z
UID:59494-1774553400-1774558800@www.fairlawnchurch.ca
SUMMARY:Fairlawn Senior Choir Practice
DESCRIPTION:JANUARY 15\, 2026 ->  Due to the winter storm and to ensure the safety of all\, Choir has been cancelled this evening. \nThe Senior Choir of Fairlawn Avenue United Church is an auditioned group of approximately 35 members\, including an 8-member professional core. \nThe Seniors sing every Sunday from September through June at the 10:30 am worship service\, and are responsible for an introit\, two anthems and all other service music. In order to cover that amount and level of music\, often with a minimum of rehearsal time\, choristers must have singing experience and excellent music/sight-reading skills. \nPractice is weekly on Thursday evenings.
URL:https://www.fairlawnchurch.ca/events/fairlawn-senior-choir-practice/2026-03-26/
LOCATION:Fairlawn Avenue United Church\, 28 Fairlawn Avenue\, Toronto\, Toronto\, M5M 1S7\, Canada
CATEGORIES:Choir,Explore Spirituality,Music
ATTACH;FMTTYPE=image/jpeg:https://www.fairlawnchurch.ca/wp-content/uploads/2012/01/0H3D1wPgrjoWWo6SMtR8RyFrsStI6-tIsEE0NnV_pdE.jpg
ORGANIZER;CN="Music":MAILTO:eleanor@fairlawnavenueunited.ca
END:VEVENT
END:VCALENDAR