BEGIN:VCALENDAR
VERSION:2.0
PRODID:-//Fairlawn Avenue United Church - ECPv6.15.20//NONSGML v1.0//EN
CALSCALE:GREGORIAN
METHOD:PUBLISH
X-ORIGINAL-URL:https://www.fairlawnchurch.ca
X-WR-CALDESC:Events for Fairlawn Avenue United Church
REFRESH-INTERVAL;VALUE=DURATION:PT1H
X-Robots-Tag:noindex
X-PUBLISHED-TTL:PT1H
BEGIN:VTIMEZONE
TZID:America/Toronto
BEGIN:DAYLIGHT
TZOFFSETFROM:-0500
TZOFFSETTO:-0400
TZNAME:EDT
DTSTART:20220313T070000
END:DAYLIGHT
BEGIN:STANDARD
TZOFFSETFROM:-0400
TZOFFSETTO:-0500
TZNAME:EST
DTSTART:20221106T060000
END:STANDARD
BEGIN:DAYLIGHT
TZOFFSETFROM:-0500
TZOFFSETTO:-0400
TZNAME:EDT
DTSTART:20230312T070000
END:DAYLIGHT
BEGIN:STANDARD
TZOFFSETFROM:-0400
TZOFFSETTO:-0500
TZNAME:EST
DTSTART:20231105T060000
END:STANDARD
BEGIN:DAYLIGHT
TZOFFSETFROM:-0500
TZOFFSETTO:-0400
TZNAME:EDT
DTSTART:20240310T070000
END:DAYLIGHT
BEGIN:STANDARD
TZOFFSETFROM:-0400
TZOFFSETTO:-0500
TZNAME:EST
DTSTART:20241103T060000
END:STANDARD
BEGIN:DAYLIGHT
TZOFFSETFROM:-0500
TZOFFSETTO:-0400
TZNAME:EDT
DTSTART:20250309T070000
END:DAYLIGHT
BEGIN:STANDARD
TZOFFSETFROM:-0400
TZOFFSETTO:-0500
TZNAME:EST
DTSTART:20251102T060000
END:STANDARD
BEGIN:DAYLIGHT
TZOFFSETFROM:-0500
TZOFFSETTO:-0400
TZNAME:EDT
DTSTART:20260308T070000
END:DAYLIGHT
BEGIN:STANDARD
TZOFFSETFROM:-0400
TZOFFSETTO:-0500
TZNAME:EST
DTSTART:20261101T060000
END:STANDARD
END:VTIMEZONE
BEGIN:VEVENT
DTSTART;TZID=America/Toronto:20251021T130000
DTEND;TZID=America/Toronto:20251021T143000
DTSTAMP:20260423T183512
CREATED:20250916T130727Z
LAST-MODIFIED:20250916T130813Z
UID:59313-1761051600-1761057000@www.fairlawnchurch.ca
SUMMARY:Women's Spirituality Group II
DESCRIPTION:We have 2 women’s spirituality groups where women meet monthly to contemplate life’s questions and support each other. \nWomen’s Spirituality Group II meet in-person the third Tuesday of each month (September – June) from 1:00pm – 2:30pm in the Chapel. \nPlease note\, on accasion\, the group meet off-site.  To join\, please contact Sue Ennis for more information at es@fairlawnavenueunited.ca.
URL:https://www.fairlawnchurch.ca/events/womens-spirituality-group-ii-2/2025-10-21/
LOCATION:Fairlawn Avenue United Church\, 28 Fairlawn Avenue\, Toronto\, Toronto\, M5M 1S7\, Canada
CATEGORIES:Explore Spirituality,Women's Group
ATTACH;FMTTYPE=image/png:https://www.fairlawnchurch.ca/wp-content/uploads/2023/08/WSGII.png
ORGANIZER;CN="Explore Spirituality":MAILTO:es@fairlawnavenueunited.ca
END:VEVENT
BEGIN:VEVENT
DTSTART;TZID=America/Toronto:20251007T130000
DTEND;TZID=America/Toronto:20251007T143000
DTSTAMP:20260423T183512
CREATED:20241119T155948Z
LAST-MODIFIED:20241119T155948Z
UID:59714-1759842000-1759847400@www.fairlawnchurch.ca
SUMMARY:Women's Spirituality ~ Group I
DESCRIPTION:We have 2 women’s spirituality groups where women meet monthly to contemplate life’s questions and support each other. \nWomen’s Spirituality Group I meet online the first Tuesday of each month (October – June) from 1:00pm – 2:30pm. \nIf interested\, please reach out to es@fairlawnavenueunited.ca
URL:https://www.fairlawnchurch.ca/events/womens-spirituality-group-i-2/2025-10-07/
LOCATION:Online
CATEGORIES:Explore Spirituality,Women's Group
ATTACH;FMTTYPE=image/png:https://www.fairlawnchurch.ca/wp-content/uploads/2023/08/womens-I.png
ORGANIZER;CN="Explore Spirituality":MAILTO:es@fairlawnavenueunited.ca
END:VEVENT
BEGIN:VEVENT
DTSTART;TZID=America/Toronto:20250916T130000
DTEND;TZID=America/Toronto:20250916T143000
DTSTAMP:20260423T183512
CREATED:20250916T130727Z
LAST-MODIFIED:20250916T130813Z
UID:54722-1758027600-1758033000@www.fairlawnchurch.ca
SUMMARY:Women's Spirituality Group II
DESCRIPTION:We have 2 women’s spirituality groups where women meet monthly to contemplate life’s questions and support each other. \nWomen’s Spirituality Group II meet in-person the third Tuesday of each month (September – June) from 1:00pm – 2:30pm in the Chapel. \nPlease note\, on accasion\, the group meet off-site.  To join\, please contact Sue Ennis for more information at es@fairlawnavenueunited.ca.
URL:https://www.fairlawnchurch.ca/events/womens-spirituality-group-ii-2/2025-09-16/
LOCATION:Fairlawn Avenue United Church\, 28 Fairlawn Avenue\, Toronto\, Toronto\, M5M 1S7\, Canada
CATEGORIES:Explore Spirituality,Women's Group
ATTACH;FMTTYPE=image/png:https://www.fairlawnchurch.ca/wp-content/uploads/2023/08/WSGII.png
ORGANIZER;CN="Explore Spirituality":MAILTO:es@fairlawnavenueunited.ca
END:VEVENT
BEGIN:VEVENT
DTSTART;TZID=America/Toronto:20250617T130000
DTEND;TZID=America/Toronto:20250617T143000
DTSTAMP:20260423T183512
CREATED:20240212T051645Z
LAST-MODIFIED:20250516T151305Z
UID:54741-1750165200-1750170600@www.fairlawnchurch.ca
SUMMARY:Women's Spirituality Group II
DESCRIPTION:Please note the Women’s Spirituality Group II will be meeting OFF-SITE for the May 20’25 Gathering. \nWe have 2 women’s spirituality groups where women meet monthly to contemplate life’s questions and support each other. \nWomen’s Spirituality Group II meet monthly on the third Tuesday (September – June) from 1:00pm – 2:30pm in the chapel. \nIf interested\, please reach out to Sue Ennis at: es@fairlawnavenueunited.ca
URL:https://www.fairlawnchurch.ca/events/womens-spirituality-group-ii/2025-06-17/
LOCATION:Fairlawn Avenue United Church\, 28 Fairlawn Avenue\, Toronto\, Toronto\, M5M 1S7\, Canada
CATEGORIES:Explore Spirituality,Women's Group
ATTACH;FMTTYPE=image/png:https://www.fairlawnchurch.ca/wp-content/uploads/2023/08/WSGII.png
ORGANIZER;CN="Explore Spirituality":MAILTO:es@fairlawnavenueunited.ca
END:VEVENT
BEGIN:VEVENT
DTSTART;TZID=America/Toronto:20250603T130000
DTEND;TZID=America/Toronto:20250603T143000
DTSTAMP:20260423T183512
CREATED:20241119T155948Z
LAST-MODIFIED:20251006T141737Z
UID:56962-1748955600-1748961000@www.fairlawnchurch.ca
SUMMARY:Women's Spirituality ~ Group I
DESCRIPTION:We have 2 women’s spirituality groups where women meet monthly to contemplate life’s questions and support each other. \nWomen’s Spirituality Group I meet online the first Tuesday of each month (October – June) from 1:00pm – 2:30pm. \nIf interested\, please reach out to es@fairlawnavenueunited.ca
URL:https://www.fairlawnchurch.ca/events/womens-spirituality-group-i-2/2025-06-03/
LOCATION:Online
CATEGORIES:Explore Spirituality,Women's Group
ATTACH;FMTTYPE=image/png:https://www.fairlawnchurch.ca/wp-content/uploads/2023/08/womens-I.png
ORGANIZER;CN="Explore Spirituality":MAILTO:es@fairlawnavenueunited.ca
END:VEVENT
BEGIN:VEVENT
DTSTART;TZID=America/Toronto:20250520T130000
DTEND;TZID=America/Toronto:20250520T143000
DTSTAMP:20260423T183512
CREATED:20240212T051645Z
LAST-MODIFIED:20250516T151305Z
UID:54740-1747746000-1747751400@www.fairlawnchurch.ca
SUMMARY:Women's Spirituality Group II
DESCRIPTION:Please note the Women’s Spirituality Group II will be meeting OFF-SITE for the May 20’25 Gathering. \nWe have 2 women’s spirituality groups where women meet monthly to contemplate life’s questions and support each other. \nWomen’s Spirituality Group II meet monthly on the third Tuesday (September – June) from 1:00pm – 2:30pm in the chapel. \nIf interested\, please reach out to Sue Ennis at: es@fairlawnavenueunited.ca
URL:https://www.fairlawnchurch.ca/events/womens-spirituality-group-ii/2025-05-20/
LOCATION:Fairlawn Avenue United Church\, 28 Fairlawn Avenue\, Toronto\, Toronto\, M5M 1S7\, Canada
CATEGORIES:Explore Spirituality,Women's Group
ATTACH;FMTTYPE=image/png:https://www.fairlawnchurch.ca/wp-content/uploads/2023/08/WSGII.png
ORGANIZER;CN="Explore Spirituality":MAILTO:es@fairlawnavenueunited.ca
END:VEVENT
BEGIN:VEVENT
DTSTART;TZID=America/Toronto:20250506T130000
DTEND;TZID=America/Toronto:20250506T143000
DTSTAMP:20260423T183512
CREATED:20241119T155948Z
LAST-MODIFIED:20251006T141737Z
UID:56961-1746536400-1746541800@www.fairlawnchurch.ca
SUMMARY:Women's Spirituality ~ Group I
DESCRIPTION:We have 2 women’s spirituality groups where women meet monthly to contemplate life’s questions and support each other. \nWomen’s Spirituality Group I meet online the first Tuesday of each month (October – June) from 1:00pm – 2:30pm. \nIf interested\, please reach out to es@fairlawnavenueunited.ca
URL:https://www.fairlawnchurch.ca/events/womens-spirituality-group-i-2/2025-05-06/
LOCATION:Online
CATEGORIES:Explore Spirituality,Women's Group
ATTACH;FMTTYPE=image/png:https://www.fairlawnchurch.ca/wp-content/uploads/2023/08/womens-I.png
ORGANIZER;CN="Explore Spirituality":MAILTO:es@fairlawnavenueunited.ca
END:VEVENT
BEGIN:VEVENT
DTSTART;TZID=America/Toronto:20241208T103000
DTEND;TZID=America/Toronto:20241208T113000
DTSTAMP:20260423T183512
CREATED:20241125T135828Z
LAST-MODIFIED:20241129T194443Z
UID:56505-1733653800-1733657400@www.fairlawnchurch.ca
SUMMARY:Advent II - Communion Service
DESCRIPTION:Worship service at Fairlawn Avenue United Church are on Sunday mornings in our Sanctuary.  Doors open at 10:00am and service begins ar 10:3oam with Rev. Dr. Cameron Watts\, Eleanor Daley\, Director of Music and the Fairlawn Avenue Senior Choir. \nEnjoy a cup of coffee or tea\, in our post-service Coffee Hour in the sanctuary – we encourage you to bring your own mug! \nCoffee Hour provides an important opportunity for people to connect with one another\, Experience Belonging\, welcome visitors and guests\, and feel part of Fairlawn. \nIf you’d like to revisit any of our worship services\, curated musical offerings and service bulletins\, they are posted online on our website worship page  or YouTube channel.
URL:https://www.fairlawnchurch.ca/events/advent-ii-communion-service/
LOCATION:Fairlawn Avenue United Church\, 28 Fairlawn Avenue\, Toronto\, Toronto\, M5M 1S7\, Canada
CATEGORIES:Explore Spirituality,Music,Women's Group
ATTACH;FMTTYPE=image/jpeg:https://www.fairlawnchurch.ca/wp-content/uploads/2024/11/Peace.jpg
ORGANIZER;CN="Explore Spirituality":MAILTO:es@fairlawnavenueunited.ca
END:VEVENT
BEGIN:VEVENT
DTSTART;TZID=America/Toronto:20241203T130000
DTEND;TZID=America/Toronto:20241203T143000
DTSTAMP:20260423T183512
CREATED:20241119T155948Z
LAST-MODIFIED:20251006T141727Z
UID:56438-1733230800-1733236200@www.fairlawnchurch.ca
SUMMARY:Women's Spirituality ~ Group I
DESCRIPTION:We have 2 women’s spirituality groups where women meet monthly to contemplate life’s questions and support each other. \nWomen’s Spirituality Group I meet online the first Tuesday of each month (October – June) from 1:00pm – 2:30pm. \nIf interested\, please reach out to es@fairlawnavenueunited.ca
URL:https://www.fairlawnchurch.ca/events/womens-spirituality-group-i-2/2024-12-03/
LOCATION:Online
CATEGORIES:Explore Spirituality,Women's Group
ATTACH;FMTTYPE=image/png:https://www.fairlawnchurch.ca/wp-content/uploads/2023/08/womens-I.png
ORGANIZER;CN="Explore Spirituality":MAILTO:es@fairlawnavenueunited.ca
END:VEVENT
BEGIN:VEVENT
DTSTART;TZID=America/Toronto:20231121T130000
DTEND;TZID=America/Toronto:20231121T143000
DTSTAMP:20260423T183512
CREATED:20240212T051645Z
LAST-MODIFIED:20250516T151253Z
UID:50533-1700571600-1700577000@www.fairlawnchurch.ca
SUMMARY:Women's Spirituality Group II
DESCRIPTION:Please note the Women’s Spirituality Group II will be meeting OFF-SITE for the May 20’25 Gathering. \nWe have 2 women’s spirituality groups where women meet monthly to contemplate life’s questions and support each other. \nWomen’s Spirituality Group II meet monthly on the third Tuesday (September – June) from 1:00pm – 2:30pm in the chapel. \nIf interested\, please reach out to Sue Ennis at: es@fairlawnavenueunited.ca
URL:https://www.fairlawnchurch.ca/events/womens-spirituality-group-ii/2023-11-21/
LOCATION:Fairlawn Avenue United Church\, 28 Fairlawn Avenue\, Toronto\, Toronto\, M5M 1S7\, Canada
CATEGORIES:Explore Spirituality,Women's Group
ATTACH;FMTTYPE=image/png:https://www.fairlawnchurch.ca/wp-content/uploads/2023/08/WSGII.png
ORGANIZER;CN="Explore Spirituality":MAILTO:es@fairlawnavenueunited.ca
END:VEVENT
BEGIN:VEVENT
DTSTART;TZID=America/Toronto:20231106T130000
DTEND;TZID=America/Toronto:20231106T143000
DTSTAMP:20260423T183512
CREATED:20240715T041540Z
LAST-MODIFIED:20241119T155545Z
UID:50430-1699275600-1699281000@www.fairlawnchurch.ca
SUMMARY:Women's Spirituality Group I
DESCRIPTION:We have 2 women’s spirituality groups where women meet monthly to contemplate life’s questions and support each other. \nWomen’s Spirituality Group I meet online the first Monday of each month (October – June) from 1:00pm – 2:30pm. \nIf interested\, please reach out to es@fairlawnavenueunited.ca
URL:https://www.fairlawnchurch.ca/events/womens-spirituality-group-i/2023-11-06/
LOCATION:Online
CATEGORIES:Explore Spirituality,Women's Group
ATTACH;FMTTYPE=image/png:https://www.fairlawnchurch.ca/wp-content/uploads/2023/08/womens-I.png
ORGANIZER;CN="Explore Spirituality":MAILTO:es@fairlawnavenueunited.ca
END:VEVENT
BEGIN:VEVENT
DTSTART;TZID=America/Toronto:20231017T130000
DTEND;TZID=America/Toronto:20231017T143000
DTSTAMP:20260423T183512
CREATED:20230930T041544Z
LAST-MODIFIED:20231015T141342Z
UID:47845-1697547600-1697553000@www.fairlawnchurch.ca
SUMMARY:Women's Spirituality Group II
DESCRIPTION:Note: the gathering this month will be online over Zoom. \n  \nWe have 2 women’s spirituality groups where women meet monthly to contemplate life’s questions and support each other. \nWomen’s Spirituality Group II meet on the third Tuesday from 1:00pm – 2:30pm of each month in the sanctuary. \nIf interested\, please reach out to es@fairlawnavenueunited.ca
URL:https://www.fairlawnchurch.ca/events/womens-ii-oct/
LOCATION:Online
CATEGORIES:Explore Spirituality,Women's Group
ATTACH;FMTTYPE=image/png:https://www.fairlawnchurch.ca/wp-content/uploads/2023/08/WSGII.png
ORGANIZER;CN="Explore Spirituality":MAILTO:es@fairlawnavenueunited.ca
END:VEVENT
BEGIN:VEVENT
DTSTART;TZID=America/Toronto:20231002T130000
DTEND;TZID=America/Toronto:20231002T143000
DTSTAMP:20260423T183512
CREATED:20230827T142927Z
LAST-MODIFIED:20230827T143237Z
UID:49515-1696251600-1696257000@www.fairlawnchurch.ca
SUMMARY:Women's Spirituality Group I
DESCRIPTION:We have 2 women’s spirituality groups where women meet monthly to contemplate life’s questions and support each other. \nWomen’s Spirituality Group I meet online the first Monday of each month (Oct’23 – June ’24) from 1:00pm – 2:30pm. \nIf interested\, please reach out to es@fairlawnavenueunited.ca \n  \n 
URL:https://www.fairlawnchurch.ca/events/womens-i/
LOCATION:Online
CATEGORIES:Explore Spirituality,Women's Group
ATTACH;FMTTYPE=image/png:https://www.fairlawnchurch.ca/wp-content/uploads/2023/08/womens-I.png
ORGANIZER;CN="Explore Spirituality":MAILTO:es@fairlawnavenueunited.ca
END:VEVENT
BEGIN:VEVENT
DTSTART;TZID=America/Toronto:20230611T150000
DTEND;TZID=America/Toronto:20230611T170000
DTSTAMP:20260423T183512
CREATED:20230603T024245Z
LAST-MODIFIED:20230603T024248Z
UID:48576-1686495600-1686502800@www.fairlawnchurch.ca
SUMMARY:Book Launch ~ Rain on My Skin by Rosemary Clewes
DESCRIPTION:Toronto lanuch of Rain on My Skin by Rosemary Clewes \nwith special guest readers Ariane Blackman and Chris Pannell. \nSunday\, June 11 3:00pm – 5:00pm \nDoors open at 2:30pm \n 
URL:https://www.fairlawnchurch.ca/events/book-clewes/
LOCATION:Fairlawn Avenue United Church\, 28 Fairlawn Avenue\, Toronto\, Toronto\, M5M 1S7\, Canada
CATEGORIES:Explore Spirituality,Women's Group
ATTACH;FMTTYPE=image/png:https://www.fairlawnchurch.ca/wp-content/uploads/2023/06/596642df-5c37-e969-67c7-b673f9bd2be9.png
ORGANIZER;CN="Explore Spirituality":MAILTO:es@fairlawnavenueunited.ca
END:VEVENT
END:VCALENDAR