BEGIN:VCALENDAR
VERSION:2.0
PRODID:-//Fairlawn Avenue United Church - ECPv6.15.20//NONSGML v1.0//EN
CALSCALE:GREGORIAN
METHOD:PUBLISH
X-WR-CALNAME:Fairlawn Avenue United Church
X-ORIGINAL-URL:https://www.fairlawnchurch.ca
X-WR-CALDESC:Events for Fairlawn Avenue United Church
REFRESH-INTERVAL;VALUE=DURATION:PT1H
X-Robots-Tag:noindex
X-PUBLISHED-TTL:PT1H
BEGIN:VTIMEZONE
TZID:America/Toronto
BEGIN:DAYLIGHT
TZOFFSETFROM:-0500
TZOFFSETTO:-0400
TZNAME:EDT
DTSTART:20250309T070000
END:DAYLIGHT
BEGIN:STANDARD
TZOFFSETFROM:-0400
TZOFFSETTO:-0500
TZNAME:EST
DTSTART:20251102T060000
END:STANDARD
BEGIN:DAYLIGHT
TZOFFSETFROM:-0500
TZOFFSETTO:-0400
TZNAME:EDT
DTSTART:20260308T070000
END:DAYLIGHT
BEGIN:STANDARD
TZOFFSETFROM:-0400
TZOFFSETTO:-0500
TZNAME:EST
DTSTART:20261101T060000
END:STANDARD
BEGIN:DAYLIGHT
TZOFFSETFROM:-0500
TZOFFSETTO:-0400
TZNAME:EDT
DTSTART:20270314T070000
END:DAYLIGHT
BEGIN:STANDARD
TZOFFSETFROM:-0400
TZOFFSETTO:-0500
TZNAME:EST
DTSTART:20271107T060000
END:STANDARD
END:VTIMEZONE
BEGIN:VEVENT
DTSTART;TZID=America/Toronto:20260423T180000
DTEND;TZID=America/Toronto:20260423T210000
DTSTAMP:20260423T140842
CREATED:20251212T175424Z
LAST-MODIFIED:20251212T175447Z
UID:60598-1776967200-1776978000@www.fairlawnchurch.ca
SUMMARY:Fairlawn's 63rd Annual Book Sale
DESCRIPTION:
URL:https://www.fairlawnchurch.ca/events/fairlawns-63rd-annual-book-sale/2026-04-23/
LOCATION:Fairlawn Avenue United Church\, 28 Fairlawn Avenue\, Toronto\, Toronto\, M5M 1S7\, Canada
CATEGORIES:Administration,Embrace Action,Experience Belonging,Explore Spirituality,GC
ATTACH;FMTTYPE=image/jpeg:https://www.fairlawnchurch.ca/wp-content/uploads/2022/08/Book-Sale-Image.jpg
ORGANIZER;CN="Book Sale":MAILTO:booksale@fairlawnavenueunited.ca
END:VEVENT
BEGIN:VEVENT
DTSTART;TZID=America/Toronto:20260424T120000
DTEND;TZID=America/Toronto:20260424T210000
DTSTAMP:20260423T140842
CREATED:20251212T175424Z
LAST-MODIFIED:20251212T175447Z
UID:60600-1777032000-1777064400@www.fairlawnchurch.ca
SUMMARY:Fairlawn's 63rd Annual Book Sale
DESCRIPTION:
URL:https://www.fairlawnchurch.ca/events/fairlawns-63rd-annual-book-sale/2026-04-24/
LOCATION:Fairlawn Avenue United Church\, 28 Fairlawn Avenue\, Toronto\, Toronto\, M5M 1S7\, Canada
CATEGORIES:Administration,Embrace Action,Experience Belonging,Explore Spirituality,GC
ATTACH;FMTTYPE=image/jpeg:https://www.fairlawnchurch.ca/wp-content/uploads/2022/08/Book-Sale-Image.jpg
ORGANIZER;CN="Book Sale":MAILTO:booksale@fairlawnavenueunited.ca
END:VEVENT
BEGIN:VEVENT
DTSTART;TZID=America/Toronto:20260425T100000
DTEND;TZID=America/Toronto:20260425T130000
DTSTAMP:20260423T140842
CREATED:20251212T175424Z
LAST-MODIFIED:20251212T175448Z
UID:60601-1777111200-1777122000@www.fairlawnchurch.ca
SUMMARY:Fairlawn's 63rd Annual Book Sale
DESCRIPTION:
URL:https://www.fairlawnchurch.ca/events/fairlawns-63rd-annual-book-sale/2026-04-25/
LOCATION:Fairlawn Avenue United Church\, 28 Fairlawn Avenue\, Toronto\, Toronto\, M5M 1S7\, Canada
CATEGORIES:Administration,Embrace Action,Experience Belonging,Explore Spirituality,GC
ATTACH;FMTTYPE=image/jpeg:https://www.fairlawnchurch.ca/wp-content/uploads/2022/08/Book-Sale-Image.jpg
ORGANIZER;CN="Book Sale":MAILTO:booksale@fairlawnavenueunited.ca
END:VEVENT
BEGIN:VEVENT
DTSTART;TZID=America/Toronto:20260429T190000
DTEND;TZID=America/Toronto:20260429T210000
DTSTAMP:20260423T140842
CREATED:20240715T041538Z
LAST-MODIFIED:20240715T041538Z
UID:61002-1777489200-1777496400@www.fairlawnchurch.ca
SUMMARY:Trustees Meeting
DESCRIPTION:The Trustees of Fairlawn Avenue United Church meet online quarterly. \nIf you have any questions please reach out to Tom Salisbury\, Chair and Liaison to Governing Council at trustees@fairlawnavenueunited.ca. \n 
URL:https://www.fairlawnchurch.ca/events/trustees-2024/2026-04-29/
LOCATION:Online
CATEGORIES:Trustees
ATTACH;FMTTYPE=image/jpeg:https://www.fairlawnchurch.ca/wp-content/uploads/2022/01/Fairlawn-Purpose-Logo-Main-Grey-e1661914323925.jpg
ORGANIZER;CN="Trustees":MAILTO:trustees@fairlawnavenueunited.ca
END:VEVENT
END:VCALENDAR