BEGIN:VCALENDAR
VERSION:2.0
PRODID:-//Fairlawn Avenue United Church - ECPv6.15.20//NONSGML v1.0//EN
CALSCALE:GREGORIAN
METHOD:PUBLISH
X-ORIGINAL-URL:https://www.fairlawnchurch.ca
X-WR-CALDESC:Events for Fairlawn Avenue United Church
REFRESH-INTERVAL;VALUE=DURATION:PT1H
X-Robots-Tag:noindex
X-PUBLISHED-TTL:PT1H
BEGIN:VTIMEZONE
TZID:America/Toronto
BEGIN:DAYLIGHT
TZOFFSETFROM:-0500
TZOFFSETTO:-0400
TZNAME:EDT
DTSTART:20250309T070000
END:DAYLIGHT
BEGIN:STANDARD
TZOFFSETFROM:-0400
TZOFFSETTO:-0500
TZNAME:EST
DTSTART:20251102T060000
END:STANDARD
BEGIN:DAYLIGHT
TZOFFSETFROM:-0500
TZOFFSETTO:-0400
TZNAME:EDT
DTSTART:20260308T070000
END:DAYLIGHT
BEGIN:STANDARD
TZOFFSETFROM:-0400
TZOFFSETTO:-0500
TZNAME:EST
DTSTART:20261101T060000
END:STANDARD
BEGIN:DAYLIGHT
TZOFFSETFROM:-0500
TZOFFSETTO:-0400
TZNAME:EDT
DTSTART:20270314T070000
END:DAYLIGHT
BEGIN:STANDARD
TZOFFSETFROM:-0400
TZOFFSETTO:-0500
TZNAME:EST
DTSTART:20271107T060000
END:STANDARD
END:VTIMEZONE
BEGIN:VEVENT
DTSTART;TZID=America/Toronto:20260429T193000
DTEND;TZID=America/Toronto:20260429T210000
DTSTAMP:20260423T100940
CREATED:20240728T052743Z
LAST-MODIFIED:20251230T235251Z
UID:60655-1777491000-1777496400@www.fairlawnchurch.ca
SUMMARY:Christian Meditation
DESCRIPTION:Wednesdays at 7:30pm to 9:00pm\, we gather online for Christian Meditation. \nThis group is open to anyone who is interested in Meditation at any level\, or are curious. All are welcome. \nPlease email moderator\, Patrick Sullivan\, at christianmeditation@fairlawnavenueunited.ca to receive the Zoom login details.
URL:https://www.fairlawnchurch.ca/events/christian-meditation-2/2026-04-29/
LOCATION:Online
CATEGORIES:Explore Spirituality,Meditation
ATTACH;FMTTYPE=image/jpeg:https://www.fairlawnchurch.ca/wp-content/uploads/2019/08/christian-meditation.jpg
ORGANIZER;CN="Explore Spirituality":MAILTO:es@fairlawnavenueunited.ca
END:VEVENT
BEGIN:VEVENT
DTSTART;TZID=America/Toronto:20260506T193000
DTEND;TZID=America/Toronto:20260506T210000
DTSTAMP:20260423T100940
CREATED:20240728T052743Z
LAST-MODIFIED:20251230T235251Z
UID:60656-1778095800-1778101200@www.fairlawnchurch.ca
SUMMARY:Christian Meditation
DESCRIPTION:Wednesdays at 7:30pm to 9:00pm\, we gather online for Christian Meditation. \nThis group is open to anyone who is interested in Meditation at any level\, or are curious. All are welcome. \nPlease email moderator\, Patrick Sullivan\, at christianmeditation@fairlawnavenueunited.ca to receive the Zoom login details.
URL:https://www.fairlawnchurch.ca/events/christian-meditation-2/2026-05-06/
LOCATION:Online
CATEGORIES:Explore Spirituality,Meditation
ATTACH;FMTTYPE=image/jpeg:https://www.fairlawnchurch.ca/wp-content/uploads/2019/08/christian-meditation.jpg
ORGANIZER;CN="Explore Spirituality":MAILTO:es@fairlawnavenueunited.ca
END:VEVENT
BEGIN:VEVENT
DTSTART;TZID=America/Toronto:20260513T193000
DTEND;TZID=America/Toronto:20260513T210000
DTSTAMP:20260423T100940
CREATED:20240728T052743Z
LAST-MODIFIED:20251230T235251Z
UID:60657-1778700600-1778706000@www.fairlawnchurch.ca
SUMMARY:Christian Meditation
DESCRIPTION:Wednesdays at 7:30pm to 9:00pm\, we gather online for Christian Meditation. \nThis group is open to anyone who is interested in Meditation at any level\, or are curious. All are welcome. \nPlease email moderator\, Patrick Sullivan\, at christianmeditation@fairlawnavenueunited.ca to receive the Zoom login details.
URL:https://www.fairlawnchurch.ca/events/christian-meditation-2/2026-05-13/
LOCATION:Online
CATEGORIES:Explore Spirituality,Meditation
ATTACH;FMTTYPE=image/jpeg:https://www.fairlawnchurch.ca/wp-content/uploads/2019/08/christian-meditation.jpg
ORGANIZER;CN="Explore Spirituality":MAILTO:es@fairlawnavenueunited.ca
END:VEVENT
BEGIN:VEVENT
DTSTART;TZID=America/Toronto:20260520T193000
DTEND;TZID=America/Toronto:20260520T210000
DTSTAMP:20260423T100940
CREATED:20240728T052743Z
LAST-MODIFIED:20251230T235253Z
UID:60658-1779305400-1779310800@www.fairlawnchurch.ca
SUMMARY:Christian Meditation
DESCRIPTION:Wednesdays at 7:30pm to 9:00pm\, we gather online for Christian Meditation. \nThis group is open to anyone who is interested in Meditation at any level\, or are curious. All are welcome. \nPlease email moderator\, Patrick Sullivan\, at christianmeditation@fairlawnavenueunited.ca to receive the Zoom login details.
URL:https://www.fairlawnchurch.ca/events/christian-meditation-2/2026-05-20/
LOCATION:Online
CATEGORIES:Explore Spirituality,Meditation
ATTACH;FMTTYPE=image/jpeg:https://www.fairlawnchurch.ca/wp-content/uploads/2019/08/christian-meditation.jpg
ORGANIZER;CN="Explore Spirituality":MAILTO:es@fairlawnavenueunited.ca
END:VEVENT
BEGIN:VEVENT
DTSTART;TZID=America/Toronto:20260527T193000
DTEND;TZID=America/Toronto:20260527T210000
DTSTAMP:20260423T100940
CREATED:20240728T052743Z
LAST-MODIFIED:20251230T235253Z
UID:60659-1779910200-1779915600@www.fairlawnchurch.ca
SUMMARY:Christian Meditation
DESCRIPTION:Wednesdays at 7:30pm to 9:00pm\, we gather online for Christian Meditation. \nThis group is open to anyone who is interested in Meditation at any level\, or are curious. All are welcome. \nPlease email moderator\, Patrick Sullivan\, at christianmeditation@fairlawnavenueunited.ca to receive the Zoom login details.
URL:https://www.fairlawnchurch.ca/events/christian-meditation-2/2026-05-27/
LOCATION:Online
CATEGORIES:Explore Spirituality,Meditation
ATTACH;FMTTYPE=image/jpeg:https://www.fairlawnchurch.ca/wp-content/uploads/2019/08/christian-meditation.jpg
ORGANIZER;CN="Explore Spirituality":MAILTO:es@fairlawnavenueunited.ca
END:VEVENT
BEGIN:VEVENT
DTSTART;TZID=America/Toronto:20260603T193000
DTEND;TZID=America/Toronto:20260603T210000
DTSTAMP:20260423T100940
CREATED:20240728T052743Z
LAST-MODIFIED:20251230T235253Z
UID:60660-1780515000-1780520400@www.fairlawnchurch.ca
SUMMARY:Christian Meditation
DESCRIPTION:Wednesdays at 7:30pm to 9:00pm\, we gather online for Christian Meditation. \nThis group is open to anyone who is interested in Meditation at any level\, or are curious. All are welcome. \nPlease email moderator\, Patrick Sullivan\, at christianmeditation@fairlawnavenueunited.ca to receive the Zoom login details.
URL:https://www.fairlawnchurch.ca/events/christian-meditation-2/2026-06-03/
LOCATION:Online
CATEGORIES:Explore Spirituality,Meditation
ATTACH;FMTTYPE=image/jpeg:https://www.fairlawnchurch.ca/wp-content/uploads/2019/08/christian-meditation.jpg
ORGANIZER;CN="Explore Spirituality":MAILTO:es@fairlawnavenueunited.ca
END:VEVENT
BEGIN:VEVENT
DTSTART;TZID=America/Toronto:20260610T193000
DTEND;TZID=America/Toronto:20260610T210000
DTSTAMP:20260423T100940
CREATED:20240728T052743Z
LAST-MODIFIED:20251230T235254Z
UID:60661-1781119800-1781125200@www.fairlawnchurch.ca
SUMMARY:Christian Meditation
DESCRIPTION:Wednesdays at 7:30pm to 9:00pm\, we gather online for Christian Meditation. \nThis group is open to anyone who is interested in Meditation at any level\, or are curious. All are welcome. \nPlease email moderator\, Patrick Sullivan\, at christianmeditation@fairlawnavenueunited.ca to receive the Zoom login details.
URL:https://www.fairlawnchurch.ca/events/christian-meditation-2/2026-06-10/
LOCATION:Online
CATEGORIES:Explore Spirituality,Meditation
ATTACH;FMTTYPE=image/jpeg:https://www.fairlawnchurch.ca/wp-content/uploads/2019/08/christian-meditation.jpg
ORGANIZER;CN="Explore Spirituality":MAILTO:es@fairlawnavenueunited.ca
END:VEVENT
BEGIN:VEVENT
DTSTART;TZID=America/Toronto:20260617T193000
DTEND;TZID=America/Toronto:20260617T210000
DTSTAMP:20260423T100940
CREATED:20240728T052743Z
LAST-MODIFIED:20251230T235254Z
UID:60662-1781724600-1781730000@www.fairlawnchurch.ca
SUMMARY:Christian Meditation
DESCRIPTION:Wednesdays at 7:30pm to 9:00pm\, we gather online for Christian Meditation. \nThis group is open to anyone who is interested in Meditation at any level\, or are curious. All are welcome. \nPlease email moderator\, Patrick Sullivan\, at christianmeditation@fairlawnavenueunited.ca to receive the Zoom login details.
URL:https://www.fairlawnchurch.ca/events/christian-meditation-2/2026-06-17/
LOCATION:Online
CATEGORIES:Explore Spirituality,Meditation
ATTACH;FMTTYPE=image/jpeg:https://www.fairlawnchurch.ca/wp-content/uploads/2019/08/christian-meditation.jpg
ORGANIZER;CN="Explore Spirituality":MAILTO:es@fairlawnavenueunited.ca
END:VEVENT
BEGIN:VEVENT
DTSTART;TZID=America/Toronto:20260624T193000
DTEND;TZID=America/Toronto:20260624T210000
DTSTAMP:20260423T100940
CREATED:20240728T052743Z
LAST-MODIFIED:20251230T235254Z
UID:60663-1782329400-1782334800@www.fairlawnchurch.ca
SUMMARY:Christian Meditation
DESCRIPTION:Wednesdays at 7:30pm to 9:00pm\, we gather online for Christian Meditation. \nThis group is open to anyone who is interested in Meditation at any level\, or are curious. All are welcome. \nPlease email moderator\, Patrick Sullivan\, at christianmeditation@fairlawnavenueunited.ca to receive the Zoom login details.
URL:https://www.fairlawnchurch.ca/events/christian-meditation-2/2026-06-24/
LOCATION:Online
CATEGORIES:Explore Spirituality,Meditation
ATTACH;FMTTYPE=image/jpeg:https://www.fairlawnchurch.ca/wp-content/uploads/2019/08/christian-meditation.jpg
ORGANIZER;CN="Explore Spirituality":MAILTO:es@fairlawnavenueunited.ca
END:VEVENT
END:VCALENDAR