BEGIN:VCALENDAR
VERSION:2.0
PRODID:-//Fairlawn Avenue United Church - ECPv6.15.20//NONSGML v1.0//EN
CALSCALE:GREGORIAN
METHOD:PUBLISH
X-WR-CALNAME:Fairlawn Avenue United Church
X-ORIGINAL-URL:https://www.fairlawnchurch.ca
X-WR-CALDESC:Events for Fairlawn Avenue United Church
REFRESH-INTERVAL;VALUE=DURATION:PT1H
X-Robots-Tag:noindex
X-PUBLISHED-TTL:PT1H
BEGIN:VTIMEZONE
TZID:America/Toronto
BEGIN:DAYLIGHT
TZOFFSETFROM:-0500
TZOFFSETTO:-0400
TZNAME:EDT
DTSTART:20250309T070000
END:DAYLIGHT
BEGIN:STANDARD
TZOFFSETFROM:-0400
TZOFFSETTO:-0500
TZNAME:EST
DTSTART:20251102T060000
END:STANDARD
BEGIN:DAYLIGHT
TZOFFSETFROM:-0500
TZOFFSETTO:-0400
TZNAME:EDT
DTSTART:20260308T070000
END:DAYLIGHT
BEGIN:STANDARD
TZOFFSETFROM:-0400
TZOFFSETTO:-0500
TZNAME:EST
DTSTART:20261101T060000
END:STANDARD
BEGIN:DAYLIGHT
TZOFFSETFROM:-0500
TZOFFSETTO:-0400
TZNAME:EDT
DTSTART:20270314T070000
END:DAYLIGHT
BEGIN:STANDARD
TZOFFSETFROM:-0400
TZOFFSETTO:-0500
TZNAME:EST
DTSTART:20271107T060000
END:STANDARD
END:VTIMEZONE
BEGIN:VEVENT
DTSTART;TZID=America/Toronto:20260329T113000
DTEND;TZID=America/Toronto:20260329T123000
DTSTAMP:20260423T145117
CREATED:20251118T204736Z
LAST-MODIFIED:20251118T204736Z
UID:61205-1774783800-1774787400@www.fairlawnchurch.ca
SUMMARY:Coffee Hour
DESCRIPTION:Coffee Hour after Sunday worship –  Experience Belonging Ministry \n\n\n\n\nEvery Sunday following worship service\, coffee\, tea and cookies are served in the sanctuary. Coffee hour provides an important opportunity for people to connect with one another\, welcome guests and feel part of Fairlawn. \nEach week\, a two-person team will arrive at 10:00am to set up\, attend the service and finish cleaning up by 12:30pm. Easy-to-follow instructions are posted in the kitchen. If you’re interested in joining the hospitality team and can volunteer one Sunday a month\, reach out to Joanne at:  joanne@fairlawnavenueunited.ca
URL:https://www.fairlawnchurch.ca/events/coffee-hour-2/2026-03-29/
LOCATION:Fairlawn Avenue United Church\, 28 Fairlawn Avenue\, Toronto\, Toronto\, M5M 1S7\, Canada
ATTACH;FMTTYPE=image/png:https://www.fairlawnchurch.ca/wp-content/uploads/2025/10/Coffee-Hour.png
ORGANIZER;CN="Experience Belonging":MAILTO:eb@fairlawnavenueunited.ca
END:VEVENT
BEGIN:VEVENT
DTSTART;TZID=America/Toronto:20260322T113000
DTEND;TZID=America/Toronto:20260322T123000
DTSTAMP:20260423T145117
CREATED:20251118T204736Z
LAST-MODIFIED:20251118T204736Z
UID:61204-1774179000-1774182600@www.fairlawnchurch.ca
SUMMARY:Coffee Hour
DESCRIPTION:Coffee Hour after Sunday worship –  Experience Belonging Ministry \n\n\n\n\nEvery Sunday following worship service\, coffee\, tea and cookies are served in the sanctuary. Coffee hour provides an important opportunity for people to connect with one another\, welcome guests and feel part of Fairlawn. \nEach week\, a two-person team will arrive at 10:00am to set up\, attend the service and finish cleaning up by 12:30pm. Easy-to-follow instructions are posted in the kitchen. If you’re interested in joining the hospitality team and can volunteer one Sunday a month\, reach out to Joanne at:  joanne@fairlawnavenueunited.ca
URL:https://www.fairlawnchurch.ca/events/coffee-hour-2/2026-03-22/
LOCATION:Fairlawn Avenue United Church\, 28 Fairlawn Avenue\, Toronto\, Toronto\, M5M 1S7\, Canada
ATTACH;FMTTYPE=image/png:https://www.fairlawnchurch.ca/wp-content/uploads/2025/10/Coffee-Hour.png
ORGANIZER;CN="Experience Belonging":MAILTO:eb@fairlawnavenueunited.ca
END:VEVENT
BEGIN:VEVENT
DTSTART;TZID=America/Toronto:20260315T113000
DTEND;TZID=America/Toronto:20260315T123000
DTSTAMP:20260423T145117
CREATED:20251118T204736Z
LAST-MODIFIED:20251118T204736Z
UID:61203-1773574200-1773577800@www.fairlawnchurch.ca
SUMMARY:Coffee Hour
DESCRIPTION:Coffee Hour after Sunday worship –  Experience Belonging Ministry \n\n\n\n\nEvery Sunday following worship service\, coffee\, tea and cookies are served in the sanctuary. Coffee hour provides an important opportunity for people to connect with one another\, welcome guests and feel part of Fairlawn. \nEach week\, a two-person team will arrive at 10:00am to set up\, attend the service and finish cleaning up by 12:30pm. Easy-to-follow instructions are posted in the kitchen. If you’re interested in joining the hospitality team and can volunteer one Sunday a month\, reach out to Joanne at:  joanne@fairlawnavenueunited.ca
URL:https://www.fairlawnchurch.ca/events/coffee-hour-2/2026-03-15/
LOCATION:Fairlawn Avenue United Church\, 28 Fairlawn Avenue\, Toronto\, Toronto\, M5M 1S7\, Canada
ATTACH;FMTTYPE=image/png:https://www.fairlawnchurch.ca/wp-content/uploads/2025/10/Coffee-Hour.png
ORGANIZER;CN="Experience Belonging":MAILTO:eb@fairlawnavenueunited.ca
END:VEVENT
BEGIN:VEVENT
DTSTART;TZID=America/Toronto:20260308T113000
DTEND;TZID=America/Toronto:20260308T123000
DTSTAMP:20260423T145117
CREATED:20251118T204736Z
LAST-MODIFIED:20251118T204736Z
UID:61202-1772969400-1772973000@www.fairlawnchurch.ca
SUMMARY:Coffee Hour
DESCRIPTION:Coffee Hour after Sunday worship –  Experience Belonging Ministry \n\n\n\n\nEvery Sunday following worship service\, coffee\, tea and cookies are served in the sanctuary. Coffee hour provides an important opportunity for people to connect with one another\, welcome guests and feel part of Fairlawn. \nEach week\, a two-person team will arrive at 10:00am to set up\, attend the service and finish cleaning up by 12:30pm. Easy-to-follow instructions are posted in the kitchen. If you’re interested in joining the hospitality team and can volunteer one Sunday a month\, reach out to Joanne at:  joanne@fairlawnavenueunited.ca
URL:https://www.fairlawnchurch.ca/events/coffee-hour-2/2026-03-08/
LOCATION:Fairlawn Avenue United Church\, 28 Fairlawn Avenue\, Toronto\, Toronto\, M5M 1S7\, Canada
ATTACH;FMTTYPE=image/png:https://www.fairlawnchurch.ca/wp-content/uploads/2025/10/Coffee-Hour.png
ORGANIZER;CN="Experience Belonging":MAILTO:eb@fairlawnavenueunited.ca
END:VEVENT
BEGIN:VEVENT
DTSTART;TZID=America/Toronto:20260301T113000
DTEND;TZID=America/Toronto:20260301T123000
DTSTAMP:20260423T145117
CREATED:20251118T204736Z
LAST-MODIFIED:20251118T204736Z
UID:61201-1772364600-1772368200@www.fairlawnchurch.ca
SUMMARY:Coffee Hour
DESCRIPTION:Coffee Hour after Sunday worship –  Experience Belonging Ministry \n\n\n\n\nEvery Sunday following worship service\, coffee\, tea and cookies are served in the sanctuary. Coffee hour provides an important opportunity for people to connect with one another\, welcome guests and feel part of Fairlawn. \nEach week\, a two-person team will arrive at 10:00am to set up\, attend the service and finish cleaning up by 12:30pm. Easy-to-follow instructions are posted in the kitchen. If you’re interested in joining the hospitality team and can volunteer one Sunday a month\, reach out to Joanne at:  joanne@fairlawnavenueunited.ca
URL:https://www.fairlawnchurch.ca/events/coffee-hour-2/2026-03-01/
LOCATION:Fairlawn Avenue United Church\, 28 Fairlawn Avenue\, Toronto\, Toronto\, M5M 1S7\, Canada
ATTACH;FMTTYPE=image/png:https://www.fairlawnchurch.ca/wp-content/uploads/2025/10/Coffee-Hour.png
ORGANIZER;CN="Experience Belonging":MAILTO:eb@fairlawnavenueunited.ca
END:VEVENT
BEGIN:VEVENT
DTSTART;TZID=America/Toronto:20260222T113000
DTEND;TZID=America/Toronto:20260222T123000
DTSTAMP:20260423T145117
CREATED:20251118T204736Z
LAST-MODIFIED:20251118T204736Z
UID:61200-1771759800-1771763400@www.fairlawnchurch.ca
SUMMARY:Coffee Hour
DESCRIPTION:Coffee Hour after Sunday worship –  Experience Belonging Ministry \n\n\n\n\nEvery Sunday following worship service\, coffee\, tea and cookies are served in the sanctuary. Coffee hour provides an important opportunity for people to connect with one another\, welcome guests and feel part of Fairlawn. \nEach week\, a two-person team will arrive at 10:00am to set up\, attend the service and finish cleaning up by 12:30pm. Easy-to-follow instructions are posted in the kitchen. If you’re interested in joining the hospitality team and can volunteer one Sunday a month\, reach out to Joanne at:  joanne@fairlawnavenueunited.ca
URL:https://www.fairlawnchurch.ca/events/coffee-hour-2/2026-02-22/
LOCATION:Fairlawn Avenue United Church\, 28 Fairlawn Avenue\, Toronto\, Toronto\, M5M 1S7\, Canada
ATTACH;FMTTYPE=image/png:https://www.fairlawnchurch.ca/wp-content/uploads/2025/10/Coffee-Hour.png
ORGANIZER;CN="Experience Belonging":MAILTO:eb@fairlawnavenueunited.ca
END:VEVENT
BEGIN:VEVENT
DTSTART;TZID=America/Toronto:20260208T113000
DTEND;TZID=America/Toronto:20260208T123000
DTSTAMP:20260423T145117
CREATED:20251118T204736Z
LAST-MODIFIED:20260126T193745Z
UID:60317-1770550200-1770553800@www.fairlawnchurch.ca
SUMMARY:Coffee Hour
DESCRIPTION:Coffee Hour after Sunday worship –  Experience Belonging Ministry \n\n\n\n\nEvery Sunday following worship service\, coffee\, tea and cookies are served in the sanctuary. Coffee hour provides an important opportunity for people to connect with one another\, welcome guests and feel part of Fairlawn. \nEach week\, a two-person team will arrive at 10:00am to set up\, attend the service and finish cleaning up by 12:30pm. Easy-to-follow instructions are posted in the kitchen. If you’re interested in joining the hospitality team and can volunteer one Sunday a month\, reach out to Joanne at:  joanne@fairlawnavenueunited.ca
URL:https://www.fairlawnchurch.ca/events/coffee-hour-2/2026-02-08/
LOCATION:Fairlawn Avenue United Church\, 28 Fairlawn Avenue\, Toronto\, Toronto\, M5M 1S7\, Canada
ATTACH;FMTTYPE=image/png:https://www.fairlawnchurch.ca/wp-content/uploads/2025/10/Coffee-Hour.png
ORGANIZER;CN="Experience Belonging":MAILTO:eb@fairlawnavenueunited.ca
END:VEVENT
BEGIN:VEVENT
DTSTART;TZID=America/Toronto:20260201T113000
DTEND;TZID=America/Toronto:20260201T123000
DTSTAMP:20260423T145117
CREATED:20251118T204736Z
LAST-MODIFIED:20260126T193738Z
UID:60316-1769945400-1769949000@www.fairlawnchurch.ca
SUMMARY:Coffee Hour
DESCRIPTION:Coffee Hour after Sunday worship –  Experience Belonging Ministry \n\n\n\n\nEvery Sunday following worship service\, coffee\, tea and cookies are served in the sanctuary. Coffee hour provides an important opportunity for people to connect with one another\, welcome guests and feel part of Fairlawn. \nEach week\, a two-person team will arrive at 10:00am to set up\, attend the service and finish cleaning up by 12:30pm. Easy-to-follow instructions are posted in the kitchen. If you’re interested in joining the hospitality team and can volunteer one Sunday a month\, reach out to Joanne at:  joanne@fairlawnavenueunited.ca
URL:https://www.fairlawnchurch.ca/events/coffee-hour-2/2026-02-01/
LOCATION:Fairlawn Avenue United Church\, 28 Fairlawn Avenue\, Toronto\, Toronto\, M5M 1S7\, Canada
ATTACH;FMTTYPE=image/png:https://www.fairlawnchurch.ca/wp-content/uploads/2025/10/Coffee-Hour.png
ORGANIZER;CN="Experience Belonging":MAILTO:eb@fairlawnavenueunited.ca
END:VEVENT
BEGIN:VEVENT
DTSTART;TZID=America/Toronto:20260125T113000
DTEND;TZID=America/Toronto:20260125T123000
DTSTAMP:20260423T145117
CREATED:20251118T204736Z
LAST-MODIFIED:20260126T193737Z
UID:60315-1769340600-1769344200@www.fairlawnchurch.ca
SUMMARY:Coffee Hour
DESCRIPTION:Coffee Hour after Sunday worship –  Experience Belonging Ministry \n\n\n\n\nEvery Sunday following worship service\, coffee\, tea and cookies are served in the sanctuary. Coffee hour provides an important opportunity for people to connect with one another\, welcome guests and feel part of Fairlawn. \nEach week\, a two-person team will arrive at 10:00am to set up\, attend the service and finish cleaning up by 12:30pm. Easy-to-follow instructions are posted in the kitchen. If you’re interested in joining the hospitality team and can volunteer one Sunday a month\, reach out to Joanne at:  joanne@fairlawnavenueunited.ca
URL:https://www.fairlawnchurch.ca/events/coffee-hour-2/2026-01-25/
LOCATION:Fairlawn Avenue United Church\, 28 Fairlawn Avenue\, Toronto\, Toronto\, M5M 1S7\, Canada
ATTACH;FMTTYPE=image/png:https://www.fairlawnchurch.ca/wp-content/uploads/2025/10/Coffee-Hour.png
ORGANIZER;CN="Experience Belonging":MAILTO:eb@fairlawnavenueunited.ca
END:VEVENT
BEGIN:VEVENT
DTSTART;TZID=America/Toronto:20260118T113000
DTEND;TZID=America/Toronto:20260118T123000
DTSTAMP:20260423T145117
CREATED:20251118T204736Z
LAST-MODIFIED:20260126T193737Z
UID:60314-1768735800-1768739400@www.fairlawnchurch.ca
SUMMARY:Coffee Hour
DESCRIPTION:Coffee Hour after Sunday worship –  Experience Belonging Ministry \n\n\n\n\nEvery Sunday following worship service\, coffee\, tea and cookies are served in the sanctuary. Coffee hour provides an important opportunity for people to connect with one another\, welcome guests and feel part of Fairlawn. \nEach week\, a two-person team will arrive at 10:00am to set up\, attend the service and finish cleaning up by 12:30pm. Easy-to-follow instructions are posted in the kitchen. If you’re interested in joining the hospitality team and can volunteer one Sunday a month\, reach out to Joanne at:  joanne@fairlawnavenueunited.ca
URL:https://www.fairlawnchurch.ca/events/coffee-hour-2/2026-01-18/
LOCATION:Fairlawn Avenue United Church\, 28 Fairlawn Avenue\, Toronto\, Toronto\, M5M 1S7\, Canada
ATTACH;FMTTYPE=image/png:https://www.fairlawnchurch.ca/wp-content/uploads/2025/10/Coffee-Hour.png
ORGANIZER;CN="Experience Belonging":MAILTO:eb@fairlawnavenueunited.ca
END:VEVENT
BEGIN:VEVENT
DTSTART;TZID=America/Toronto:20260111T113000
DTEND;TZID=America/Toronto:20260111T123000
DTSTAMP:20260423T145117
CREATED:20251118T204736Z
LAST-MODIFIED:20260126T193736Z
UID:60313-1768131000-1768134600@www.fairlawnchurch.ca
SUMMARY:Coffee Hour
DESCRIPTION:Coffee Hour after Sunday worship –  Experience Belonging Ministry \n\n\n\n\nEvery Sunday following worship service\, coffee\, tea and cookies are served in the sanctuary. Coffee hour provides an important opportunity for people to connect with one another\, welcome guests and feel part of Fairlawn. \nEach week\, a two-person team will arrive at 10:00am to set up\, attend the service and finish cleaning up by 12:30pm. Easy-to-follow instructions are posted in the kitchen. If you’re interested in joining the hospitality team and can volunteer one Sunday a month\, reach out to Joanne at:  joanne@fairlawnavenueunited.ca
URL:https://www.fairlawnchurch.ca/events/coffee-hour-2/2026-01-11/
LOCATION:Fairlawn Avenue United Church\, 28 Fairlawn Avenue\, Toronto\, Toronto\, M5M 1S7\, Canada
ATTACH;FMTTYPE=image/png:https://www.fairlawnchurch.ca/wp-content/uploads/2025/10/Coffee-Hour.png
ORGANIZER;CN="Experience Belonging":MAILTO:eb@fairlawnavenueunited.ca
END:VEVENT
BEGIN:VEVENT
DTSTART;TZID=America/Toronto:20260104T113000
DTEND;TZID=America/Toronto:20260104T123000
DTSTAMP:20260423T145117
CREATED:20251118T204736Z
LAST-MODIFIED:20260126T193733Z
UID:60311-1767526200-1767529800@www.fairlawnchurch.ca
SUMMARY:Coffee Hour
DESCRIPTION:Coffee Hour after Sunday worship –  Experience Belonging Ministry \n\n\n\n\nEvery Sunday following worship service\, coffee\, tea and cookies are served in the sanctuary. Coffee hour provides an important opportunity for people to connect with one another\, welcome guests and feel part of Fairlawn. \nEach week\, a two-person team will arrive at 10:00am to set up\, attend the service and finish cleaning up by 12:30pm. Easy-to-follow instructions are posted in the kitchen. If you’re interested in joining the hospitality team and can volunteer one Sunday a month\, reach out to Joanne at:  joanne@fairlawnavenueunited.ca
URL:https://www.fairlawnchurch.ca/events/coffee-hour-2/2026-01-04/
LOCATION:Fairlawn Avenue United Church\, 28 Fairlawn Avenue\, Toronto\, Toronto\, M5M 1S7\, Canada
ATTACH;FMTTYPE=image/png:https://www.fairlawnchurch.ca/wp-content/uploads/2025/10/Coffee-Hour.png
ORGANIZER;CN="Experience Belonging":MAILTO:eb@fairlawnavenueunited.ca
END:VEVENT
END:VCALENDAR