BEGIN:VCALENDAR
VERSION:2.0
PRODID:-//Fairlawn Avenue United Church - ECPv6.15.20//NONSGML v1.0//EN
CALSCALE:GREGORIAN
METHOD:PUBLISH
X-ORIGINAL-URL:https://www.fairlawnchurch.ca
X-WR-CALDESC:Events for Fairlawn Avenue United Church
REFRESH-INTERVAL;VALUE=DURATION:PT1H
X-Robots-Tag:noindex
X-PUBLISHED-TTL:PT1H
BEGIN:VTIMEZONE
TZID:America/Toronto
BEGIN:DAYLIGHT
TZOFFSETFROM:-0500
TZOFFSETTO:-0400
TZNAME:EDT
DTSTART:20230312T070000
END:DAYLIGHT
BEGIN:STANDARD
TZOFFSETFROM:-0400
TZOFFSETTO:-0500
TZNAME:EST
DTSTART:20231105T060000
END:STANDARD
BEGIN:DAYLIGHT
TZOFFSETFROM:-0500
TZOFFSETTO:-0400
TZNAME:EDT
DTSTART:20240310T070000
END:DAYLIGHT
BEGIN:STANDARD
TZOFFSETFROM:-0400
TZOFFSETTO:-0500
TZNAME:EST
DTSTART:20241103T060000
END:STANDARD
BEGIN:DAYLIGHT
TZOFFSETFROM:-0500
TZOFFSETTO:-0400
TZNAME:EDT
DTSTART:20250309T070000
END:DAYLIGHT
BEGIN:STANDARD
TZOFFSETFROM:-0400
TZOFFSETTO:-0500
TZNAME:EST
DTSTART:20251102T060000
END:STANDARD
BEGIN:DAYLIGHT
TZOFFSETFROM:-0500
TZOFFSETTO:-0400
TZNAME:EDT
DTSTART:20260308T070000
END:DAYLIGHT
BEGIN:STANDARD
TZOFFSETFROM:-0400
TZOFFSETTO:-0500
TZNAME:EST
DTSTART:20261101T060000
END:STANDARD
END:VTIMEZONE
BEGIN:VEVENT
DTSTART;TZID=America/Toronto:20250527T160000
DTEND;TZID=America/Toronto:20250527T170000
DTSTAMP:20260423T185014
CREATED:20241020T155025Z
LAST-MODIFIED:20250422T174852Z
UID:56042-1748361600-1748365200@www.fairlawnchurch.ca
SUMMARY:ES Explore Spirituality Council Meeting
DESCRIPTION:There has been a change of schedule starting November 2024 – the (ES) Explore Spirituality Council will meet online on the fourth Tuesday of each month (November – June) from 4:00pm – 5:00pm.  If you have any questions or would like to be involved in this ministry\, please reach out to Rev. Dr. Cameron Watts via email to:  cameron@fairlawnavenueunited.ca or es@fairlawnavenueunited.ca. \nPlease note – there will be no meeting in December 2024.
URL:https://www.fairlawnchurch.ca/events/es-council-meeting-2/2025-05-27/
LOCATION:Online
CATEGORIES:Explore Spirituality
ATTACH;FMTTYPE=image/jpeg:https://www.fairlawnchurch.ca/wp-content/uploads/2021/10/Fairlawn-Purpose-Logo-Main-ES.jpg
ORGANIZER;CN="Explore Spirituality":MAILTO:es@fairlawnavenueunited.ca
END:VEVENT
BEGIN:VEVENT
DTSTART;TZID=America/Toronto:20250429T160000
DTEND;TZID=America/Toronto:20250429T170000
DTSTAMP:20260423T185014
CREATED:20241020T155025Z
LAST-MODIFIED:20250422T174851Z
UID:58484-1745942400-1745946000@www.fairlawnchurch.ca
SUMMARY:ES Explore Spirituality Council Meeting
DESCRIPTION:There has been a change of schedule starting November 2024 – the (ES) Explore Spirituality Council will meet online on the fourth Tuesday of each month (November – June) from 4:00pm – 5:00pm.  If you have any questions or would like to be involved in this ministry\, please reach out to Rev. Dr. Cameron Watts via email to:  cameron@fairlawnavenueunited.ca or es@fairlawnavenueunited.ca. \nPlease note – there will be no meeting in December 2024.
URL:https://www.fairlawnchurch.ca/events/es-council-meeting-2/2025-04-29/
LOCATION:Online
CATEGORIES:Explore Spirituality
ATTACH;FMTTYPE=image/jpeg:https://www.fairlawnchurch.ca/wp-content/uploads/2021/10/Fairlawn-Purpose-Logo-Main-ES.jpg
ORGANIZER;CN="Explore Spirituality":MAILTO:es@fairlawnavenueunited.ca
END:VEVENT
BEGIN:VEVENT
DTSTART;TZID=America/Toronto:20241126T160000
DTEND;TZID=America/Toronto:20241126T170000
DTSTAMP:20260423T185014
CREATED:20241020T155025Z
LAST-MODIFIED:20250422T174851Z
UID:56035-1732636800-1732640400@www.fairlawnchurch.ca
SUMMARY:ES Explore Spirituality Council Meeting
DESCRIPTION:There has been a change of schedule starting November 2024 – the (ES) Explore Spirituality Council will meet online on the fourth Tuesday of each month (November – June) from 4:00pm – 5:00pm.  If you have any questions or would like to be involved in this ministry\, please reach out to Rev. Dr. Cameron Watts via email to:  cameron@fairlawnavenueunited.ca or es@fairlawnavenueunited.ca. \nPlease note – there will be no meeting in December 2024.
URL:https://www.fairlawnchurch.ca/events/es-council-meeting-2/2024-11-26/
LOCATION:Online
CATEGORIES:Explore Spirituality
ATTACH;FMTTYPE=image/jpeg:https://www.fairlawnchurch.ca/wp-content/uploads/2021/10/Fairlawn-Purpose-Logo-Main-ES.jpg
ORGANIZER;CN="Explore Spirituality":MAILTO:es@fairlawnavenueunited.ca
END:VEVENT
END:VCALENDAR