BEGIN:VCALENDAR
VERSION:2.0
PRODID:-//Fairlawn Avenue United Church - ECPv6.15.20//NONSGML v1.0//EN
CALSCALE:GREGORIAN
METHOD:PUBLISH
X-ORIGINAL-URL:https://www.fairlawnchurch.ca
X-WR-CALDESC:Events for Fairlawn Avenue United Church
REFRESH-INTERVAL;VALUE=DURATION:PT1H
X-Robots-Tag:noindex
X-PUBLISHED-TTL:PT1H
BEGIN:VTIMEZONE
TZID:America/Toronto
BEGIN:DAYLIGHT
TZOFFSETFROM:-0500
TZOFFSETTO:-0400
TZNAME:EDT
DTSTART:20250309T070000
END:DAYLIGHT
BEGIN:STANDARD
TZOFFSETFROM:-0400
TZOFFSETTO:-0500
TZNAME:EST
DTSTART:20251102T060000
END:STANDARD
BEGIN:DAYLIGHT
TZOFFSETFROM:-0500
TZOFFSETTO:-0400
TZNAME:EDT
DTSTART:20260308T070000
END:DAYLIGHT
BEGIN:STANDARD
TZOFFSETFROM:-0400
TZOFFSETTO:-0500
TZNAME:EST
DTSTART:20261101T060000
END:STANDARD
BEGIN:DAYLIGHT
TZOFFSETFROM:-0500
TZOFFSETTO:-0400
TZNAME:EDT
DTSTART:20270314T070000
END:DAYLIGHT
BEGIN:STANDARD
TZOFFSETFROM:-0400
TZOFFSETTO:-0500
TZNAME:EST
DTSTART:20271107T060000
END:STANDARD
BEGIN:DAYLIGHT
TZOFFSETFROM:-0500
TZOFFSETTO:-0400
TZNAME:EDT
DTSTART:20280312T070000
END:DAYLIGHT
BEGIN:STANDARD
TZOFFSETFROM:-0400
TZOFFSETTO:-0500
TZNAME:EST
DTSTART:20281105T060000
END:STANDARD
END:VTIMEZONE
BEGIN:VEVENT
DTSTART;TZID=America/Toronto:20260611T093000
DTEND;TZID=America/Toronto:20260611T113000
DTSTAMP:20260424T022110
CREATED:20260105T034645Z
LAST-MODIFIED:20260105T034728Z
UID:60747-1781170200-1781177400@www.fairlawnchurch.ca
SUMMARY:Fairlawn Quilters
DESCRIPTION:Interested in Quilting and the social aspect of a weekly gathering among friends? The Fairlawn Quilters meet on-site weekly (Sept – June) in the Bessie Barber Room on Thursday mornings from 9:30am – 11:30am. If interested\, please reach out to quilters@fairlawnavenueunited.ca. \n 
URL:https://www.fairlawnchurch.ca/events/fairlawn-quilters-4/2026-06-11/
LOCATION:Fairlawn Avenue United Church\, 28 Fairlawn Avenue\, Toronto\, Toronto\, M5M 1S7\, Canada
CATEGORIES:Experience Belonging,Quilting
ATTACH;FMTTYPE=image/jpeg:https://www.fairlawnchurch.ca/wp-content/uploads/2026/01/Fairlawn-Quilters.jpg
ORGANIZER;CN="Experience Belonging":MAILTO:eb@fairlawnavenueunited.ca
END:VEVENT
BEGIN:VEVENT
DTSTART;TZID=America/Toronto:20260611T193000
DTEND;TZID=America/Toronto:20260611T210000
DTSTAMP:20260424T022110
CREATED:20250922T022932Z
LAST-MODIFIED:20260208T040135Z
UID:59505-1781206200-1781211600@www.fairlawnchurch.ca
SUMMARY:Fairlawn Senior Choir Practice
DESCRIPTION:JANUARY 15\, 2026 ->  Due to the winter storm and to ensure the safety of all\, Choir has been cancelled this evening. \nThe Senior Choir of Fairlawn Avenue United Church is an auditioned group of approximately 35 members\, including an 8-member professional core. \nThe Seniors sing every Sunday from September through June at the 10:30 am worship service\, and are responsible for an introit\, two anthems and all other service music. In order to cover that amount and level of music\, often with a minimum of rehearsal time\, choristers must have singing experience and excellent music/sight-reading skills. \nPractice is weekly on Thursday evenings.
URL:https://www.fairlawnchurch.ca/events/fairlawn-senior-choir-practice/2026-06-11/
LOCATION:Fairlawn Avenue United Church\, 28 Fairlawn Avenue\, Toronto\, Toronto\, M5M 1S7\, Canada
CATEGORIES:Choir,Explore Spirituality,Music
ATTACH;FMTTYPE=image/jpeg:https://www.fairlawnchurch.ca/wp-content/uploads/2012/01/0H3D1wPgrjoWWo6SMtR8RyFrsStI6-tIsEE0NnV_pdE.jpg
ORGANIZER;CN="Music":MAILTO:eleanor@fairlawnavenueunited.ca
END:VEVENT
BEGIN:VEVENT
DTSTART;TZID=America/Toronto:20260616T130000
DTEND;TZID=America/Toronto:20260616T143000
DTSTAMP:20260424T022110
CREATED:20250916T130727Z
LAST-MODIFIED:20250916T130815Z
UID:59321-1781614800-1781620200@www.fairlawnchurch.ca
SUMMARY:Women's Spirituality Group II
DESCRIPTION:We have 2 women’s spirituality groups where women meet monthly to contemplate life’s questions and support each other. \nWomen’s Spirituality Group II meet in-person the third Tuesday of each month (September – June) from 1:00pm – 2:30pm in the Chapel. \nPlease note\, on accasion\, the group meet off-site.  To join\, please contact Sue Ennis for more information at es@fairlawnavenueunited.ca.
URL:https://www.fairlawnchurch.ca/events/womens-spirituality-group-ii-2/2026-06-16/
LOCATION:Fairlawn Avenue United Church\, 28 Fairlawn Avenue\, Toronto\, Toronto\, M5M 1S7\, Canada
CATEGORIES:Explore Spirituality,Women's Group
ATTACH;FMTTYPE=image/png:https://www.fairlawnchurch.ca/wp-content/uploads/2023/08/WSGII.png
ORGANIZER;CN="Explore Spirituality":MAILTO:es@fairlawnavenueunited.ca
END:VEVENT
BEGIN:VEVENT
DTSTART;TZID=America/Toronto:20260616T153000
DTEND;TZID=America/Toronto:20260616T203000
DTSTAMP:20260424T022110
CREATED:20250922T031846Z
LAST-MODIFIED:20250922T031846Z
UID:61356-1781623800-1781641800@www.fairlawnchurch.ca
SUMMARY:COMET
DESCRIPTION:COMET: A Drop-in Program for 2SLGBTQIA+ Youth \nCOMET (Come Out & Meet Each Tuesday) is a free after-school drop-in program for 2SLGBTQIA+ youth ages 13-18 in North Toronto and the Greater Toronto Area. Questioning youth and allied friends are also welcome. \nCOMET program activities include arts and crafts\, games\, cooking\, creative workshops\, and more. Dinner and snacks are provided at no cost. \nWhen? Tuesdays from 3:30pm to 8:30pm. \nWhere? 28 Fairlawn Ave.\, Toronto\, ON \nWest off Yonge St.\, a 7-minute walk north from Lawrence TTC Station. Participants are invited to use the west accessible main lobby entrance to access the Assembly Hall downstairs. \nWhy? Because every queer and questioning youth needs a fun and safe place to be themself. \nWhat is COMET All About? The program provides youth who identify as part of the 2SLGBTQIA+ community a safe and welcoming place to gather\, eat a nutritious meal\, participate in programming through partner organizations\, or just come by to hang out
URL:https://www.fairlawnchurch.ca/events/comet/2026-06-16/
LOCATION:Fairlawn Avenue United Church\, 28 Fairlawn Avenue\, Toronto\, Toronto\, M5M 1S7\, Canada
CATEGORIES:Affirm,Affirm Ministry
ATTACH;FMTTYPE=image/png:https://www.fairlawnchurch.ca/wp-content/uploads/2025/09/COMET-Logo-Final_400x400.png
ORGANIZER;CN="Affirm Ministry":MAILTO:affirm@fairlawnavenueunited.ca
END:VEVENT
BEGIN:VEVENT
DTSTART;TZID=America/Toronto:20260616T160000
DTEND;TZID=America/Toronto:20260616T170000
DTSTAMP:20260424T022110
CREATED:20260315T205018Z
LAST-MODIFIED:20260414T160042Z
UID:61593-1781625600-1781629200@www.fairlawnchurch.ca
SUMMARY:ES Council Meeting
DESCRIPTION:The Explore Spirituality Council meet on the 3rd Tuesday of each month. \nIf you have questions about the ES Council\, worhip support or programming\, please reach out to es@fairlawnavenueunited.ca. \n  \n 
URL:https://www.fairlawnchurch.ca/events/es-council-meeting-4/2026-06-16/
LOCATION:Online
CATEGORIES:Explore Spirituality
ATTACH;FMTTYPE=image/jpeg:https://www.fairlawnchurch.ca/wp-content/uploads/2021/10/Fairlawn-Purpose-Logo-Main-ES.jpg
ORGANIZER;CN="Explore Spirituality":MAILTO:es@fairlawnavenueunited.ca
END:VEVENT
BEGIN:VEVENT
DTSTART;TZID=America/Toronto:20260617T193000
DTEND;TZID=America/Toronto:20260617T210000
DTSTAMP:20260424T022110
CREATED:20240728T052743Z
LAST-MODIFIED:20251230T235254Z
UID:60662-1781724600-1781730000@www.fairlawnchurch.ca
SUMMARY:Christian Meditation
DESCRIPTION:Wednesdays at 7:30pm to 9:00pm\, we gather online for Christian Meditation. \nThis group is open to anyone who is interested in Meditation at any level\, or are curious. All are welcome. \nPlease email moderator\, Patrick Sullivan\, at christianmeditation@fairlawnavenueunited.ca to receive the Zoom login details.
URL:https://www.fairlawnchurch.ca/events/christian-meditation-2/2026-06-17/
LOCATION:Online
CATEGORIES:Explore Spirituality,Meditation
ATTACH;FMTTYPE=image/jpeg:https://www.fairlawnchurch.ca/wp-content/uploads/2019/08/christian-meditation.jpg
ORGANIZER;CN="Explore Spirituality":MAILTO:es@fairlawnavenueunited.ca
END:VEVENT
BEGIN:VEVENT
DTSTART;TZID=America/Toronto:20260618T093000
DTEND;TZID=America/Toronto:20260618T113000
DTSTAMP:20260424T022110
CREATED:20260105T034645Z
LAST-MODIFIED:20260105T034728Z
UID:60748-1781775000-1781782200@www.fairlawnchurch.ca
SUMMARY:Fairlawn Quilters
DESCRIPTION:Interested in Quilting and the social aspect of a weekly gathering among friends? The Fairlawn Quilters meet on-site weekly (Sept – June) in the Bessie Barber Room on Thursday mornings from 9:30am – 11:30am. If interested\, please reach out to quilters@fairlawnavenueunited.ca. \n 
URL:https://www.fairlawnchurch.ca/events/fairlawn-quilters-4/2026-06-18/
LOCATION:Fairlawn Avenue United Church\, 28 Fairlawn Avenue\, Toronto\, Toronto\, M5M 1S7\, Canada
CATEGORIES:Experience Belonging,Quilting
ATTACH;FMTTYPE=image/jpeg:https://www.fairlawnchurch.ca/wp-content/uploads/2026/01/Fairlawn-Quilters.jpg
ORGANIZER;CN="Experience Belonging":MAILTO:eb@fairlawnavenueunited.ca
END:VEVENT
BEGIN:VEVENT
DTSTART;TZID=America/Toronto:20260618T193000
DTEND;TZID=America/Toronto:20260618T210000
DTSTAMP:20260424T022110
CREATED:20250922T022932Z
LAST-MODIFIED:20260208T040136Z
UID:59506-1781811000-1781816400@www.fairlawnchurch.ca
SUMMARY:Fairlawn Senior Choir Practice
DESCRIPTION:JANUARY 15\, 2026 ->  Due to the winter storm and to ensure the safety of all\, Choir has been cancelled this evening. \nThe Senior Choir of Fairlawn Avenue United Church is an auditioned group of approximately 35 members\, including an 8-member professional core. \nThe Seniors sing every Sunday from September through June at the 10:30 am worship service\, and are responsible for an introit\, two anthems and all other service music. In order to cover that amount and level of music\, often with a minimum of rehearsal time\, choristers must have singing experience and excellent music/sight-reading skills. \nPractice is weekly on Thursday evenings.
URL:https://www.fairlawnchurch.ca/events/fairlawn-senior-choir-practice/2026-06-18/
LOCATION:Fairlawn Avenue United Church\, 28 Fairlawn Avenue\, Toronto\, Toronto\, M5M 1S7\, Canada
CATEGORIES:Choir,Explore Spirituality,Music
ATTACH;FMTTYPE=image/jpeg:https://www.fairlawnchurch.ca/wp-content/uploads/2012/01/0H3D1wPgrjoWWo6SMtR8RyFrsStI6-tIsEE0NnV_pdE.jpg
ORGANIZER;CN="Music":MAILTO:eleanor@fairlawnavenueunited.ca
END:VEVENT
BEGIN:VEVENT
DTSTART;TZID=America/Toronto:20260622T103000
DTEND;TZID=America/Toronto:20260622T113000
DTSTAMP:20260424T022110
CREATED:20240715T041552Z
LAST-MODIFIED:20250917T172825Z
UID:59344-1782124200-1782127800@www.fairlawnchurch.ca
SUMMARY:Breast Friends - Cancer Suport Group
DESCRIPTION:Breast Friends – Cancer Support Group\n\n\n\n\nWomen who have breast cancer\, or have survived it\, meet the fourth Monday of the month (September – June) on Zoom from 10:30am to 11:30am for information sharing\, encouragement\, fitness ideas and some fun social events. The group provides a supportive environment with women who understand this journey. It is open to anyone from the church or community who would like to join. \nIf interested\, please contact:  bcsupport@fairlawnavenueunited.ca
URL:https://www.fairlawnchurch.ca/events/breast-friends-cancer-suport-group-2024-05-27/2026-06-22/
LOCATION:Online
CATEGORIES:Cancer Support,Experience Belonging
ATTACH;FMTTYPE=image/jpeg:https://www.fairlawnchurch.ca/wp-content/uploads/2014/11/breast-cancer-support.jpg
ORGANIZER;CN="Experience Belonging":MAILTO:eb@fairlawnavenueunited.ca
END:VEVENT
BEGIN:VEVENT
DTSTART;TZID=America/Toronto:20260623T153000
DTEND;TZID=America/Toronto:20260623T203000
DTSTAMP:20260424T022110
CREATED:20250922T031846Z
LAST-MODIFIED:20250922T031846Z
UID:61357-1782228600-1782246600@www.fairlawnchurch.ca
SUMMARY:COMET
DESCRIPTION:COMET: A Drop-in Program for 2SLGBTQIA+ Youth \nCOMET (Come Out & Meet Each Tuesday) is a free after-school drop-in program for 2SLGBTQIA+ youth ages 13-18 in North Toronto and the Greater Toronto Area. Questioning youth and allied friends are also welcome. \nCOMET program activities include arts and crafts\, games\, cooking\, creative workshops\, and more. Dinner and snacks are provided at no cost. \nWhen? Tuesdays from 3:30pm to 8:30pm. \nWhere? 28 Fairlawn Ave.\, Toronto\, ON \nWest off Yonge St.\, a 7-minute walk north from Lawrence TTC Station. Participants are invited to use the west accessible main lobby entrance to access the Assembly Hall downstairs. \nWhy? Because every queer and questioning youth needs a fun and safe place to be themself. \nWhat is COMET All About? The program provides youth who identify as part of the 2SLGBTQIA+ community a safe and welcoming place to gather\, eat a nutritious meal\, participate in programming through partner organizations\, or just come by to hang out
URL:https://www.fairlawnchurch.ca/events/comet/2026-06-23/
LOCATION:Fairlawn Avenue United Church\, 28 Fairlawn Avenue\, Toronto\, Toronto\, M5M 1S7\, Canada
CATEGORIES:Affirm,Affirm Ministry
ATTACH;FMTTYPE=image/png:https://www.fairlawnchurch.ca/wp-content/uploads/2025/09/COMET-Logo-Final_400x400.png
ORGANIZER;CN="Affirm Ministry":MAILTO:affirm@fairlawnavenueunited.ca
END:VEVENT
BEGIN:VEVENT
DTSTART;TZID=America/Toronto:20260624T193000
DTEND;TZID=America/Toronto:20260624T210000
DTSTAMP:20260424T022110
CREATED:20240728T052743Z
LAST-MODIFIED:20251230T235254Z
UID:60663-1782329400-1782334800@www.fairlawnchurch.ca
SUMMARY:Christian Meditation
DESCRIPTION:Wednesdays at 7:30pm to 9:00pm\, we gather online for Christian Meditation. \nThis group is open to anyone who is interested in Meditation at any level\, or are curious. All are welcome. \nPlease email moderator\, Patrick Sullivan\, at christianmeditation@fairlawnavenueunited.ca to receive the Zoom login details.
URL:https://www.fairlawnchurch.ca/events/christian-meditation-2/2026-06-24/
LOCATION:Online
CATEGORIES:Explore Spirituality,Meditation
ATTACH;FMTTYPE=image/jpeg:https://www.fairlawnchurch.ca/wp-content/uploads/2019/08/christian-meditation.jpg
ORGANIZER;CN="Explore Spirituality":MAILTO:es@fairlawnavenueunited.ca
END:VEVENT
BEGIN:VEVENT
DTSTART;TZID=America/Toronto:20260625T093000
DTEND;TZID=America/Toronto:20260625T113000
DTSTAMP:20260424T022110
CREATED:20260105T034645Z
LAST-MODIFIED:20260105T034728Z
UID:60749-1782379800-1782387000@www.fairlawnchurch.ca
SUMMARY:Fairlawn Quilters
DESCRIPTION:Interested in Quilting and the social aspect of a weekly gathering among friends? The Fairlawn Quilters meet on-site weekly (Sept – June) in the Bessie Barber Room on Thursday mornings from 9:30am – 11:30am. If interested\, please reach out to quilters@fairlawnavenueunited.ca. \n 
URL:https://www.fairlawnchurch.ca/events/fairlawn-quilters-4/2026-06-25/
LOCATION:Fairlawn Avenue United Church\, 28 Fairlawn Avenue\, Toronto\, Toronto\, M5M 1S7\, Canada
CATEGORIES:Experience Belonging,Quilting
ATTACH;FMTTYPE=image/jpeg:https://www.fairlawnchurch.ca/wp-content/uploads/2026/01/Fairlawn-Quilters.jpg
ORGANIZER;CN="Experience Belonging":MAILTO:eb@fairlawnavenueunited.ca
END:VEVENT
BEGIN:VEVENT
DTSTART;TZID=America/Toronto:20260630T153000
DTEND;TZID=America/Toronto:20260630T203000
DTSTAMP:20260424T022110
CREATED:20250922T031846Z
LAST-MODIFIED:20250922T031846Z
UID:61358-1782833400-1782851400@www.fairlawnchurch.ca
SUMMARY:COMET
DESCRIPTION:COMET: A Drop-in Program for 2SLGBTQIA+ Youth \nCOMET (Come Out & Meet Each Tuesday) is a free after-school drop-in program for 2SLGBTQIA+ youth ages 13-18 in North Toronto and the Greater Toronto Area. Questioning youth and allied friends are also welcome. \nCOMET program activities include arts and crafts\, games\, cooking\, creative workshops\, and more. Dinner and snacks are provided at no cost. \nWhen? Tuesdays from 3:30pm to 8:30pm. \nWhere? 28 Fairlawn Ave.\, Toronto\, ON \nWest off Yonge St.\, a 7-minute walk north from Lawrence TTC Station. Participants are invited to use the west accessible main lobby entrance to access the Assembly Hall downstairs. \nWhy? Because every queer and questioning youth needs a fun and safe place to be themself. \nWhat is COMET All About? The program provides youth who identify as part of the 2SLGBTQIA+ community a safe and welcoming place to gather\, eat a nutritious meal\, participate in programming through partner organizations\, or just come by to hang out
URL:https://www.fairlawnchurch.ca/events/comet/2026-06-30/
LOCATION:Fairlawn Avenue United Church\, 28 Fairlawn Avenue\, Toronto\, Toronto\, M5M 1S7\, Canada
CATEGORIES:Affirm,Affirm Ministry
ATTACH;FMTTYPE=image/png:https://www.fairlawnchurch.ca/wp-content/uploads/2025/09/COMET-Logo-Final_400x400.png
ORGANIZER;CN="Affirm Ministry":MAILTO:affirm@fairlawnavenueunited.ca
END:VEVENT
BEGIN:VEVENT
DTSTART;TZID=America/Toronto:20260720T193000
DTEND;TZID=America/Toronto:20260720T210000
DTSTAMP:20260424T022110
CREATED:20240420T013409Z
LAST-MODIFIED:20240420T013409Z
UID:61634-1784575800-1784581200@www.fairlawnchurch.ca
SUMMARY:Broadview Discussion Group
DESCRIPTION:2026 Schedule and Zoom Login \nAll readers of the print and online editions are welcome. \nJoin us online for review and discussion of articles and features from the current issue of Broadview Magazine.
URL:https://www.fairlawnchurch.ca/events/broadview-discussion-group-5/2026-07-20/
LOCATION:Online
CATEGORIES:Experience Belonging
ATTACH;FMTTYPE=image/png:https://www.fairlawnchurch.ca/wp-content/uploads/2023/01/Broadview.png
ORGANIZER;CN="Experience Belonging":MAILTO:eb@fairlawnavenueunited.ca
END:VEVENT
BEGIN:VEVENT
DTSTART;TZID=America/Toronto:20260921T193000
DTEND;TZID=America/Toronto:20260921T210000
DTSTAMP:20260424T022110
CREATED:20240420T013409Z
LAST-MODIFIED:20240420T013409Z
UID:61635-1790019000-1790024400@www.fairlawnchurch.ca
SUMMARY:Broadview Discussion Group
DESCRIPTION:2026 Schedule and Zoom Login \nAll readers of the print and online editions are welcome. \nJoin us online for review and discussion of articles and features from the current issue of Broadview Magazine.
URL:https://www.fairlawnchurch.ca/events/broadview-discussion-group-5/2026-09-21/
LOCATION:Online
CATEGORIES:Experience Belonging
ATTACH;FMTTYPE=image/png:https://www.fairlawnchurch.ca/wp-content/uploads/2023/01/Broadview.png
ORGANIZER;CN="Experience Belonging":MAILTO:eb@fairlawnavenueunited.ca
END:VEVENT
BEGIN:VEVENT
DTSTART;TZID=America/Toronto:20260923T190000
DTEND;TZID=America/Toronto:20260923T210000
DTSTAMP:20260424T022110
CREATED:20240715T041538Z
LAST-MODIFIED:20240715T041538Z
UID:61003-1790190000-1790197200@www.fairlawnchurch.ca
SUMMARY:Trustees Meeting
DESCRIPTION:The Trustees of Fairlawn Avenue United Church meet online quarterly. \nIf you have any questions please reach out to Tom Salisbury\, Chair and Liaison to Governing Council at trustees@fairlawnavenueunited.ca. \n 
URL:https://www.fairlawnchurch.ca/events/trustees-2024/2026-09-23/
LOCATION:Online
CATEGORIES:Trustees
ATTACH;FMTTYPE=image/jpeg:https://www.fairlawnchurch.ca/wp-content/uploads/2022/01/Fairlawn-Purpose-Logo-Main-Grey-e1661914323925.jpg
ORGANIZER;CN="Trustees":MAILTO:trustees@fairlawnavenueunited.ca
END:VEVENT
BEGIN:VEVENT
DTSTART;TZID=America/Toronto:20261123T193000
DTEND;TZID=America/Toronto:20261123T210000
DTSTAMP:20260424T022110
CREATED:20240420T013409Z
LAST-MODIFIED:20240420T013409Z
UID:61636-1795462200-1795467600@www.fairlawnchurch.ca
SUMMARY:Broadview Discussion Group
DESCRIPTION:2026 Schedule and Zoom Login \nAll readers of the print and online editions are welcome. \nJoin us online for review and discussion of articles and features from the current issue of Broadview Magazine.
URL:https://www.fairlawnchurch.ca/events/broadview-discussion-group-5/2026-11-23/
LOCATION:Online
CATEGORIES:Experience Belonging
ATTACH;FMTTYPE=image/png:https://www.fairlawnchurch.ca/wp-content/uploads/2023/01/Broadview.png
ORGANIZER;CN="Experience Belonging":MAILTO:eb@fairlawnavenueunited.ca
END:VEVENT
BEGIN:VEVENT
DTSTART;TZID=America/Toronto:20261202T190000
DTEND;TZID=America/Toronto:20261202T210000
DTSTAMP:20260424T022110
CREATED:20240715T041538Z
LAST-MODIFIED:20240715T041538Z
UID:61004-1796238000-1796245200@www.fairlawnchurch.ca
SUMMARY:Trustees Meeting
DESCRIPTION:The Trustees of Fairlawn Avenue United Church meet online quarterly. \nIf you have any questions please reach out to Tom Salisbury\, Chair and Liaison to Governing Council at trustees@fairlawnavenueunited.ca. \n 
URL:https://www.fairlawnchurch.ca/events/trustees-2024/2026-12-02/
LOCATION:Online
CATEGORIES:Trustees
ATTACH;FMTTYPE=image/jpeg:https://www.fairlawnchurch.ca/wp-content/uploads/2022/01/Fairlawn-Purpose-Logo-Main-Grey-e1661914323925.jpg
ORGANIZER;CN="Trustees":MAILTO:trustees@fairlawnavenueunited.ca
END:VEVENT
BEGIN:VEVENT
DTSTART;TZID=America/Toronto:20270113T190000
DTEND;TZID=America/Toronto:20270113T210000
DTSTAMP:20260424T022110
CREATED:20240715T041538Z
LAST-MODIFIED:20240715T041538Z
UID:61005-1799866800-1799874000@www.fairlawnchurch.ca
SUMMARY:Trustees Meeting
DESCRIPTION:The Trustees of Fairlawn Avenue United Church meet online quarterly. \nIf you have any questions please reach out to Tom Salisbury\, Chair and Liaison to Governing Council at trustees@fairlawnavenueunited.ca. \n 
URL:https://www.fairlawnchurch.ca/events/trustees-2024/2027-01-13/
LOCATION:Online
CATEGORIES:Trustees
ATTACH;FMTTYPE=image/jpeg:https://www.fairlawnchurch.ca/wp-content/uploads/2022/01/Fairlawn-Purpose-Logo-Main-Grey-e1661914323925.jpg
ORGANIZER;CN="Trustees":MAILTO:trustees@fairlawnavenueunited.ca
END:VEVENT
END:VCALENDAR