BEGIN:VCALENDAR
VERSION:2.0
PRODID:-//Fairlawn Avenue United Church - ECPv6.15.20//NONSGML v1.0//EN
CALSCALE:GREGORIAN
METHOD:PUBLISH
X-WR-CALNAME:Fairlawn Avenue United Church
X-ORIGINAL-URL:https://www.fairlawnchurch.ca
X-WR-CALDESC:Events for Fairlawn Avenue United Church
REFRESH-INTERVAL;VALUE=DURATION:PT1H
X-Robots-Tag:noindex
X-PUBLISHED-TTL:PT1H
BEGIN:VTIMEZONE
TZID:America/Toronto
BEGIN:DAYLIGHT
TZOFFSETFROM:-0500
TZOFFSETTO:-0400
TZNAME:EDT
DTSTART:20250309T070000
END:DAYLIGHT
BEGIN:STANDARD
TZOFFSETFROM:-0400
TZOFFSETTO:-0500
TZNAME:EST
DTSTART:20251102T060000
END:STANDARD
BEGIN:DAYLIGHT
TZOFFSETFROM:-0500
TZOFFSETTO:-0400
TZNAME:EDT
DTSTART:20260308T070000
END:DAYLIGHT
BEGIN:STANDARD
TZOFFSETFROM:-0400
TZOFFSETTO:-0500
TZNAME:EST
DTSTART:20261101T060000
END:STANDARD
BEGIN:DAYLIGHT
TZOFFSETFROM:-0500
TZOFFSETTO:-0400
TZNAME:EDT
DTSTART:20270314T070000
END:DAYLIGHT
BEGIN:STANDARD
TZOFFSETFROM:-0400
TZOFFSETTO:-0500
TZNAME:EST
DTSTART:20271107T060000
END:STANDARD
END:VTIMEZONE
BEGIN:VEVENT
DTSTART;TZID=America/Toronto:20260428T153000
DTEND;TZID=America/Toronto:20260428T203000
DTSTAMP:20260423T141444
CREATED:20250922T031846Z
LAST-MODIFIED:20250922T031846Z
UID:61349-1777390200-1777408200@www.fairlawnchurch.ca
SUMMARY:COMET
DESCRIPTION:COMET: A Drop-in Program for 2SLGBTQIA+ Youth \nCOMET (Come Out & Meet Each Tuesday) is a free after-school drop-in program for 2SLGBTQIA+ youth ages 13-18 in North Toronto and the Greater Toronto Area. Questioning youth and allied friends are also welcome. \nCOMET program activities include arts and crafts\, games\, cooking\, creative workshops\, and more. Dinner and snacks are provided at no cost. \nWhen? Tuesdays from 3:30pm to 8:30pm. \nWhere? 28 Fairlawn Ave.\, Toronto\, ON \nWest off Yonge St.\, a 7-minute walk north from Lawrence TTC Station. Participants are invited to use the west accessible main lobby entrance to access the Assembly Hall downstairs. \nWhy? Because every queer and questioning youth needs a fun and safe place to be themself. \nWhat is COMET All About? The program provides youth who identify as part of the 2SLGBTQIA+ community a safe and welcoming place to gather\, eat a nutritious meal\, participate in programming through partner organizations\, or just come by to hang out
URL:https://www.fairlawnchurch.ca/events/comet/2026-04-28/
LOCATION:Fairlawn Avenue United Church\, 28 Fairlawn Avenue\, Toronto\, Toronto\, M5M 1S7\, Canada
CATEGORIES:Affirm,Affirm Ministry
ATTACH;FMTTYPE=image/png:https://www.fairlawnchurch.ca/wp-content/uploads/2025/09/COMET-Logo-Final_400x400.png
ORGANIZER;CN="Affirm Ministry":MAILTO:affirm@fairlawnavenueunited.ca
END:VEVENT
BEGIN:VEVENT
DTSTART;TZID=America/Toronto:20260505T153000
DTEND;TZID=America/Toronto:20260505T203000
DTSTAMP:20260423T141444
CREATED:20250922T031846Z
LAST-MODIFIED:20250922T031846Z
UID:61350-1777995000-1778013000@www.fairlawnchurch.ca
SUMMARY:COMET
DESCRIPTION:COMET: A Drop-in Program for 2SLGBTQIA+ Youth \nCOMET (Come Out & Meet Each Tuesday) is a free after-school drop-in program for 2SLGBTQIA+ youth ages 13-18 in North Toronto and the Greater Toronto Area. Questioning youth and allied friends are also welcome. \nCOMET program activities include arts and crafts\, games\, cooking\, creative workshops\, and more. Dinner and snacks are provided at no cost. \nWhen? Tuesdays from 3:30pm to 8:30pm. \nWhere? 28 Fairlawn Ave.\, Toronto\, ON \nWest off Yonge St.\, a 7-minute walk north from Lawrence TTC Station. Participants are invited to use the west accessible main lobby entrance to access the Assembly Hall downstairs. \nWhy? Because every queer and questioning youth needs a fun and safe place to be themself. \nWhat is COMET All About? The program provides youth who identify as part of the 2SLGBTQIA+ community a safe and welcoming place to gather\, eat a nutritious meal\, participate in programming through partner organizations\, or just come by to hang out
URL:https://www.fairlawnchurch.ca/events/comet/2026-05-05/
LOCATION:Fairlawn Avenue United Church\, 28 Fairlawn Avenue\, Toronto\, Toronto\, M5M 1S7\, Canada
CATEGORIES:Affirm,Affirm Ministry
ATTACH;FMTTYPE=image/png:https://www.fairlawnchurch.ca/wp-content/uploads/2025/09/COMET-Logo-Final_400x400.png
ORGANIZER;CN="Affirm Ministry":MAILTO:affirm@fairlawnavenueunited.ca
END:VEVENT
BEGIN:VEVENT
DTSTART;TZID=America/Toronto:20260512T153000
DTEND;TZID=America/Toronto:20260512T203000
DTSTAMP:20260423T141444
CREATED:20250922T031846Z
LAST-MODIFIED:20250922T031846Z
UID:61351-1778599800-1778617800@www.fairlawnchurch.ca
SUMMARY:COMET
DESCRIPTION:COMET: A Drop-in Program for 2SLGBTQIA+ Youth \nCOMET (Come Out & Meet Each Tuesday) is a free after-school drop-in program for 2SLGBTQIA+ youth ages 13-18 in North Toronto and the Greater Toronto Area. Questioning youth and allied friends are also welcome. \nCOMET program activities include arts and crafts\, games\, cooking\, creative workshops\, and more. Dinner and snacks are provided at no cost. \nWhen? Tuesdays from 3:30pm to 8:30pm. \nWhere? 28 Fairlawn Ave.\, Toronto\, ON \nWest off Yonge St.\, a 7-minute walk north from Lawrence TTC Station. Participants are invited to use the west accessible main lobby entrance to access the Assembly Hall downstairs. \nWhy? Because every queer and questioning youth needs a fun and safe place to be themself. \nWhat is COMET All About? The program provides youth who identify as part of the 2SLGBTQIA+ community a safe and welcoming place to gather\, eat a nutritious meal\, participate in programming through partner organizations\, or just come by to hang out
URL:https://www.fairlawnchurch.ca/events/comet/2026-05-12/
LOCATION:Fairlawn Avenue United Church\, 28 Fairlawn Avenue\, Toronto\, Toronto\, M5M 1S7\, Canada
CATEGORIES:Affirm,Affirm Ministry
ATTACH;FMTTYPE=image/png:https://www.fairlawnchurch.ca/wp-content/uploads/2025/09/COMET-Logo-Final_400x400.png
ORGANIZER;CN="Affirm Ministry":MAILTO:affirm@fairlawnavenueunited.ca
END:VEVENT
BEGIN:VEVENT
DTSTART;TZID=America/Toronto:20260519T153000
DTEND;TZID=America/Toronto:20260519T203000
DTSTAMP:20260423T141444
CREATED:20250922T031846Z
LAST-MODIFIED:20250922T031846Z
UID:61352-1779204600-1779222600@www.fairlawnchurch.ca
SUMMARY:COMET
DESCRIPTION:COMET: A Drop-in Program for 2SLGBTQIA+ Youth \nCOMET (Come Out & Meet Each Tuesday) is a free after-school drop-in program for 2SLGBTQIA+ youth ages 13-18 in North Toronto and the Greater Toronto Area. Questioning youth and allied friends are also welcome. \nCOMET program activities include arts and crafts\, games\, cooking\, creative workshops\, and more. Dinner and snacks are provided at no cost. \nWhen? Tuesdays from 3:30pm to 8:30pm. \nWhere? 28 Fairlawn Ave.\, Toronto\, ON \nWest off Yonge St.\, a 7-minute walk north from Lawrence TTC Station. Participants are invited to use the west accessible main lobby entrance to access the Assembly Hall downstairs. \nWhy? Because every queer and questioning youth needs a fun and safe place to be themself. \nWhat is COMET All About? The program provides youth who identify as part of the 2SLGBTQIA+ community a safe and welcoming place to gather\, eat a nutritious meal\, participate in programming through partner organizations\, or just come by to hang out
URL:https://www.fairlawnchurch.ca/events/comet/2026-05-19/
LOCATION:Fairlawn Avenue United Church\, 28 Fairlawn Avenue\, Toronto\, Toronto\, M5M 1S7\, Canada
CATEGORIES:Affirm,Affirm Ministry
ATTACH;FMTTYPE=image/png:https://www.fairlawnchurch.ca/wp-content/uploads/2025/09/COMET-Logo-Final_400x400.png
ORGANIZER;CN="Affirm Ministry":MAILTO:affirm@fairlawnavenueunited.ca
END:VEVENT
BEGIN:VEVENT
DTSTART;TZID=America/Toronto:20260526T153000
DTEND;TZID=America/Toronto:20260526T203000
DTSTAMP:20260423T141444
CREATED:20250922T031846Z
LAST-MODIFIED:20250922T031846Z
UID:61353-1779809400-1779827400@www.fairlawnchurch.ca
SUMMARY:COMET
DESCRIPTION:COMET: A Drop-in Program for 2SLGBTQIA+ Youth \nCOMET (Come Out & Meet Each Tuesday) is a free after-school drop-in program for 2SLGBTQIA+ youth ages 13-18 in North Toronto and the Greater Toronto Area. Questioning youth and allied friends are also welcome. \nCOMET program activities include arts and crafts\, games\, cooking\, creative workshops\, and more. Dinner and snacks are provided at no cost. \nWhen? Tuesdays from 3:30pm to 8:30pm. \nWhere? 28 Fairlawn Ave.\, Toronto\, ON \nWest off Yonge St.\, a 7-minute walk north from Lawrence TTC Station. Participants are invited to use the west accessible main lobby entrance to access the Assembly Hall downstairs. \nWhy? Because every queer and questioning youth needs a fun and safe place to be themself. \nWhat is COMET All About? The program provides youth who identify as part of the 2SLGBTQIA+ community a safe and welcoming place to gather\, eat a nutritious meal\, participate in programming through partner organizations\, or just come by to hang out
URL:https://www.fairlawnchurch.ca/events/comet/2026-05-26/
LOCATION:Fairlawn Avenue United Church\, 28 Fairlawn Avenue\, Toronto\, Toronto\, M5M 1S7\, Canada
CATEGORIES:Affirm,Affirm Ministry
ATTACH;FMTTYPE=image/png:https://www.fairlawnchurch.ca/wp-content/uploads/2025/09/COMET-Logo-Final_400x400.png
ORGANIZER;CN="Affirm Ministry":MAILTO:affirm@fairlawnavenueunited.ca
END:VEVENT
BEGIN:VEVENT
DTSTART;TZID=America/Toronto:20260602T153000
DTEND;TZID=America/Toronto:20260602T203000
DTSTAMP:20260423T141444
CREATED:20250922T031846Z
LAST-MODIFIED:20250922T031846Z
UID:61354-1780414200-1780432200@www.fairlawnchurch.ca
SUMMARY:COMET
DESCRIPTION:COMET: A Drop-in Program for 2SLGBTQIA+ Youth \nCOMET (Come Out & Meet Each Tuesday) is a free after-school drop-in program for 2SLGBTQIA+ youth ages 13-18 in North Toronto and the Greater Toronto Area. Questioning youth and allied friends are also welcome. \nCOMET program activities include arts and crafts\, games\, cooking\, creative workshops\, and more. Dinner and snacks are provided at no cost. \nWhen? Tuesdays from 3:30pm to 8:30pm. \nWhere? 28 Fairlawn Ave.\, Toronto\, ON \nWest off Yonge St.\, a 7-minute walk north from Lawrence TTC Station. Participants are invited to use the west accessible main lobby entrance to access the Assembly Hall downstairs. \nWhy? Because every queer and questioning youth needs a fun and safe place to be themself. \nWhat is COMET All About? The program provides youth who identify as part of the 2SLGBTQIA+ community a safe and welcoming place to gather\, eat a nutritious meal\, participate in programming through partner organizations\, or just come by to hang out
URL:https://www.fairlawnchurch.ca/events/comet/2026-06-02/
LOCATION:Fairlawn Avenue United Church\, 28 Fairlawn Avenue\, Toronto\, Toronto\, M5M 1S7\, Canada
CATEGORIES:Affirm,Affirm Ministry
ATTACH;FMTTYPE=image/png:https://www.fairlawnchurch.ca/wp-content/uploads/2025/09/COMET-Logo-Final_400x400.png
ORGANIZER;CN="Affirm Ministry":MAILTO:affirm@fairlawnavenueunited.ca
END:VEVENT
BEGIN:VEVENT
DTSTART;TZID=America/Toronto:20260609T153000
DTEND;TZID=America/Toronto:20260609T203000
DTSTAMP:20260423T141444
CREATED:20250922T031846Z
LAST-MODIFIED:20250922T031846Z
UID:61355-1781019000-1781037000@www.fairlawnchurch.ca
SUMMARY:COMET
DESCRIPTION:COMET: A Drop-in Program for 2SLGBTQIA+ Youth \nCOMET (Come Out & Meet Each Tuesday) is a free after-school drop-in program for 2SLGBTQIA+ youth ages 13-18 in North Toronto and the Greater Toronto Area. Questioning youth and allied friends are also welcome. \nCOMET program activities include arts and crafts\, games\, cooking\, creative workshops\, and more. Dinner and snacks are provided at no cost. \nWhen? Tuesdays from 3:30pm to 8:30pm. \nWhere? 28 Fairlawn Ave.\, Toronto\, ON \nWest off Yonge St.\, a 7-minute walk north from Lawrence TTC Station. Participants are invited to use the west accessible main lobby entrance to access the Assembly Hall downstairs. \nWhy? Because every queer and questioning youth needs a fun and safe place to be themself. \nWhat is COMET All About? The program provides youth who identify as part of the 2SLGBTQIA+ community a safe and welcoming place to gather\, eat a nutritious meal\, participate in programming through partner organizations\, or just come by to hang out
URL:https://www.fairlawnchurch.ca/events/comet/2026-06-09/
LOCATION:Fairlawn Avenue United Church\, 28 Fairlawn Avenue\, Toronto\, Toronto\, M5M 1S7\, Canada
CATEGORIES:Affirm,Affirm Ministry
ATTACH;FMTTYPE=image/png:https://www.fairlawnchurch.ca/wp-content/uploads/2025/09/COMET-Logo-Final_400x400.png
ORGANIZER;CN="Affirm Ministry":MAILTO:affirm@fairlawnavenueunited.ca
END:VEVENT
BEGIN:VEVENT
DTSTART;TZID=America/Toronto:20260616T153000
DTEND;TZID=America/Toronto:20260616T203000
DTSTAMP:20260423T141444
CREATED:20250922T031846Z
LAST-MODIFIED:20250922T031846Z
UID:61356-1781623800-1781641800@www.fairlawnchurch.ca
SUMMARY:COMET
DESCRIPTION:COMET: A Drop-in Program for 2SLGBTQIA+ Youth \nCOMET (Come Out & Meet Each Tuesday) is a free after-school drop-in program for 2SLGBTQIA+ youth ages 13-18 in North Toronto and the Greater Toronto Area. Questioning youth and allied friends are also welcome. \nCOMET program activities include arts and crafts\, games\, cooking\, creative workshops\, and more. Dinner and snacks are provided at no cost. \nWhen? Tuesdays from 3:30pm to 8:30pm. \nWhere? 28 Fairlawn Ave.\, Toronto\, ON \nWest off Yonge St.\, a 7-minute walk north from Lawrence TTC Station. Participants are invited to use the west accessible main lobby entrance to access the Assembly Hall downstairs. \nWhy? Because every queer and questioning youth needs a fun and safe place to be themself. \nWhat is COMET All About? The program provides youth who identify as part of the 2SLGBTQIA+ community a safe and welcoming place to gather\, eat a nutritious meal\, participate in programming through partner organizations\, or just come by to hang out
URL:https://www.fairlawnchurch.ca/events/comet/2026-06-16/
LOCATION:Fairlawn Avenue United Church\, 28 Fairlawn Avenue\, Toronto\, Toronto\, M5M 1S7\, Canada
CATEGORIES:Affirm,Affirm Ministry
ATTACH;FMTTYPE=image/png:https://www.fairlawnchurch.ca/wp-content/uploads/2025/09/COMET-Logo-Final_400x400.png
ORGANIZER;CN="Affirm Ministry":MAILTO:affirm@fairlawnavenueunited.ca
END:VEVENT
BEGIN:VEVENT
DTSTART;TZID=America/Toronto:20260623T153000
DTEND;TZID=America/Toronto:20260623T203000
DTSTAMP:20260423T141444
CREATED:20250922T031846Z
LAST-MODIFIED:20250922T031846Z
UID:61357-1782228600-1782246600@www.fairlawnchurch.ca
SUMMARY:COMET
DESCRIPTION:COMET: A Drop-in Program for 2SLGBTQIA+ Youth \nCOMET (Come Out & Meet Each Tuesday) is a free after-school drop-in program for 2SLGBTQIA+ youth ages 13-18 in North Toronto and the Greater Toronto Area. Questioning youth and allied friends are also welcome. \nCOMET program activities include arts and crafts\, games\, cooking\, creative workshops\, and more. Dinner and snacks are provided at no cost. \nWhen? Tuesdays from 3:30pm to 8:30pm. \nWhere? 28 Fairlawn Ave.\, Toronto\, ON \nWest off Yonge St.\, a 7-minute walk north from Lawrence TTC Station. Participants are invited to use the west accessible main lobby entrance to access the Assembly Hall downstairs. \nWhy? Because every queer and questioning youth needs a fun and safe place to be themself. \nWhat is COMET All About? The program provides youth who identify as part of the 2SLGBTQIA+ community a safe and welcoming place to gather\, eat a nutritious meal\, participate in programming through partner organizations\, or just come by to hang out
URL:https://www.fairlawnchurch.ca/events/comet/2026-06-23/
LOCATION:Fairlawn Avenue United Church\, 28 Fairlawn Avenue\, Toronto\, Toronto\, M5M 1S7\, Canada
CATEGORIES:Affirm,Affirm Ministry
ATTACH;FMTTYPE=image/png:https://www.fairlawnchurch.ca/wp-content/uploads/2025/09/COMET-Logo-Final_400x400.png
ORGANIZER;CN="Affirm Ministry":MAILTO:affirm@fairlawnavenueunited.ca
END:VEVENT
BEGIN:VEVENT
DTSTART;TZID=America/Toronto:20260630T153000
DTEND;TZID=America/Toronto:20260630T203000
DTSTAMP:20260423T141444
CREATED:20250922T031846Z
LAST-MODIFIED:20250922T031846Z
UID:61358-1782833400-1782851400@www.fairlawnchurch.ca
SUMMARY:COMET
DESCRIPTION:COMET: A Drop-in Program for 2SLGBTQIA+ Youth \nCOMET (Come Out & Meet Each Tuesday) is a free after-school drop-in program for 2SLGBTQIA+ youth ages 13-18 in North Toronto and the Greater Toronto Area. Questioning youth and allied friends are also welcome. \nCOMET program activities include arts and crafts\, games\, cooking\, creative workshops\, and more. Dinner and snacks are provided at no cost. \nWhen? Tuesdays from 3:30pm to 8:30pm. \nWhere? 28 Fairlawn Ave.\, Toronto\, ON \nWest off Yonge St.\, a 7-minute walk north from Lawrence TTC Station. Participants are invited to use the west accessible main lobby entrance to access the Assembly Hall downstairs. \nWhy? Because every queer and questioning youth needs a fun and safe place to be themself. \nWhat is COMET All About? The program provides youth who identify as part of the 2SLGBTQIA+ community a safe and welcoming place to gather\, eat a nutritious meal\, participate in programming through partner organizations\, or just come by to hang out
URL:https://www.fairlawnchurch.ca/events/comet/2026-06-30/
LOCATION:Fairlawn Avenue United Church\, 28 Fairlawn Avenue\, Toronto\, Toronto\, M5M 1S7\, Canada
CATEGORIES:Affirm,Affirm Ministry
ATTACH;FMTTYPE=image/png:https://www.fairlawnchurch.ca/wp-content/uploads/2025/09/COMET-Logo-Final_400x400.png
ORGANIZER;CN="Affirm Ministry":MAILTO:affirm@fairlawnavenueunited.ca
END:VEVENT
END:VCALENDAR