BEGIN:VCALENDAR
VERSION:2.0
PRODID:-//Fairlawn Avenue United Church - ECPv6.15.20//NONSGML v1.0//EN
CALSCALE:GREGORIAN
METHOD:PUBLISH
X-ORIGINAL-URL:https://www.fairlawnchurch.ca
X-WR-CALDESC:Events for Fairlawn Avenue United Church
REFRESH-INTERVAL;VALUE=DURATION:PT1H
X-Robots-Tag:noindex
X-PUBLISHED-TTL:PT1H
BEGIN:VTIMEZONE
TZID:America/Toronto
BEGIN:DAYLIGHT
TZOFFSETFROM:-0500
TZOFFSETTO:-0400
TZNAME:EDT
DTSTART:20240310T070000
END:DAYLIGHT
BEGIN:STANDARD
TZOFFSETFROM:-0400
TZOFFSETTO:-0500
TZNAME:EST
DTSTART:20241103T060000
END:STANDARD
BEGIN:DAYLIGHT
TZOFFSETFROM:-0500
TZOFFSETTO:-0400
TZNAME:EDT
DTSTART:20250309T070000
END:DAYLIGHT
BEGIN:STANDARD
TZOFFSETFROM:-0400
TZOFFSETTO:-0500
TZNAME:EST
DTSTART:20251102T060000
END:STANDARD
BEGIN:DAYLIGHT
TZOFFSETFROM:-0500
TZOFFSETTO:-0400
TZNAME:EDT
DTSTART:20260308T070000
END:DAYLIGHT
BEGIN:STANDARD
TZOFFSETFROM:-0400
TZOFFSETTO:-0500
TZNAME:EST
DTSTART:20261101T060000
END:STANDARD
END:VTIMEZONE
BEGIN:VEVENT
DTSTART;TZID=America/Toronto:20251130T164500
DTEND;TZID=America/Toronto:20251130T173000
DTSTAMP:20260425T080058
CREATED:20251107T174150Z
LAST-MODIFIED:20251107T180052Z
UID:60046-1764521100-1764523800@www.fairlawnchurch.ca
SUMMARY:Carols Around the Crèche
DESCRIPTION:Spread the word! Grab your kids\, grandkids\, friends and neighbours and join us on the lawn of the church for Carols Around the Crèche on Sunday\, November 30 at 4:45pm to 5:30pm. This outdoor carol sing and lighting of the nativity crèche helps us mark the first Sunday of Advent in our North Toronto community. \nThe carol songsheet (COMING SOON!) can be accessed on your phone and hot chocolate will be served. \nWe invite you to support Fairlawn’s Annual Red Door Holiday Gift Drive with donations of new unwrapped gifts for children to age 13\, new children’s winter clothing (coats\, snowpants\, boots\, hats\, scarves and mittens)\, grocery gift cards or cash donations.
URL:https://www.fairlawnchurch.ca/events/carols-around-the-creche-2/
LOCATION:Fairlawn Avenue United Church\, 28 Fairlawn Avenue\, Toronto\, Toronto\, M5M 1S7\, Canada
CATEGORIES:Embrace Action,Explore Spirituality,Music
ATTACH;FMTTYPE=image/png:https://www.fairlawnchurch.ca/wp-content/uploads/2025/11/web-calendarCAROLS-AROUND-THE-CRECHE-2025.png
ORGANIZER;CN="Explore Spirituality":MAILTO:es@fairlawnavenueunited.ca
END:VEVENT
END:VCALENDAR