BEGIN:VCALENDAR
VERSION:2.0
PRODID:-//Fairlawn Avenue United Church - ECPv6.15.20//NONSGML v1.0//EN
CALSCALE:GREGORIAN
METHOD:PUBLISH
X-WR-CALNAME:Fairlawn Avenue United Church
X-ORIGINAL-URL:https://www.fairlawnchurch.ca
X-WR-CALDESC:Events for Fairlawn Avenue United Church
REFRESH-INTERVAL;VALUE=DURATION:PT1H
X-Robots-Tag:noindex
X-PUBLISHED-TTL:PT1H
BEGIN:VTIMEZONE
TZID:America/Toronto
BEGIN:DAYLIGHT
TZOFFSETFROM:-0500
TZOFFSETTO:-0400
TZNAME:EDT
DTSTART:20240310T070000
END:DAYLIGHT
BEGIN:STANDARD
TZOFFSETFROM:-0400
TZOFFSETTO:-0500
TZNAME:EST
DTSTART:20241103T060000
END:STANDARD
BEGIN:DAYLIGHT
TZOFFSETFROM:-0500
TZOFFSETTO:-0400
TZNAME:EDT
DTSTART:20250309T070000
END:DAYLIGHT
BEGIN:STANDARD
TZOFFSETFROM:-0400
TZOFFSETTO:-0500
TZNAME:EST
DTSTART:20251102T060000
END:STANDARD
BEGIN:DAYLIGHT
TZOFFSETFROM:-0500
TZOFFSETTO:-0400
TZNAME:EDT
DTSTART:20260308T070000
END:DAYLIGHT
BEGIN:STANDARD
TZOFFSETFROM:-0400
TZOFFSETTO:-0500
TZNAME:EST
DTSTART:20261101T060000
END:STANDARD
END:VTIMEZONE
BEGIN:VEVENT
DTSTART;TZID=America/Toronto:20251228T103000
DTEND;TZID=America/Toronto:20251228T113000
DTSTAMP:20260425T125514
CREATED:20251118T181227Z
LAST-MODIFIED:20251118T181253Z
UID:60269-1766917800-1766921400@www.fairlawnchurch.ca
SUMMARY:Worship Service ~ Sunday After Christmas
DESCRIPTION:Join us for a casual First Sunday After Christmas worship service with Rev. Dr. Cameron Watts.
URL:https://www.fairlawnchurch.ca/events/worship-service-sunday-after-christmas/
LOCATION:Fairlawn Avenue United Church\, 28 Fairlawn Avenue\, Toronto\, Toronto\, M5M 1S7\, Canada
CATEGORIES:Explore Spirituality,Worship
ATTACH;FMTTYPE=image/jpeg:https://www.fairlawnchurch.ca/wp-content/uploads/2025/11/Dec-28-Service.jpg
ORGANIZER;CN="Explore Spirituality":MAILTO:es@fairlawnavenueunited.ca
END:VEVENT
END:VCALENDAR