BEGIN:VCALENDAR
VERSION:2.0
PRODID:-//Fairlawn Avenue United Church - ECPv6.15.20//NONSGML v1.0//EN
CALSCALE:GREGORIAN
METHOD:PUBLISH
X-WR-CALNAME:Fairlawn Avenue United Church
X-ORIGINAL-URL:https://www.fairlawnchurch.ca
X-WR-CALDESC:Events for Fairlawn Avenue United Church
REFRESH-INTERVAL;VALUE=DURATION:PT1H
X-Robots-Tag:noindex
X-PUBLISHED-TTL:PT1H
BEGIN:VTIMEZONE
TZID:America/Toronto
BEGIN:DAYLIGHT
TZOFFSETFROM:-0500
TZOFFSETTO:-0400
TZNAME:EDT
DTSTART:20240310T070000
END:DAYLIGHT
BEGIN:STANDARD
TZOFFSETFROM:-0400
TZOFFSETTO:-0500
TZNAME:EST
DTSTART:20241103T060000
END:STANDARD
BEGIN:DAYLIGHT
TZOFFSETFROM:-0500
TZOFFSETTO:-0400
TZNAME:EDT
DTSTART:20250309T070000
END:DAYLIGHT
BEGIN:STANDARD
TZOFFSETFROM:-0400
TZOFFSETTO:-0500
TZNAME:EST
DTSTART:20251102T060000
END:STANDARD
BEGIN:DAYLIGHT
TZOFFSETFROM:-0500
TZOFFSETTO:-0400
TZNAME:EDT
DTSTART:20260308T070000
END:DAYLIGHT
BEGIN:STANDARD
TZOFFSETFROM:-0400
TZOFFSETTO:-0500
TZNAME:EST
DTSTART:20261101T060000
END:STANDARD
END:VTIMEZONE
BEGIN:VEVENT
DTSTART;TZID=America/Toronto:20251125T190000
DTEND;TZID=America/Toronto:20251125T210000
DTSTAMP:20260424T141246
CREATED:20251119T132705Z
LAST-MODIFIED:20251121T214814Z
UID:60335-1764097200-1764104400@www.fairlawnchurch.ca
SUMMARY:Embrace Action (EA) Committee Meeting
DESCRIPTION:The Embrace Action (EA) Fund supports organizations whose work is consistent with our social outreach vision of poverty reduction. We focus our financial aid on groups with whom we hope to deepen our relationship and broaden our support over time. \nThe United Church of Canada’s Creed calls us to love and serve others and seek justice. Fairlawn’s vision is to build that compassion and understanding by personally engaging with those who are marginalized. Thus\, our EA Fund focuses on activities for which it can not only provide financial aid\, but also opportunities where Fairlawn members can be personally involved. \nOur EA Fund lay ministry team researches organizations and choses partners\, after it:\n• assesses how closely their work aligns with Fairlawn’s poverty reduction goal\, and\n• identifies ways that congregants can become more closely connected. \nOur partners’ representatives occasionally speak at Fairlawn worship services to share what they’re doing and how we can become more involved with their work. \nIf you’d like information on the EA Fund\, please reach out to ea@fairlawnavenueunited.ca.
URL:https://www.fairlawnchurch.ca/events/embrace-action-ea-fund-meeting/
LOCATION:Online
CATEGORIES:Embrace Action
ATTACH;FMTTYPE=image/jpeg:https://www.fairlawnchurch.ca/wp-content/uploads/2022/01/Fairlawn-Purpose-Logo-Main-EA-e1662004654316.jpg
ORGANIZER;CN="Embrace Action":MAILTO:ea@fairlawnavenueunited.ca
END:VEVENT
END:VCALENDAR