BEGIN:VCALENDAR
VERSION:2.0
PRODID:-//Fairlawn Avenue United Church - ECPv6.15.20//NONSGML v1.0//EN
CALSCALE:GREGORIAN
METHOD:PUBLISH
X-ORIGINAL-URL:https://www.fairlawnchurch.ca
X-WR-CALDESC:Events for Fairlawn Avenue United Church
REFRESH-INTERVAL;VALUE=DURATION:PT1H
X-Robots-Tag:noindex
X-PUBLISHED-TTL:PT1H
BEGIN:VTIMEZONE
TZID:America/Toronto
BEGIN:DAYLIGHT
TZOFFSETFROM:-0500
TZOFFSETTO:-0400
TZNAME:EDT
DTSTART:20240310T070000
END:DAYLIGHT
BEGIN:STANDARD
TZOFFSETFROM:-0400
TZOFFSETTO:-0500
TZNAME:EST
DTSTART:20241103T060000
END:STANDARD
BEGIN:DAYLIGHT
TZOFFSETFROM:-0500
TZOFFSETTO:-0400
TZNAME:EDT
DTSTART:20250309T070000
END:DAYLIGHT
BEGIN:STANDARD
TZOFFSETFROM:-0400
TZOFFSETTO:-0500
TZNAME:EST
DTSTART:20251102T060000
END:STANDARD
BEGIN:DAYLIGHT
TZOFFSETFROM:-0500
TZOFFSETTO:-0400
TZNAME:EDT
DTSTART:20260308T070000
END:DAYLIGHT
BEGIN:STANDARD
TZOFFSETFROM:-0400
TZOFFSETTO:-0500
TZNAME:EST
DTSTART:20261101T060000
END:STANDARD
END:VTIMEZONE
BEGIN:VEVENT
DTSTART;TZID=America/Toronto:20251214T100000
DTEND;TZID=America/Toronto:20251214T120000
DTSTAMP:20260425T101936
CREATED:20251107T180933Z
LAST-MODIFIED:20251107T180933Z
UID:60549-1765706400-1765713600@www.fairlawnchurch.ca
SUMMARY:Red Door Annual Holiday Gift Drive
DESCRIPTION:EXTENDED TO SUNDAY\, DECEMBER 14! \nWe invite you to support Fairlawn’s Annual Red Door Holiday Gift Drive with donations of new unwrapped gifts for children to age 13\, new children’s winter clothing (coats\, snowpants\, boots\, hats\, scarves and mittens)\, grocery gift cards or cash donations. \nDonations can be dropped off between Sunday\, November 16 through Sunday\, December 7. \n\nSunday 10:00am – 12:00pm in the sanctuary\nMonday – Thursday 10:00am – 4:00pm to the church office
URL:https://www.fairlawnchurch.ca/events/red-door-annual-holiday-gift-drive-2/2025-12-14/
CATEGORIES:Embrace Action
ATTACH;FMTTYPE=image/png:https://www.fairlawnchurch.ca/wp-content/uploads/2025/11/1.png
END:VEVENT
END:VCALENDAR