BEGIN:VCALENDAR
VERSION:2.0
PRODID:-//Fairlawn Avenue United Church - ECPv6.15.20//NONSGML v1.0//EN
CALSCALE:GREGORIAN
METHOD:PUBLISH
X-WR-CALNAME:Fairlawn Avenue United Church
X-ORIGINAL-URL:https://www.fairlawnchurch.ca
X-WR-CALDESC:Events for Fairlawn Avenue United Church
REFRESH-INTERVAL;VALUE=DURATION:PT1H
X-Robots-Tag:noindex
X-PUBLISHED-TTL:PT1H
BEGIN:VTIMEZONE
TZID:America/Toronto
BEGIN:DAYLIGHT
TZOFFSETFROM:-0500
TZOFFSETTO:-0400
TZNAME:EDT
DTSTART:20250309T070000
END:DAYLIGHT
BEGIN:STANDARD
TZOFFSETFROM:-0400
TZOFFSETTO:-0500
TZNAME:EST
DTSTART:20251102T060000
END:STANDARD
BEGIN:DAYLIGHT
TZOFFSETFROM:-0500
TZOFFSETTO:-0400
TZNAME:EDT
DTSTART:20260308T070000
END:DAYLIGHT
BEGIN:STANDARD
TZOFFSETFROM:-0400
TZOFFSETTO:-0500
TZNAME:EST
DTSTART:20261101T060000
END:STANDARD
BEGIN:DAYLIGHT
TZOFFSETFROM:-0500
TZOFFSETTO:-0400
TZNAME:EDT
DTSTART:20270314T070000
END:DAYLIGHT
BEGIN:STANDARD
TZOFFSETFROM:-0400
TZOFFSETTO:-0500
TZNAME:EST
DTSTART:20271107T060000
END:STANDARD
END:VTIMEZONE
BEGIN:VEVENT
DTSTART;TZID=America/Toronto:20260507T093000
DTEND;TZID=America/Toronto:20260507T113000
DTSTAMP:20260423T194856
CREATED:20260105T034645Z
LAST-MODIFIED:20260105T034726Z
UID:60742-1778146200-1778153400@www.fairlawnchurch.ca
SUMMARY:Fairlawn Quilters
DESCRIPTION:Interested in Quilting and the social aspect of a weekly gathering among friends? The Fairlawn Quilters meet on-site weekly (Sept – June) in the Bessie Barber Room on Thursday mornings from 9:30am – 11:30am. If interested\, please reach out to quilters@fairlawnavenueunited.ca. \n 
URL:https://www.fairlawnchurch.ca/events/fairlawn-quilters-4/2026-05-07/
LOCATION:Fairlawn Avenue United Church\, 28 Fairlawn Avenue\, Toronto\, Toronto\, M5M 1S7\, Canada
CATEGORIES:Experience Belonging,Quilting
ATTACH;FMTTYPE=image/jpeg:https://www.fairlawnchurch.ca/wp-content/uploads/2026/01/Fairlawn-Quilters.jpg
ORGANIZER;CN="Experience Belonging":MAILTO:eb@fairlawnavenueunited.ca
END:VEVENT
END:VCALENDAR