BEGIN:VCALENDAR
VERSION:2.0
PRODID:-//Fairlawn Avenue United Church - ECPv6.15.20//NONSGML v1.0//EN
CALSCALE:GREGORIAN
METHOD:PUBLISH
X-WR-CALNAME:Fairlawn Avenue United Church
X-ORIGINAL-URL:https://www.fairlawnchurch.ca
X-WR-CALDESC:Events for Fairlawn Avenue United Church
REFRESH-INTERVAL;VALUE=DURATION:PT1H
X-Robots-Tag:noindex
X-PUBLISHED-TTL:PT1H
BEGIN:VTIMEZONE
TZID:America/Toronto
BEGIN:DAYLIGHT
TZOFFSETFROM:-0500
TZOFFSETTO:-0400
TZNAME:EDT
DTSTART:20220313T070000
END:DAYLIGHT
BEGIN:STANDARD
TZOFFSETFROM:-0400
TZOFFSETTO:-0500
TZNAME:EST
DTSTART:20221106T060000
END:STANDARD
BEGIN:DAYLIGHT
TZOFFSETFROM:-0500
TZOFFSETTO:-0400
TZNAME:EDT
DTSTART:20230312T070000
END:DAYLIGHT
BEGIN:STANDARD
TZOFFSETFROM:-0400
TZOFFSETTO:-0500
TZNAME:EST
DTSTART:20231105T060000
END:STANDARD
BEGIN:DAYLIGHT
TZOFFSETFROM:-0500
TZOFFSETTO:-0400
TZNAME:EDT
DTSTART:20240310T070000
END:DAYLIGHT
BEGIN:STANDARD
TZOFFSETFROM:-0400
TZOFFSETTO:-0500
TZNAME:EST
DTSTART:20241103T060000
END:STANDARD
BEGIN:DAYLIGHT
TZOFFSETFROM:-0500
TZOFFSETTO:-0400
TZNAME:EDT
DTSTART:20250309T070000
END:DAYLIGHT
BEGIN:STANDARD
TZOFFSETFROM:-0400
TZOFFSETTO:-0500
TZNAME:EST
DTSTART:20251102T060000
END:STANDARD
BEGIN:DAYLIGHT
TZOFFSETFROM:-0500
TZOFFSETTO:-0400
TZNAME:EDT
DTSTART:20260308T070000
END:DAYLIGHT
BEGIN:STANDARD
TZOFFSETFROM:-0400
TZOFFSETTO:-0500
TZNAME:EST
DTSTART:20261101T060000
END:STANDARD
BEGIN:DAYLIGHT
TZOFFSETFROM:-0500
TZOFFSETTO:-0400
TZNAME:EDT
DTSTART:20270314T070000
END:DAYLIGHT
BEGIN:STANDARD
TZOFFSETFROM:-0400
TZOFFSETTO:-0500
TZNAME:EST
DTSTART:20271107T060000
END:STANDARD
END:VTIMEZONE
BEGIN:VEVENT
DTSTART;TZID=America/Toronto:20260114T190000
DTEND;TZID=America/Toronto:20260114T210000
DTSTAMP:20260423T145115
CREATED:20240715T041538Z
LAST-MODIFIED:20260115T182656Z
UID:58663-1768417200-1768424400@www.fairlawnchurch.ca
SUMMARY:Trustees Meeting
DESCRIPTION:The Trustees of Fairlawn Avenue United Church meet online quarterly. \nIf you have any questions please reach out to Tom Salisbury\, Chair and Liaison to Governing Council at trustees@fairlawnavenueunited.ca. \n 
URL:https://www.fairlawnchurch.ca/events/trustees-2024/2026-01-14/
LOCATION:Online
CATEGORIES:Trustees
ATTACH;FMTTYPE=image/jpeg:https://www.fairlawnchurch.ca/wp-content/uploads/2022/01/Fairlawn-Purpose-Logo-Main-Grey-e1661914323925.jpg
ORGANIZER;CN="Trustees":MAILTO:trustees@fairlawnavenueunited.ca
END:VEVENT
BEGIN:VEVENT
DTSTART;TZID=America/Toronto:20251203T190000
DTEND;TZID=America/Toronto:20251203T210000
DTSTAMP:20260423T145115
CREATED:20240715T041538Z
LAST-MODIFIED:20260115T182656Z
UID:58662-1764788400-1764795600@www.fairlawnchurch.ca
SUMMARY:Trustees Meeting
DESCRIPTION:The Trustees of Fairlawn Avenue United Church meet online quarterly. \nIf you have any questions please reach out to Tom Salisbury\, Chair and Liaison to Governing Council at trustees@fairlawnavenueunited.ca. \n 
URL:https://www.fairlawnchurch.ca/events/trustees-2024/2025-12-03/
LOCATION:Online
CATEGORIES:Trustees
ATTACH;FMTTYPE=image/jpeg:https://www.fairlawnchurch.ca/wp-content/uploads/2022/01/Fairlawn-Purpose-Logo-Main-Grey-e1661914323925.jpg
ORGANIZER;CN="Trustees":MAILTO:trustees@fairlawnavenueunited.ca
END:VEVENT
BEGIN:VEVENT
DTSTART;TZID=America/Toronto:20251001T190000
DTEND;TZID=America/Toronto:20251001T210000
DTSTAMP:20260423T145115
CREATED:20240715T041538Z
LAST-MODIFIED:20260115T182655Z
UID:58661-1759345200-1759352400@www.fairlawnchurch.ca
SUMMARY:Trustees Meeting
DESCRIPTION:The Trustees of Fairlawn Avenue United Church meet online quarterly. \nIf you have any questions please reach out to Tom Salisbury\, Chair and Liaison to Governing Council at trustees@fairlawnavenueunited.ca. \n 
URL:https://www.fairlawnchurch.ca/events/trustees-2024/2025-10-01/
LOCATION:Online
CATEGORIES:Trustees
ATTACH;FMTTYPE=image/jpeg:https://www.fairlawnchurch.ca/wp-content/uploads/2022/01/Fairlawn-Purpose-Logo-Main-Grey-e1661914323925.jpg
ORGANIZER;CN="Trustees":MAILTO:trustees@fairlawnavenueunited.ca
END:VEVENT
BEGIN:VEVENT
DTSTART;TZID=America/Toronto:20250507T190000
DTEND;TZID=America/Toronto:20250507T210000
DTSTAMP:20260423T145116
CREATED:20240715T041538Z
LAST-MODIFIED:20260115T182655Z
UID:55216-1746644400-1746651600@www.fairlawnchurch.ca
SUMMARY:Trustees Meeting
DESCRIPTION:The Trustees of Fairlawn Avenue United Church meet online quarterly. \nIf you have any questions please reach out to Tom Salisbury\, Chair and Liaison to Governing Council at trustees@fairlawnavenueunited.ca. \n 
URL:https://www.fairlawnchurch.ca/events/trustees-2024/2025-05-07/
LOCATION:Online
CATEGORIES:Trustees
ATTACH;FMTTYPE=image/jpeg:https://www.fairlawnchurch.ca/wp-content/uploads/2022/01/Fairlawn-Purpose-Logo-Main-Grey-e1661914323925.jpg
ORGANIZER;CN="Trustees":MAILTO:trustees@fairlawnavenueunited.ca
END:VEVENT
BEGIN:VEVENT
DTSTART;TZID=America/Toronto:20231206T190000
DTEND;TZID=America/Toronto:20231206T210000
DTSTAMP:20260423T145116
CREATED:20240715T041538Z
LAST-MODIFIED:20260115T182653Z
UID:54606-1701889200-1701896400@www.fairlawnchurch.ca
SUMMARY:Trustees Meeting
DESCRIPTION:The Trustees of Fairlawn Avenue United Church meet online quarterly. \nIf you have any questions please reach out to Tom Salisbury\, Chair and Liaison to Governing Council at trustees@fairlawnavenueunited.ca. \n 
URL:https://www.fairlawnchurch.ca/events/trustees-2024/2023-12-06/
LOCATION:Online
CATEGORIES:Trustees
ATTACH;FMTTYPE=image/jpeg:https://www.fairlawnchurch.ca/wp-content/uploads/2022/01/Fairlawn-Purpose-Logo-Main-Grey-e1661914323925.jpg
ORGANIZER;CN="Trustees":MAILTO:trustees@fairlawnavenueunited.ca
END:VEVENT
END:VCALENDAR