BEGIN:VCALENDAR
VERSION:2.0
PRODID:-//Fairlawn Avenue United Church - ECPv6.15.20//NONSGML v1.0//EN
CALSCALE:GREGORIAN
METHOD:PUBLISH
X-ORIGINAL-URL:https://www.fairlawnchurch.ca
X-WR-CALDESC:Events for Fairlawn Avenue United Church
REFRESH-INTERVAL;VALUE=DURATION:PT1H
X-Robots-Tag:noindex
X-PUBLISHED-TTL:PT1H
BEGIN:VTIMEZONE
TZID:America/Toronto
BEGIN:DAYLIGHT
TZOFFSETFROM:-0500
TZOFFSETTO:-0400
TZNAME:EDT
DTSTART:20250309T070000
END:DAYLIGHT
BEGIN:STANDARD
TZOFFSETFROM:-0400
TZOFFSETTO:-0500
TZNAME:EST
DTSTART:20251102T060000
END:STANDARD
BEGIN:DAYLIGHT
TZOFFSETFROM:-0500
TZOFFSETTO:-0400
TZNAME:EDT
DTSTART:20260308T070000
END:DAYLIGHT
BEGIN:STANDARD
TZOFFSETFROM:-0400
TZOFFSETTO:-0500
TZNAME:EST
DTSTART:20261101T060000
END:STANDARD
BEGIN:DAYLIGHT
TZOFFSETFROM:-0500
TZOFFSETTO:-0400
TZNAME:EDT
DTSTART:20270314T070000
END:DAYLIGHT
BEGIN:STANDARD
TZOFFSETFROM:-0400
TZOFFSETTO:-0500
TZNAME:EST
DTSTART:20271107T060000
END:STANDARD
END:VTIMEZONE
BEGIN:VEVENT
DTSTART;TZID=America/Toronto:20260329T103000
DTEND;TZID=America/Toronto:20260329T113000
DTSTAMP:20260424T090811
CREATED:20260208T035443Z
LAST-MODIFIED:20260208T035456Z
UID:61368-1774780200-1774783800@www.fairlawnchurch.ca
SUMMARY:Palm Sunday
DESCRIPTION:All are invited to journey at Fairlawn Avenue United Church through Holy Week. Join us for \n\nPalm Sunday ~ Sunday\, March 29 10:30am\nMaundy Thursday ~ Thursday\, April 2 7:30pm\nGood Friday ~ Friday\, April 3 10:30am\n\nas we reflect on Jesus’ path of love\, sacrifice\, and hope\, and then gather in joy on \n\nEaster Sunday ~ Sunday\, April 5 10:30am\n\nto celebrate the promise of new life and resurrection. Whether you attend one service or all\, you are welcome to be part of this meaningful season of worship and reflection.
URL:https://www.fairlawnchurch.ca/events/palm-sunday/
LOCATION:Fairlawn Avenue United Church\, 28 Fairlawn Avenue\, Toronto\, Toronto\, M5M 1S7\, Canada
CATEGORIES:Explore Spirituality
ATTACH;FMTTYPE=image/png:https://www.fairlawnchurch.ca/wp-content/uploads/2026/02/Palm-Sunday.png
ORGANIZER;CN="Explore Spirituality":MAILTO:es@fairlawnavenueunited.ca
END:VEVENT
BEGIN:VEVENT
DTSTART;TZID=America/Toronto:20260329T113000
DTEND;TZID=America/Toronto:20260329T123000
DTSTAMP:20260424T090811
CREATED:20251118T204736Z
LAST-MODIFIED:20251118T204736Z
UID:61205-1774783800-1774787400@www.fairlawnchurch.ca
SUMMARY:Coffee Hour
DESCRIPTION:Coffee Hour after Sunday worship –  Experience Belonging Ministry \n\n\n\n\nEvery Sunday following worship service\, coffee\, tea and cookies are served in the sanctuary. Coffee hour provides an important opportunity for people to connect with one another\, welcome guests and feel part of Fairlawn. \nEach week\, a two-person team will arrive at 10:00am to set up\, attend the service and finish cleaning up by 12:30pm. Easy-to-follow instructions are posted in the kitchen. If you’re interested in joining the hospitality team and can volunteer one Sunday a month\, reach out to Joanne at:  joanne@fairlawnavenueunited.ca
URL:https://www.fairlawnchurch.ca/events/coffee-hour-2/2026-03-29/
LOCATION:Fairlawn Avenue United Church\, 28 Fairlawn Avenue\, Toronto\, Toronto\, M5M 1S7\, Canada
ATTACH;FMTTYPE=image/png:https://www.fairlawnchurch.ca/wp-content/uploads/2025/10/Coffee-Hour.png
ORGANIZER;CN="Experience Belonging":MAILTO:eb@fairlawnavenueunited.ca
END:VEVENT
BEGIN:VEVENT
DTSTART;TZID=America/Toronto:20260331T153000
DTEND;TZID=America/Toronto:20260331T203000
DTSTAMP:20260424T090811
CREATED:20250922T031846Z
LAST-MODIFIED:20250922T031846Z
UID:61345-1774971000-1774989000@www.fairlawnchurch.ca
SUMMARY:COMET
DESCRIPTION:COMET: A Drop-in Program for 2SLGBTQIA+ Youth \nCOMET (Come Out & Meet Each Tuesday) is a free after-school drop-in program for 2SLGBTQIA+ youth ages 13-18 in North Toronto and the Greater Toronto Area. Questioning youth and allied friends are also welcome. \nCOMET program activities include arts and crafts\, games\, cooking\, creative workshops\, and more. Dinner and snacks are provided at no cost. \nWhen? Tuesdays from 3:30pm to 8:30pm. \nWhere? 28 Fairlawn Ave.\, Toronto\, ON \nWest off Yonge St.\, a 7-minute walk north from Lawrence TTC Station. Participants are invited to use the west accessible main lobby entrance to access the Assembly Hall downstairs. \nWhy? Because every queer and questioning youth needs a fun and safe place to be themself. \nWhat is COMET All About? The program provides youth who identify as part of the 2SLGBTQIA+ community a safe and welcoming place to gather\, eat a nutritious meal\, participate in programming through partner organizations\, or just come by to hang out
URL:https://www.fairlawnchurch.ca/events/comet/2026-03-31/
LOCATION:Fairlawn Avenue United Church\, 28 Fairlawn Avenue\, Toronto\, Toronto\, M5M 1S7\, Canada
CATEGORIES:Affirm,Affirm Ministry
ATTACH;FMTTYPE=image/png:https://www.fairlawnchurch.ca/wp-content/uploads/2025/09/COMET-Logo-Final_400x400.png
ORGANIZER;CN="Affirm Ministry":MAILTO:affirm@fairlawnavenueunited.ca
END:VEVENT
BEGIN:VEVENT
DTSTART;TZID=America/Toronto:20260401T140000
DTEND;TZID=America/Toronto:20260401T160000
DTSTAMP:20260424T090811
CREATED:20260104T051009Z
LAST-MODIFIED:20260104T051009Z
UID:60706-1775052000-1775059200@www.fairlawnchurch.ca
SUMMARY:Book Sorting - Volunteers
DESCRIPTION:Weekly Book Sorting of the donations received for Fairlawn’s 63rd Annual Book Sale. \nIf you would like to volunteer\, or find out more about what is involved\, contact coordinators Kathy and Tom Salisbury\, at booksale@fairlawnavenueunited.ca.
URL:https://www.fairlawnchurch.ca/events/book-sorting-volunteers/2026-04-01/
LOCATION:Fairlawn Avenue United Church\, 28 Fairlawn Avenue\, Toronto\, Toronto\, M5M 1S7\, Canada
CATEGORIES:Book Sale,Experience Belonging
ATTACH;FMTTYPE=image/png:https://www.fairlawnchurch.ca/wp-content/uploads/2025/01/Volunteer-Book-Sorting.png
ORGANIZER;CN="Book Sale":MAILTO:booksale@fairlawnavenueunited.ca
END:VEVENT
BEGIN:VEVENT
DTSTART;TZID=America/Toronto:20260401T193000
DTEND;TZID=America/Toronto:20260401T210000
DTSTAMP:20260424T090811
CREATED:20240728T052743Z
LAST-MODIFIED:20251230T235250Z
UID:60651-1775071800-1775077200@www.fairlawnchurch.ca
SUMMARY:Christian Meditation
DESCRIPTION:Wednesdays at 7:30pm to 9:00pm\, we gather online for Christian Meditation. \nThis group is open to anyone who is interested in Meditation at any level\, or are curious. All are welcome. \nPlease email moderator\, Patrick Sullivan\, at christianmeditation@fairlawnavenueunited.ca to receive the Zoom login details.
URL:https://www.fairlawnchurch.ca/events/christian-meditation-2/2026-04-01/
LOCATION:Online
CATEGORIES:Explore Spirituality,Meditation
ATTACH;FMTTYPE=image/jpeg:https://www.fairlawnchurch.ca/wp-content/uploads/2019/08/christian-meditation.jpg
ORGANIZER;CN="Explore Spirituality":MAILTO:es@fairlawnavenueunited.ca
END:VEVENT
BEGIN:VEVENT
DTSTART;TZID=America/Toronto:20260402T093000
DTEND;TZID=America/Toronto:20260402T113000
DTSTAMP:20260424T090811
CREATED:20260105T034645Z
LAST-MODIFIED:20260105T034725Z
UID:60737-1775122200-1775129400@www.fairlawnchurch.ca
SUMMARY:Fairlawn Quilters
DESCRIPTION:Interested in Quilting and the social aspect of a weekly gathering among friends? The Fairlawn Quilters meet on-site weekly (Sept – June) in the Bessie Barber Room on Thursday mornings from 9:30am – 11:30am. If interested\, please reach out to quilters@fairlawnavenueunited.ca. \n 
URL:https://www.fairlawnchurch.ca/events/fairlawn-quilters-4/2026-04-02/
LOCATION:Fairlawn Avenue United Church\, 28 Fairlawn Avenue\, Toronto\, Toronto\, M5M 1S7\, Canada
CATEGORIES:Experience Belonging,Quilting
ATTACH;FMTTYPE=image/jpeg:https://www.fairlawnchurch.ca/wp-content/uploads/2026/01/Fairlawn-Quilters.jpg
ORGANIZER;CN="Experience Belonging":MAILTO:eb@fairlawnavenueunited.ca
END:VEVENT
BEGIN:VEVENT
DTSTART;TZID=America/Toronto:20260402T193000
DTEND;TZID=America/Toronto:20260402T203000
DTSTAMP:20260424T090811
CREATED:20260208T035626Z
LAST-MODIFIED:20260208T035626Z
UID:61370-1775158200-1775161800@www.fairlawnchurch.ca
SUMMARY:Maundy Thursday
DESCRIPTION:All are invited to journey at Fairlawn Avenue United Church through Holy Week. Join us for \n\nPalm Sunday ~ Sunday\, March 29 10:30am\nMaundy Thursday ~ Thursday\, April 2 7:30pm\nGood Friday ~ Friday\, April 3 10:30am\n\nas we reflect on Jesus’ path of love\, sacrifice\, and hope\, and then gather in joy on \n\nEaster Sunday ~ Sunday\, April 5 10:30am\n\nto celebrate the promise of new life and resurrection. Whether you attend one service or all\, you are welcome to be part of this meaningful season of worship and reflection.
URL:https://www.fairlawnchurch.ca/events/maundy-thursday/
LOCATION:Fairlawn Avenue United Church\, 28 Fairlawn Avenue\, Toronto\, Toronto\, M5M 1S7\, Canada
CATEGORIES:Explore Spirituality
ATTACH;FMTTYPE=image/png:https://www.fairlawnchurch.ca/wp-content/uploads/2026/02/Maundy-Thursday.png
ORGANIZER;CN="Explore Spirituality":MAILTO:es@fairlawnavenueunited.ca
END:VEVENT
BEGIN:VEVENT
DTSTART;TZID=America/Toronto:20260403T103000
DTEND;TZID=America/Toronto:20260403T113000
DTSTAMP:20260424T090811
CREATED:20260208T035806Z
LAST-MODIFIED:20260208T035806Z
UID:61372-1775212200-1775215800@www.fairlawnchurch.ca
SUMMARY:Good Friday
DESCRIPTION:All are invited to journey at Fairlawn Avenue United Church through Holy Week. Join us for \n\nPalm Sunday ~ Sunday\, March 29 10:30am\nMaundy Thursday ~ Thursday\, April 2 7:30pm\nGood Friday ~ Friday\, April 3 10:30am\n\nas we reflect on Jesus’ path of love\, sacrifice\, and hope\, and then gather in joy on \n\nEaster Sunday ~ Sunday\, April 5 10:30am\n\nto celebrate the promise of new life and resurrection. Whether you attend one service or all\, you are welcome to be part of this meaningful season of worship and reflection.
URL:https://www.fairlawnchurch.ca/events/good-friday/
LOCATION:Fairlawn Avenue United Church\, 28 Fairlawn Avenue\, Toronto\, Toronto\, M5M 1S7\, Canada
CATEGORIES:Explore Spirituality
ATTACH;FMTTYPE=image/png:https://www.fairlawnchurch.ca/wp-content/uploads/2026/02/Good-Friday.png
ORGANIZER;CN="Explore Spirituality":MAILTO:es@fairlawnavenueunited.ca
END:VEVENT
BEGIN:VEVENT
DTSTART;TZID=America/Toronto:20260403T120000
DTEND;TZID=America/Toronto:20260403T170000
DTSTAMP:20260424T090811
CREATED:20260330T010703Z
LAST-MODIFIED:20260330T010713Z
UID:61724-1775217600-1775235600@www.fairlawnchurch.ca
SUMMARY:Statutory Holiday - Closed
DESCRIPTION:Good Friday Worship Service ~ Friday\, April 3 at 10:30am. \nPlease be advised that outside of Good Friday worhip service\, the United Church of Canada observes Good Friday\, April 3\, 2026 as a statutory holiday for staff. In keeping with this time of rest and renewal\, the church will be closed on Good Friday\, April 6\, 2026 as well as Easter Monday\, April 6 and will reopen on Tuesday\, April 7\, 2026 at 9:00am. \n  \n  \n 
URL:https://www.fairlawnchurch.ca/events/statutory-holiday-closed-2/
LOCATION:Toronto
ATTACH;FMTTYPE=image/png:https://www.fairlawnchurch.ca/wp-content/uploads/2026/03/Good-Friday-Stat.png
END:VEVENT
END:VCALENDAR