BEGIN:VCALENDAR
VERSION:2.0
PRODID:-//Fairlawn Avenue United Church - ECPv6.15.20//NONSGML v1.0//EN
CALSCALE:GREGORIAN
METHOD:PUBLISH
X-WR-CALNAME:Fairlawn Avenue United Church
X-ORIGINAL-URL:https://www.fairlawnchurch.ca
X-WR-CALDESC:Events for Fairlawn Avenue United Church
REFRESH-INTERVAL;VALUE=DURATION:PT1H
X-Robots-Tag:noindex
X-PUBLISHED-TTL:PT1H
BEGIN:VTIMEZONE
TZID:America/Toronto
BEGIN:DAYLIGHT
TZOFFSETFROM:-0500
TZOFFSETTO:-0400
TZNAME:EDT
DTSTART:20230312T070000
END:DAYLIGHT
BEGIN:STANDARD
TZOFFSETFROM:-0400
TZOFFSETTO:-0500
TZNAME:EST
DTSTART:20231105T060000
END:STANDARD
BEGIN:DAYLIGHT
TZOFFSETFROM:-0500
TZOFFSETTO:-0400
TZNAME:EDT
DTSTART:20240310T070000
END:DAYLIGHT
BEGIN:STANDARD
TZOFFSETFROM:-0400
TZOFFSETTO:-0500
TZNAME:EST
DTSTART:20241103T060000
END:STANDARD
BEGIN:DAYLIGHT
TZOFFSETFROM:-0500
TZOFFSETTO:-0400
TZNAME:EDT
DTSTART:20250309T070000
END:DAYLIGHT
BEGIN:STANDARD
TZOFFSETFROM:-0400
TZOFFSETTO:-0500
TZNAME:EST
DTSTART:20251102T060000
END:STANDARD
END:VTIMEZONE
BEGIN:VEVENT
DTSTART;TZID=America/Toronto:20240908T100000
DTEND;TZID=America/Toronto:20240908T120000
DTSTAMP:20260423T222648
CREATED:20240902T172118Z
LAST-MODIFIED:20240902T173011Z
UID:55249-1725789600-1725796800@www.fairlawnchurch.ca
SUMMARY:Sunday Worship Service
DESCRIPTION:Worship service at Fairlawn Avenue United Church are on Sunday mornings in our Sanctuary.  Doors open at 10:00am and service begins ar 10:3oam with Rev. Dr. Cameron Watts\, Eleanor Daley\, Director of Music and the Fairlawn Avenue Senior Choir. \nWorship Service in September 2025 is the Season of Creation at Fairlawn Avenue United Church \nAs we come back to worship in the Sanctuary in September there is a theme: \nThe Season of Creation Fairlawn Avenue United Church \nSept 8  Rev. Dr. Cam Watts – Communion Service\nSept 16 Rev. Dr. Ambury Stuart\nSept 22 from Emmanuel College Dr. HyeRan Kim-Cragg\nSept 29 Rev. Dr. Ambury Stuart \nEnjoy a cup of coffee or tea\, in our post-service Coffee Hour in the sanctuary – we encourage you to bring your own mug! \nCoffee Hour provides an important opportunity for people to connect with one another\, Experience Belonging\, welcome visitors and guests\, and feel part of Fairlawn. \nIf you’d like to revisit any of our worship services\, curated musical offerings and service bulletins\, they are posted online on our website worship page  or YouTube channel. \n 
URL:https://www.fairlawnchurch.ca/events/worship-sept-2024/2024-09-08/
LOCATION:Fairlawn Avenue United Church\, 28 Fairlawn Avenue\, Toronto\, Toronto\, M5M 1S7\, Canada
CATEGORIES:Choir,Explore Spirituality,Music,Worship
ATTACH;FMTTYPE=image/jpeg:https://www.fairlawnchurch.ca/wp-content/uploads/2021/09/FAUCChancelcrop-e1701585068732.jpg
ORGANIZER;CN="Explore Spirituality":MAILTO:es@fairlawnavenueunited.ca
END:VEVENT
END:VCALENDAR