BEGIN:VCALENDAR
VERSION:2.0
PRODID:-//Fairlawn Avenue United Church - ECPv6.15.20//NONSGML v1.0//EN
CALSCALE:GREGORIAN
METHOD:PUBLISH
X-ORIGINAL-URL:https://www.fairlawnchurch.ca
X-WR-CALDESC:Events for Fairlawn Avenue United Church
REFRESH-INTERVAL;VALUE=DURATION:PT1H
X-Robots-Tag:noindex
X-PUBLISHED-TTL:PT1H
BEGIN:VTIMEZONE
TZID:America/Toronto
BEGIN:DAYLIGHT
TZOFFSETFROM:-0500
TZOFFSETTO:-0400
TZNAME:EDT
DTSTART:20240310T070000
END:DAYLIGHT
BEGIN:STANDARD
TZOFFSETFROM:-0400
TZOFFSETTO:-0500
TZNAME:EST
DTSTART:20241103T060000
END:STANDARD
BEGIN:DAYLIGHT
TZOFFSETFROM:-0500
TZOFFSETTO:-0400
TZNAME:EDT
DTSTART:20250309T070000
END:DAYLIGHT
BEGIN:STANDARD
TZOFFSETFROM:-0400
TZOFFSETTO:-0500
TZNAME:EST
DTSTART:20251102T060000
END:STANDARD
BEGIN:DAYLIGHT
TZOFFSETFROM:-0500
TZOFFSETTO:-0400
TZNAME:EDT
DTSTART:20260308T070000
END:DAYLIGHT
BEGIN:STANDARD
TZOFFSETFROM:-0400
TZOFFSETTO:-0500
TZNAME:EST
DTSTART:20261101T060000
END:STANDARD
BEGIN:DAYLIGHT
TZOFFSETFROM:-0500
TZOFFSETTO:-0400
TZNAME:EDT
DTSTART:20270314T070000
END:DAYLIGHT
BEGIN:STANDARD
TZOFFSETFROM:-0400
TZOFFSETTO:-0500
TZNAME:EST
DTSTART:20271107T060000
END:STANDARD
END:VTIMEZONE
BEGIN:VEVENT
DTSTART;TZID=America/Toronto:20260121T190000
DTEND;TZID=America/Toronto:20260121T203000
DTSTAMP:20260423T155336
CREATED:20250104T053826Z
LAST-MODIFIED:20260316T144218Z
UID:61012-1769022000-1769027400@www.fairlawnchurch.ca
SUMMARY:Pastoral Visitation Team Meeting
DESCRIPTION:Pastoral Visitation Team Meeting \nOur pastoral visitation ministry provides support and compassion for those who may occasionally experience difficulty in their lives and supports our senior members when they can no longer regularly attend church. We send cards and flowers and keep them connected to Fairlawn through phone calls and personal visits.  \nIf you have any questions or would like to be involved in this ministry\, please contact Kathy Salisbury or Elaine Pitts at pastoralcare@fairlawnavenueunited.ca.
URL:https://www.fairlawnchurch.ca/events/zoom-pastoral-visitation-team-meeting/2026-01-21/
LOCATION:Online
CATEGORIES:Pastoral Care
ATTACH;FMTTYPE=image/jpeg:https://www.fairlawnchurch.ca/wp-content/uploads/2021/11/church-people-clip-art-614926.jpg
ORGANIZER;CN="Pastoral Care":MAILTO:pastoralcare@fairlawnavenueunited.ca
END:VEVENT
BEGIN:VEVENT
DTSTART;TZID=America/Toronto:20251119T190000
DTEND;TZID=America/Toronto:20251119T203000
DTSTAMP:20260423T155336
CREATED:20250104T053826Z
LAST-MODIFIED:20260316T144218Z
UID:56939-1763578800-1763584200@www.fairlawnchurch.ca
SUMMARY:Pastoral Visitation Team Meeting
DESCRIPTION:Pastoral Visitation Team Meeting \nOur pastoral visitation ministry provides support and compassion for those who may occasionally experience difficulty in their lives and supports our senior members when they can no longer regularly attend church. We send cards and flowers and keep them connected to Fairlawn through phone calls and personal visits.  \nIf you have any questions or would like to be involved in this ministry\, please contact Kathy Salisbury or Elaine Pitts at pastoralcare@fairlawnavenueunited.ca.
URL:https://www.fairlawnchurch.ca/events/zoom-pastoral-visitation-team-meeting/2025-11-19/
LOCATION:Online
CATEGORIES:Pastoral Care
ATTACH;FMTTYPE=image/jpeg:https://www.fairlawnchurch.ca/wp-content/uploads/2021/11/church-people-clip-art-614926.jpg
ORGANIZER;CN="Pastoral Care":MAILTO:pastoralcare@fairlawnavenueunited.ca
END:VEVENT
BEGIN:VEVENT
DTSTART;TZID=America/Toronto:20250917T190000
DTEND;TZID=America/Toronto:20250917T203000
DTSTAMP:20260423T155336
CREATED:20250104T053826Z
LAST-MODIFIED:20260316T144217Z
UID:56938-1758135600-1758141000@www.fairlawnchurch.ca
SUMMARY:Pastoral Visitation Team Meeting
DESCRIPTION:Pastoral Visitation Team Meeting \nOur pastoral visitation ministry provides support and compassion for those who may occasionally experience difficulty in their lives and supports our senior members when they can no longer regularly attend church. We send cards and flowers and keep them connected to Fairlawn through phone calls and personal visits.  \nIf you have any questions or would like to be involved in this ministry\, please contact Kathy Salisbury or Elaine Pitts at pastoralcare@fairlawnavenueunited.ca.
URL:https://www.fairlawnchurch.ca/events/zoom-pastoral-visitation-team-meeting/2025-09-17/
LOCATION:Online
CATEGORIES:Pastoral Care
ATTACH;FMTTYPE=image/jpeg:https://www.fairlawnchurch.ca/wp-content/uploads/2021/11/church-people-clip-art-614926.jpg
ORGANIZER;CN="Pastoral Care":MAILTO:pastoralcare@fairlawnavenueunited.ca
END:VEVENT
BEGIN:VEVENT
DTSTART;TZID=America/Toronto:20250521T190000
DTEND;TZID=America/Toronto:20250521T203000
DTSTAMP:20260423T155336
CREATED:20250104T053826Z
LAST-MODIFIED:20260316T144216Z
UID:56937-1747854000-1747859400@www.fairlawnchurch.ca
SUMMARY:Pastoral Visitation Team Meeting
DESCRIPTION:Pastoral Visitation Team Meeting \nOur pastoral visitation ministry provides support and compassion for those who may occasionally experience difficulty in their lives and supports our senior members when they can no longer regularly attend church. We send cards and flowers and keep them connected to Fairlawn through phone calls and personal visits.  \nIf you have any questions or would like to be involved in this ministry\, please contact Kathy Salisbury or Elaine Pitts at pastoralcare@fairlawnavenueunited.ca.
URL:https://www.fairlawnchurch.ca/events/zoom-pastoral-visitation-team-meeting/2025-05-21/
LOCATION:Online
CATEGORIES:Pastoral Care
ATTACH;FMTTYPE=image/jpeg:https://www.fairlawnchurch.ca/wp-content/uploads/2021/11/church-people-clip-art-614926.jpg
ORGANIZER;CN="Pastoral Care":MAILTO:pastoralcare@fairlawnavenueunited.ca
END:VEVENT
BEGIN:VEVENT
DTSTART;TZID=America/Toronto:20250115T190000
DTEND;TZID=America/Toronto:20250115T203000
DTSTAMP:20260423T155336
CREATED:20250104T053826Z
LAST-MODIFIED:20260316T144213Z
UID:56934-1736967600-1736973000@www.fairlawnchurch.ca
SUMMARY:Pastoral Visitation Team Meeting
DESCRIPTION:Pastoral Visitation Team Meeting \nOur pastoral visitation ministry provides support and compassion for those who may occasionally experience difficulty in their lives and supports our senior members when they can no longer regularly attend church. We send cards and flowers and keep them connected to Fairlawn through phone calls and personal visits.  \nIf you have any questions or would like to be involved in this ministry\, please contact Kathy Salisbury or Elaine Pitts at pastoralcare@fairlawnavenueunited.ca.
URL:https://www.fairlawnchurch.ca/events/zoom-pastoral-visitation-team-meeting/2025-01-15/
LOCATION:Online
CATEGORIES:Pastoral Care
ATTACH;FMTTYPE=image/jpeg:https://www.fairlawnchurch.ca/wp-content/uploads/2021/11/church-people-clip-art-614926.jpg
ORGANIZER;CN="Pastoral Care":MAILTO:pastoralcare@fairlawnavenueunited.ca
END:VEVENT
END:VCALENDAR