BEGIN:VCALENDAR
VERSION:2.0
PRODID:-//Fairlawn Avenue United Church - ECPv6.15.20//NONSGML v1.0//EN
CALSCALE:GREGORIAN
METHOD:PUBLISH
X-ORIGINAL-URL:https://www.fairlawnchurch.ca
X-WR-CALDESC:Events for Fairlawn Avenue United Church
REFRESH-INTERVAL;VALUE=DURATION:PT1H
X-Robots-Tag:noindex
X-PUBLISHED-TTL:PT1H
BEGIN:VTIMEZONE
TZID:America/Toronto
BEGIN:DAYLIGHT
TZOFFSETFROM:-0500
TZOFFSETTO:-0400
TZNAME:EDT
DTSTART:20250309T070000
END:DAYLIGHT
BEGIN:STANDARD
TZOFFSETFROM:-0400
TZOFFSETTO:-0500
TZNAME:EST
DTSTART:20251102T060000
END:STANDARD
BEGIN:DAYLIGHT
TZOFFSETFROM:-0500
TZOFFSETTO:-0400
TZNAME:EDT
DTSTART:20260308T070000
END:DAYLIGHT
BEGIN:STANDARD
TZOFFSETFROM:-0400
TZOFFSETTO:-0500
TZNAME:EST
DTSTART:20261101T060000
END:STANDARD
BEGIN:DAYLIGHT
TZOFFSETFROM:-0500
TZOFFSETTO:-0400
TZNAME:EDT
DTSTART:20270314T070000
END:DAYLIGHT
BEGIN:STANDARD
TZOFFSETFROM:-0400
TZOFFSETTO:-0500
TZNAME:EST
DTSTART:20271107T060000
END:STANDARD
END:VTIMEZONE
BEGIN:VEVENT
DTSTART;TZID=America/Toronto:20260415T140000
DTEND;TZID=America/Toronto:20260415T160000
DTSTAMP:20260423T145402
CREATED:20260104T051010Z
LAST-MODIFIED:20260104T051010Z
UID:60708-1776261600-1776268800@www.fairlawnchurch.ca
SUMMARY:Book Sorting - Volunteers
DESCRIPTION:Weekly Book Sorting of the donations received for Fairlawn’s 63rd Annual Book Sale. \nIf you would like to volunteer\, or find out more about what is involved\, contact coordinators Kathy and Tom Salisbury\, at booksale@fairlawnavenueunited.ca.
URL:https://www.fairlawnchurch.ca/events/book-sorting-volunteers/2026-04-15/
LOCATION:Fairlawn Avenue United Church\, 28 Fairlawn Avenue\, Toronto\, Toronto\, M5M 1S7\, Canada
CATEGORIES:Book Sale,Experience Belonging
ATTACH;FMTTYPE=image/png:https://www.fairlawnchurch.ca/wp-content/uploads/2025/01/Volunteer-Book-Sorting.png
ORGANIZER;CN="Book Sale":MAILTO:booksale@fairlawnavenueunited.ca
END:VEVENT
BEGIN:VEVENT
DTSTART;TZID=America/Toronto:20260408T140000
DTEND;TZID=America/Toronto:20260408T160000
DTSTAMP:20260423T145402
CREATED:20260104T051009Z
LAST-MODIFIED:20260104T051009Z
UID:60707-1775656800-1775664000@www.fairlawnchurch.ca
SUMMARY:Book Sorting - Volunteers
DESCRIPTION:Weekly Book Sorting of the donations received for Fairlawn’s 63rd Annual Book Sale. \nIf you would like to volunteer\, or find out more about what is involved\, contact coordinators Kathy and Tom Salisbury\, at booksale@fairlawnavenueunited.ca.
URL:https://www.fairlawnchurch.ca/events/book-sorting-volunteers/2026-04-08/
LOCATION:Fairlawn Avenue United Church\, 28 Fairlawn Avenue\, Toronto\, Toronto\, M5M 1S7\, Canada
CATEGORIES:Book Sale,Experience Belonging
ATTACH;FMTTYPE=image/png:https://www.fairlawnchurch.ca/wp-content/uploads/2025/01/Volunteer-Book-Sorting.png
ORGANIZER;CN="Book Sale":MAILTO:booksale@fairlawnavenueunited.ca
END:VEVENT
BEGIN:VEVENT
DTSTART;TZID=America/Toronto:20260401T140000
DTEND;TZID=America/Toronto:20260401T160000
DTSTAMP:20260423T145402
CREATED:20260104T051009Z
LAST-MODIFIED:20260104T051009Z
UID:60706-1775052000-1775059200@www.fairlawnchurch.ca
SUMMARY:Book Sorting - Volunteers
DESCRIPTION:Weekly Book Sorting of the donations received for Fairlawn’s 63rd Annual Book Sale. \nIf you would like to volunteer\, or find out more about what is involved\, contact coordinators Kathy and Tom Salisbury\, at booksale@fairlawnavenueunited.ca.
URL:https://www.fairlawnchurch.ca/events/book-sorting-volunteers/2026-04-01/
LOCATION:Fairlawn Avenue United Church\, 28 Fairlawn Avenue\, Toronto\, Toronto\, M5M 1S7\, Canada
CATEGORIES:Book Sale,Experience Belonging
ATTACH;FMTTYPE=image/png:https://www.fairlawnchurch.ca/wp-content/uploads/2025/01/Volunteer-Book-Sorting.png
ORGANIZER;CN="Book Sale":MAILTO:booksale@fairlawnavenueunited.ca
END:VEVENT
BEGIN:VEVENT
DTSTART;TZID=America/Toronto:20260325T140000
DTEND;TZID=America/Toronto:20260325T160000
DTSTAMP:20260423T145402
CREATED:20260104T051008Z
LAST-MODIFIED:20260104T051008Z
UID:60705-1774447200-1774454400@www.fairlawnchurch.ca
SUMMARY:Book Sorting - Volunteers
DESCRIPTION:Weekly Book Sorting of the donations received for Fairlawn’s 63rd Annual Book Sale. \nIf you would like to volunteer\, or find out more about what is involved\, contact coordinators Kathy and Tom Salisbury\, at booksale@fairlawnavenueunited.ca.
URL:https://www.fairlawnchurch.ca/events/book-sorting-volunteers/2026-03-25/
LOCATION:Fairlawn Avenue United Church\, 28 Fairlawn Avenue\, Toronto\, Toronto\, M5M 1S7\, Canada
CATEGORIES:Book Sale,Experience Belonging
ATTACH;FMTTYPE=image/png:https://www.fairlawnchurch.ca/wp-content/uploads/2025/01/Volunteer-Book-Sorting.png
ORGANIZER;CN="Book Sale":MAILTO:booksale@fairlawnavenueunited.ca
END:VEVENT
BEGIN:VEVENT
DTSTART;TZID=America/Toronto:20260318T140000
DTEND;TZID=America/Toronto:20260318T160000
DTSTAMP:20260423T145402
CREATED:20260104T051002Z
LAST-MODIFIED:20260104T051002Z
UID:60703-1773842400-1773849600@www.fairlawnchurch.ca
SUMMARY:Book Sorting - Volunteers
DESCRIPTION:Weekly Book Sorting of the donations received for Fairlawn’s 63rd Annual Book Sale. \nIf you would like to volunteer\, or find out more about what is involved\, contact coordinators Kathy and Tom Salisbury\, at booksale@fairlawnavenueunited.ca.
URL:https://www.fairlawnchurch.ca/events/book-sorting-volunteers/2026-03-18/
LOCATION:Fairlawn Avenue United Church\, 28 Fairlawn Avenue\, Toronto\, Toronto\, M5M 1S7\, Canada
CATEGORIES:Book Sale,Experience Belonging
ATTACH;FMTTYPE=image/png:https://www.fairlawnchurch.ca/wp-content/uploads/2025/01/Volunteer-Book-Sorting.png
ORGANIZER;CN="Book Sale":MAILTO:booksale@fairlawnavenueunited.ca
END:VEVENT
BEGIN:VEVENT
DTSTART;TZID=America/Toronto:20260311T140000
DTEND;TZID=America/Toronto:20260311T160000
DTSTAMP:20260423T145402
CREATED:20260104T051001Z
LAST-MODIFIED:20260104T051001Z
UID:60702-1773237600-1773244800@www.fairlawnchurch.ca
SUMMARY:Book Sorting - Volunteers
DESCRIPTION:Weekly Book Sorting of the donations received for Fairlawn’s 63rd Annual Book Sale. \nIf you would like to volunteer\, or find out more about what is involved\, contact coordinators Kathy and Tom Salisbury\, at booksale@fairlawnavenueunited.ca.
URL:https://www.fairlawnchurch.ca/events/book-sorting-volunteers/2026-03-11/
LOCATION:Fairlawn Avenue United Church\, 28 Fairlawn Avenue\, Toronto\, Toronto\, M5M 1S7\, Canada
CATEGORIES:Book Sale,Experience Belonging
ATTACH;FMTTYPE=image/png:https://www.fairlawnchurch.ca/wp-content/uploads/2025/01/Volunteer-Book-Sorting.png
ORGANIZER;CN="Book Sale":MAILTO:booksale@fairlawnavenueunited.ca
END:VEVENT
BEGIN:VEVENT
DTSTART;TZID=America/Toronto:20260304T140000
DTEND;TZID=America/Toronto:20260304T160000
DTSTAMP:20260423T145402
CREATED:20260104T051001Z
LAST-MODIFIED:20260104T051001Z
UID:60701-1772632800-1772640000@www.fairlawnchurch.ca
SUMMARY:Book Sorting - Volunteers
DESCRIPTION:Weekly Book Sorting of the donations received for Fairlawn’s 63rd Annual Book Sale. \nIf you would like to volunteer\, or find out more about what is involved\, contact coordinators Kathy and Tom Salisbury\, at booksale@fairlawnavenueunited.ca.
URL:https://www.fairlawnchurch.ca/events/book-sorting-volunteers/2026-03-04/
LOCATION:Fairlawn Avenue United Church\, 28 Fairlawn Avenue\, Toronto\, Toronto\, M5M 1S7\, Canada
CATEGORIES:Book Sale,Experience Belonging
ATTACH;FMTTYPE=image/png:https://www.fairlawnchurch.ca/wp-content/uploads/2025/01/Volunteer-Book-Sorting.png
ORGANIZER;CN="Book Sale":MAILTO:booksale@fairlawnavenueunited.ca
END:VEVENT
BEGIN:VEVENT
DTSTART;TZID=America/Toronto:20260225T140000
DTEND;TZID=America/Toronto:20260225T160000
DTSTAMP:20260423T145402
CREATED:20260104T051000Z
LAST-MODIFIED:20260104T051000Z
UID:60700-1772028000-1772035200@www.fairlawnchurch.ca
SUMMARY:Book Sorting - Volunteers
DESCRIPTION:Weekly Book Sorting of the donations received for Fairlawn’s 63rd Annual Book Sale. \nIf you would like to volunteer\, or find out more about what is involved\, contact coordinators Kathy and Tom Salisbury\, at booksale@fairlawnavenueunited.ca.
URL:https://www.fairlawnchurch.ca/events/book-sorting-volunteers/2026-02-25/
LOCATION:Fairlawn Avenue United Church\, 28 Fairlawn Avenue\, Toronto\, Toronto\, M5M 1S7\, Canada
CATEGORIES:Book Sale,Experience Belonging
ATTACH;FMTTYPE=image/png:https://www.fairlawnchurch.ca/wp-content/uploads/2025/01/Volunteer-Book-Sorting.png
ORGANIZER;CN="Book Sale":MAILTO:booksale@fairlawnavenueunited.ca
END:VEVENT
BEGIN:VEVENT
DTSTART;TZID=America/Toronto:20260218T140000
DTEND;TZID=America/Toronto:20260218T160000
DTSTAMP:20260423T145402
CREATED:20260104T051000Z
LAST-MODIFIED:20260104T051000Z
UID:60699-1771423200-1771430400@www.fairlawnchurch.ca
SUMMARY:Book Sorting - Volunteers
DESCRIPTION:Weekly Book Sorting of the donations received for Fairlawn’s 63rd Annual Book Sale. \nIf you would like to volunteer\, or find out more about what is involved\, contact coordinators Kathy and Tom Salisbury\, at booksale@fairlawnavenueunited.ca.
URL:https://www.fairlawnchurch.ca/events/book-sorting-volunteers/2026-02-18/
LOCATION:Fairlawn Avenue United Church\, 28 Fairlawn Avenue\, Toronto\, Toronto\, M5M 1S7\, Canada
CATEGORIES:Book Sale,Experience Belonging
ATTACH;FMTTYPE=image/png:https://www.fairlawnchurch.ca/wp-content/uploads/2025/01/Volunteer-Book-Sorting.png
ORGANIZER;CN="Book Sale":MAILTO:booksale@fairlawnavenueunited.ca
END:VEVENT
BEGIN:VEVENT
DTSTART;TZID=America/Toronto:20260211T140000
DTEND;TZID=America/Toronto:20260211T160000
DTSTAMP:20260423T145402
CREATED:20260104T051000Z
LAST-MODIFIED:20260104T051000Z
UID:60698-1770818400-1770825600@www.fairlawnchurch.ca
SUMMARY:Book Sorting - Volunteers
DESCRIPTION:Weekly Book Sorting of the donations received for Fairlawn’s 63rd Annual Book Sale. \nIf you would like to volunteer\, or find out more about what is involved\, contact coordinators Kathy and Tom Salisbury\, at booksale@fairlawnavenueunited.ca.
URL:https://www.fairlawnchurch.ca/events/book-sorting-volunteers/2026-02-11/
LOCATION:Fairlawn Avenue United Church\, 28 Fairlawn Avenue\, Toronto\, Toronto\, M5M 1S7\, Canada
CATEGORIES:Book Sale,Experience Belonging
ATTACH;FMTTYPE=image/png:https://www.fairlawnchurch.ca/wp-content/uploads/2025/01/Volunteer-Book-Sorting.png
ORGANIZER;CN="Book Sale":MAILTO:booksale@fairlawnavenueunited.ca
END:VEVENT
BEGIN:VEVENT
DTSTART;TZID=America/Toronto:20260204T140000
DTEND;TZID=America/Toronto:20260204T160000
DTSTAMP:20260423T145402
CREATED:20260104T050959Z
LAST-MODIFIED:20260104T050959Z
UID:60697-1770213600-1770220800@www.fairlawnchurch.ca
SUMMARY:Book Sorting - Volunteers
DESCRIPTION:Weekly Book Sorting of the donations received for Fairlawn’s 63rd Annual Book Sale. \nIf you would like to volunteer\, or find out more about what is involved\, contact coordinators Kathy and Tom Salisbury\, at booksale@fairlawnavenueunited.ca.
URL:https://www.fairlawnchurch.ca/events/book-sorting-volunteers/2026-02-04/
LOCATION:Fairlawn Avenue United Church\, 28 Fairlawn Avenue\, Toronto\, Toronto\, M5M 1S7\, Canada
CATEGORIES:Book Sale,Experience Belonging
ATTACH;FMTTYPE=image/png:https://www.fairlawnchurch.ca/wp-content/uploads/2025/01/Volunteer-Book-Sorting.png
ORGANIZER;CN="Book Sale":MAILTO:booksale@fairlawnavenueunited.ca
END:VEVENT
BEGIN:VEVENT
DTSTART;TZID=America/Toronto:20260128T140000
DTEND;TZID=America/Toronto:20260128T160000
DTSTAMP:20260423T145402
CREATED:20260104T050959Z
LAST-MODIFIED:20260104T050959Z
UID:60696-1769608800-1769616000@www.fairlawnchurch.ca
SUMMARY:Book Sorting - Volunteers
DESCRIPTION:Weekly Book Sorting of the donations received for Fairlawn’s 63rd Annual Book Sale. \nIf you would like to volunteer\, or find out more about what is involved\, contact coordinators Kathy and Tom Salisbury\, at booksale@fairlawnavenueunited.ca.
URL:https://www.fairlawnchurch.ca/events/book-sorting-volunteers/2026-01-28/
LOCATION:Fairlawn Avenue United Church\, 28 Fairlawn Avenue\, Toronto\, Toronto\, M5M 1S7\, Canada
CATEGORIES:Book Sale,Experience Belonging
ATTACH;FMTTYPE=image/png:https://www.fairlawnchurch.ca/wp-content/uploads/2025/01/Volunteer-Book-Sorting.png
ORGANIZER;CN="Book Sale":MAILTO:booksale@fairlawnavenueunited.ca
END:VEVENT
BEGIN:VEVENT
DTSTART;TZID=America/Toronto:20260121T140000
DTEND;TZID=America/Toronto:20260121T160000
DTSTAMP:20260423T145402
CREATED:20260104T050958Z
LAST-MODIFIED:20260104T050958Z
UID:60695-1769004000-1769011200@www.fairlawnchurch.ca
SUMMARY:Book Sorting - Volunteers
DESCRIPTION:Weekly Book Sorting of the donations received for Fairlawn’s 63rd Annual Book Sale. \nIf you would like to volunteer\, or find out more about what is involved\, contact coordinators Kathy and Tom Salisbury\, at booksale@fairlawnavenueunited.ca.
URL:https://www.fairlawnchurch.ca/events/book-sorting-volunteers/2026-01-21/
LOCATION:Fairlawn Avenue United Church\, 28 Fairlawn Avenue\, Toronto\, Toronto\, M5M 1S7\, Canada
CATEGORIES:Book Sale,Experience Belonging
ATTACH;FMTTYPE=image/png:https://www.fairlawnchurch.ca/wp-content/uploads/2025/01/Volunteer-Book-Sorting.png
ORGANIZER;CN="Book Sale":MAILTO:booksale@fairlawnavenueunited.ca
END:VEVENT
BEGIN:VEVENT
DTSTART;TZID=America/Toronto:20260114T140000
DTEND;TZID=America/Toronto:20260114T160000
DTSTAMP:20260423T145402
CREATED:20260104T050958Z
LAST-MODIFIED:20260104T050958Z
UID:60694-1768399200-1768406400@www.fairlawnchurch.ca
SUMMARY:Book Sorting - Volunteers
DESCRIPTION:Weekly Book Sorting of the donations received for Fairlawn’s 63rd Annual Book Sale. \nIf you would like to volunteer\, or find out more about what is involved\, contact coordinators Kathy and Tom Salisbury\, at booksale@fairlawnavenueunited.ca.
URL:https://www.fairlawnchurch.ca/events/book-sorting-volunteers/2026-01-14/
LOCATION:Fairlawn Avenue United Church\, 28 Fairlawn Avenue\, Toronto\, Toronto\, M5M 1S7\, Canada
CATEGORIES:Book Sale,Experience Belonging
ATTACH;FMTTYPE=image/png:https://www.fairlawnchurch.ca/wp-content/uploads/2025/01/Volunteer-Book-Sorting.png
ORGANIZER;CN="Book Sale":MAILTO:booksale@fairlawnavenueunited.ca
END:VEVENT
BEGIN:VEVENT
DTSTART;TZID=America/Toronto:20260107T140000
DTEND;TZID=America/Toronto:20260107T160000
DTSTAMP:20260423T145402
CREATED:20260104T050951Z
LAST-MODIFIED:20260104T050958Z
UID:60693-1767794400-1767801600@www.fairlawnchurch.ca
SUMMARY:Book Sorting - Volunteers
DESCRIPTION:Weekly Book Sorting of the donations received for Fairlawn’s 63rd Annual Book Sale. \nIf you would like to volunteer\, or find out more about what is involved\, contact coordinators Kathy and Tom Salisbury\, at booksale@fairlawnavenueunited.ca.
URL:https://www.fairlawnchurch.ca/events/book-sorting-volunteers/2026-01-07/
LOCATION:Fairlawn Avenue United Church\, 28 Fairlawn Avenue\, Toronto\, Toronto\, M5M 1S7\, Canada
CATEGORIES:Book Sale,Experience Belonging
ATTACH;FMTTYPE=image/png:https://www.fairlawnchurch.ca/wp-content/uploads/2025/01/Volunteer-Book-Sorting.png
ORGANIZER;CN="Book Sale":MAILTO:booksale@fairlawnavenueunited.ca
END:VEVENT
END:VCALENDAR