BEGIN:VCALENDAR
VERSION:2.0
PRODID:-//Fairlawn Avenue United Church - ECPv6.15.20//NONSGML v1.0//EN
CALSCALE:GREGORIAN
METHOD:PUBLISH
X-WR-CALNAME:Fairlawn Avenue United Church
X-ORIGINAL-URL:https://www.fairlawnchurch.ca
X-WR-CALDESC:Events for Fairlawn Avenue United Church
REFRESH-INTERVAL;VALUE=DURATION:PT1H
X-Robots-Tag:noindex
X-PUBLISHED-TTL:PT1H
BEGIN:VTIMEZONE
TZID:America/Toronto
BEGIN:DAYLIGHT
TZOFFSETFROM:-0500
TZOFFSETTO:-0400
TZNAME:EDT
DTSTART:20250309T070000
END:DAYLIGHT
BEGIN:STANDARD
TZOFFSETFROM:-0400
TZOFFSETTO:-0500
TZNAME:EST
DTSTART:20251102T060000
END:STANDARD
BEGIN:DAYLIGHT
TZOFFSETFROM:-0500
TZOFFSETTO:-0400
TZNAME:EDT
DTSTART:20260308T070000
END:DAYLIGHT
BEGIN:STANDARD
TZOFFSETFROM:-0400
TZOFFSETTO:-0500
TZNAME:EST
DTSTART:20261101T060000
END:STANDARD
BEGIN:DAYLIGHT
TZOFFSETFROM:-0500
TZOFFSETTO:-0400
TZNAME:EDT
DTSTART:20270314T070000
END:DAYLIGHT
BEGIN:STANDARD
TZOFFSETFROM:-0400
TZOFFSETTO:-0500
TZNAME:EST
DTSTART:20271107T060000
END:STANDARD
END:VTIMEZONE
BEGIN:VEVENT
DTSTART;TZID=America/Toronto:20260622T103000
DTEND;TZID=America/Toronto:20260622T113000
DTSTAMP:20260423T141502
CREATED:20240715T041552Z
LAST-MODIFIED:20250917T172825Z
UID:59344-1782124200-1782127800@www.fairlawnchurch.ca
SUMMARY:Breast Friends - Cancer Suport Group
DESCRIPTION:Breast Friends – Cancer Support Group\n\n\n\n\nWomen who have breast cancer\, or have survived it\, meet the fourth Monday of the month (September – June) on Zoom from 10:30am to 11:30am for information sharing\, encouragement\, fitness ideas and some fun social events. The group provides a supportive environment with women who understand this journey. It is open to anyone from the church or community who would like to join. \nIf interested\, please contact:  bcsupport@fairlawnavenueunited.ca
URL:https://www.fairlawnchurch.ca/events/breast-friends-cancer-suport-group-2024-05-27/2026-06-22/
LOCATION:Online
CATEGORIES:Cancer Support,Experience Belonging
ATTACH;FMTTYPE=image/jpeg:https://www.fairlawnchurch.ca/wp-content/uploads/2014/11/breast-cancer-support.jpg
ORGANIZER;CN="Experience Belonging":MAILTO:eb@fairlawnavenueunited.ca
END:VEVENT
BEGIN:VEVENT
DTSTART;TZID=America/Toronto:20260625T093000
DTEND;TZID=America/Toronto:20260625T113000
DTSTAMP:20260423T141502
CREATED:20260105T034645Z
LAST-MODIFIED:20260105T034728Z
UID:60749-1782379800-1782387000@www.fairlawnchurch.ca
SUMMARY:Fairlawn Quilters
DESCRIPTION:Interested in Quilting and the social aspect of a weekly gathering among friends? The Fairlawn Quilters meet on-site weekly (Sept – June) in the Bessie Barber Room on Thursday mornings from 9:30am – 11:30am. If interested\, please reach out to quilters@fairlawnavenueunited.ca. \n 
URL:https://www.fairlawnchurch.ca/events/fairlawn-quilters-4/2026-06-25/
LOCATION:Fairlawn Avenue United Church\, 28 Fairlawn Avenue\, Toronto\, Toronto\, M5M 1S7\, Canada
CATEGORIES:Experience Belonging,Quilting
ATTACH;FMTTYPE=image/jpeg:https://www.fairlawnchurch.ca/wp-content/uploads/2026/01/Fairlawn-Quilters.jpg
ORGANIZER;CN="Experience Belonging":MAILTO:eb@fairlawnavenueunited.ca
END:VEVENT
BEGIN:VEVENT
DTSTART;TZID=America/Toronto:20260720T193000
DTEND;TZID=America/Toronto:20260720T210000
DTSTAMP:20260423T141502
CREATED:20240420T013409Z
LAST-MODIFIED:20240420T013409Z
UID:61634-1784575800-1784581200@www.fairlawnchurch.ca
SUMMARY:Broadview Discussion Group
DESCRIPTION:2026 Schedule and Zoom Login \nAll readers of the print and online editions are welcome. \nJoin us online for review and discussion of articles and features from the current issue of Broadview Magazine.
URL:https://www.fairlawnchurch.ca/events/broadview-discussion-group-5/2026-07-20/
LOCATION:Online
CATEGORIES:Experience Belonging
ATTACH;FMTTYPE=image/png:https://www.fairlawnchurch.ca/wp-content/uploads/2023/01/Broadview.png
ORGANIZER;CN="Experience Belonging":MAILTO:eb@fairlawnavenueunited.ca
END:VEVENT
BEGIN:VEVENT
DTSTART;TZID=America/Toronto:20260921T193000
DTEND;TZID=America/Toronto:20260921T210000
DTSTAMP:20260423T141502
CREATED:20240420T013409Z
LAST-MODIFIED:20240420T013409Z
UID:61635-1790019000-1790024400@www.fairlawnchurch.ca
SUMMARY:Broadview Discussion Group
DESCRIPTION:2026 Schedule and Zoom Login \nAll readers of the print and online editions are welcome. \nJoin us online for review and discussion of articles and features from the current issue of Broadview Magazine.
URL:https://www.fairlawnchurch.ca/events/broadview-discussion-group-5/2026-09-21/
LOCATION:Online
CATEGORIES:Experience Belonging
ATTACH;FMTTYPE=image/png:https://www.fairlawnchurch.ca/wp-content/uploads/2023/01/Broadview.png
ORGANIZER;CN="Experience Belonging":MAILTO:eb@fairlawnavenueunited.ca
END:VEVENT
BEGIN:VEVENT
DTSTART;TZID=America/Toronto:20261123T193000
DTEND;TZID=America/Toronto:20261123T210000
DTSTAMP:20260423T141502
CREATED:20240420T013409Z
LAST-MODIFIED:20240420T013409Z
UID:61636-1795462200-1795467600@www.fairlawnchurch.ca
SUMMARY:Broadview Discussion Group
DESCRIPTION:2026 Schedule and Zoom Login \nAll readers of the print and online editions are welcome. \nJoin us online for review and discussion of articles and features from the current issue of Broadview Magazine.
URL:https://www.fairlawnchurch.ca/events/broadview-discussion-group-5/2026-11-23/
LOCATION:Online
CATEGORIES:Experience Belonging
ATTACH;FMTTYPE=image/png:https://www.fairlawnchurch.ca/wp-content/uploads/2023/01/Broadview.png
ORGANIZER;CN="Experience Belonging":MAILTO:eb@fairlawnavenueunited.ca
END:VEVENT
END:VCALENDAR