BEGIN:VCALENDAR
VERSION:2.0
PRODID:-//Fairlawn Avenue United Church - ECPv6.15.20//NONSGML v1.0//EN
CALSCALE:GREGORIAN
METHOD:PUBLISH
X-WR-CALNAME:Fairlawn Avenue United Church
X-ORIGINAL-URL:https://www.fairlawnchurch.ca
X-WR-CALDESC:Events for Fairlawn Avenue United Church
REFRESH-INTERVAL;VALUE=DURATION:PT1H
X-Robots-Tag:noindex
X-PUBLISHED-TTL:PT1H
BEGIN:VTIMEZONE
TZID:America/Toronto
BEGIN:DAYLIGHT
TZOFFSETFROM:-0500
TZOFFSETTO:-0400
TZNAME:EDT
DTSTART:20220313T070000
END:DAYLIGHT
BEGIN:STANDARD
TZOFFSETFROM:-0400
TZOFFSETTO:-0500
TZNAME:EST
DTSTART:20221106T060000
END:STANDARD
BEGIN:DAYLIGHT
TZOFFSETFROM:-0500
TZOFFSETTO:-0400
TZNAME:EDT
DTSTART:20230312T070000
END:DAYLIGHT
BEGIN:STANDARD
TZOFFSETFROM:-0400
TZOFFSETTO:-0500
TZNAME:EST
DTSTART:20231105T060000
END:STANDARD
BEGIN:DAYLIGHT
TZOFFSETFROM:-0500
TZOFFSETTO:-0400
TZNAME:EDT
DTSTART:20240310T070000
END:DAYLIGHT
BEGIN:STANDARD
TZOFFSETFROM:-0400
TZOFFSETTO:-0500
TZNAME:EST
DTSTART:20241103T060000
END:STANDARD
END:VTIMEZONE
BEGIN:VEVENT
DTSTART;TZID=America/Toronto:20231217T190000
DTEND;TZID=America/Toronto:20231217T200000
DTSTAMP:20260423T194656
CREATED:20231117T195227Z
LAST-MODIFIED:20231117T195657Z
UID:50768-1702839600-1702843200@www.fairlawnchurch.ca
SUMMARY:Lessons & Carols
DESCRIPTION:
URL:https://www.fairlawnchurch.ca/events/lessons-carols-2/
LOCATION:Fairlawn Avenue United Church\, 28 Fairlawn Avenue\, Toronto\, Toronto\, M5M 1S7\, Canada
CATEGORIES:Explore Spirituality,Music
ATTACH;FMTTYPE=image/png:https://www.fairlawnchurch.ca/wp-content/uploads/2023/11/Bulletin-Cover-Lessons-Carols-e1700250695191.png
ORGANIZER;CN="Music":MAILTO:eleanor@fairlawnavenueunited.ca
END:VEVENT
BEGIN:VEVENT
DTSTART;TZID=America/Toronto:20231210T103000
DTEND;TZID=America/Toronto:20231210T120000
DTSTAMP:20260423T194656
CREATED:20231117T205333Z
LAST-MODIFIED:20231207T190713Z
UID:50787-1702204200-1702209600@www.fairlawnchurch.ca
SUMMARY:Special Music Sunday ~ Advent II
DESCRIPTION:Worship with Fairlawn this Advent and Christmas season. \nSpecial Music Sunday ~ featuring Daniel Pinkham’s Christmas Cantata with brass and organ. \nCoffee Hours follows in the sanctuary ~ bring your own mug! \nIf you’d like to revisit any of our online worship services\, please visit our website worship page or YouTube channel.
URL:https://www.fairlawnchurch.ca/events/special-music-sunday-advent-ii/
LOCATION:Fairlawn Avenue United Church\, 28 Fairlawn Avenue\, Toronto\, Toronto\, M5M 1S7\, Canada
CATEGORIES:Explore Spirituality,Music
ATTACH;FMTTYPE=image/png:https://www.fairlawnchurch.ca/wp-content/uploads/2023/11/FAUC-Special-Music-Dec1023.png
ORGANIZER;CN="Music":MAILTO:eleanor@fairlawnavenueunited.ca
END:VEVENT
BEGIN:VEVENT
DTSTART;TZID=America/Toronto:20231129T090000
DTEND;TZID=America/Toronto:20231129T120000
DTSTAMP:20260423T194656
CREATED:20231106T195936Z
LAST-MODIFIED:20231106T200151Z
UID:50588-1701248400-1701259200@www.fairlawnchurch.ca
SUMMARY:Organ Tuning
DESCRIPTION:Scheduled Organ Tunig
URL:https://www.fairlawnchurch.ca/events/organ-tuning/
LOCATION:Fairlawn Avenue United Church\, 28 Fairlawn Avenue\, Toronto\, Toronto\, M5M 1S7\, Canada
CATEGORIES:Music
ATTACH;FMTTYPE=image/jpeg:https://www.fairlawnchurch.ca/wp-content/uploads/2023/03/organ-tuning.jpeg
ORGANIZER;CN="Music":MAILTO:eleanor@fairlawnavenueunited.ca
END:VEVENT
BEGIN:VEVENT
DTSTART;TZID=America/Toronto:20231102T191500
DTEND;TZID=America/Toronto:20231102T210000
DTSTAMP:20260423T194656
CREATED:20231228T051518Z
LAST-MODIFIED:20240605T152135Z
UID:50500-1698952500-1698958800@www.fairlawnchurch.ca
SUMMARY:Senior Choir Practice
DESCRIPTION:The Senior Choir of Fairlawn Avenue United Church is an auditioned group of approximately 35 members\, including an 8-member professional core. \nThe Seniors sing every Sunday from September through June at the 10:30am worship service\, and are responsible for an introit\, two anthems and all other service music. \nThe Senior Choir practice weekly on Thursday evenings at 7:15pm – 9:00pm in the Sanctuary.
URL:https://www.fairlawnchurch.ca/events/senior-choir-practice/2023-11-02/
LOCATION:Fairlawn Avenue United Church\, 28 Fairlawn Avenue\, Toronto\, Toronto\, M5M 1S7\, Canada
CATEGORIES:Choir,Explore Spirituality,Music
ATTACH;FMTTYPE=image/jpeg:https://www.fairlawnchurch.ca/wp-content/uploads/2023/11/Choir.jpg
ORGANIZER;CN="Music":MAILTO:eleanor@fairlawnavenueunited.ca
END:VEVENT
BEGIN:VEVENT
DTSTART;TZID=America/Toronto:20231005T191500
DTEND;TZID=America/Toronto:20231005T211500
DTSTAMP:20260423T194656
CREATED:20230930T041519Z
LAST-MODIFIED:20230930T204449Z
UID:49851-1696533300-1696540500@www.fairlawnchurch.ca
SUMMARY:Senior Choir
DESCRIPTION:The Senior Choir of Fairlawn Avenue United Church is an auditioned group of approximately 35 members\, including an 8-member professional core. \nThe Seniors sing every Sunday from September through June at the 10:30am worship service\, and are responsible for an introit\, two anthems and all other service music. \nThe Senior Choir practice weekly on Thursday evenings at 7:15pm – 9:00pm in the Sanctuary.
URL:https://www.fairlawnchurch.ca/events/senior-choir/2023-10-05/
LOCATION:Fairlawn Avenue United Church\, 28 Fairlawn Avenue\, Toronto\, Toronto\, M5M 1S7\, Canada
CATEGORIES:Explore Spirituality,Music
ATTACH;FMTTYPE=image/jpeg:https://www.fairlawnchurch.ca/wp-content/uploads/2012/01/0H3D1wPgrjoWWo6SMtR8RyFrsStI6-tIsEE0NnV_pdE.jpg
ORGANIZER;CN="Music":MAILTO:eleanor@fairlawnavenueunited.ca
END:VEVENT
BEGIN:VEVENT
DTSTART;TZID=America/Toronto:20230624T140000
DTEND;TZID=America/Toronto:20230624T170000
DTSTAMP:20260423T194656
CREATED:20230607T175548Z
LAST-MODIFIED:20230620T002029Z
UID:48603-1687615200-1687626000@www.fairlawnchurch.ca
SUMMARY:Piano Tuning - Assembly Hall
DESCRIPTION:Steinway Piano Tuning \nLeela Khurana \n647-210-3346 \nleelakhurana@gmail.com
URL:https://www.fairlawnchurch.ca/events/piano-tuning-assembly-hall/
LOCATION:Fairlawn Avenue United Church\, 28 Fairlawn Avenue\, Toronto\, Toronto\, M5M 1S7\, Canada
CATEGORIES:Music
ORGANIZER;CN="Music":MAILTO:eleanor@fairlawnavenueunited.ca
END:VEVENT
BEGIN:VEVENT
DTSTART;TZID=America/Toronto:20230423T103000
DTEND;TZID=America/Toronto:20230423T120000
DTSTAMP:20260423T194656
CREATED:20230319T184917Z
LAST-MODIFIED:20230330T200752Z
UID:47916-1682245800-1682251200@www.fairlawnchurch.ca
SUMMARY:Special Music
DESCRIPTION:Canadian premiere of Te Deum by Dan Forrest. \nPresented by Eleanor Daley\, Director of Music and the Fairlawn Senior Choir with guest choristers and Chamber Orchestra. \n  \n 
URL:https://www.fairlawnchurch.ca/events/special-music-april-2023/
LOCATION:Fairlawn Avenue United Church\, 28 Fairlawn Avenue\, Toronto\, Toronto\, M5M 1S7\, Canada
CATEGORIES:Explore Spirituality,Music
ATTACH;FMTTYPE=image/png:https://www.fairlawnchurch.ca/wp-content/uploads/2023/03/Special-Music.png
ORGANIZER;CN="Music":MAILTO:eleanor@fairlawnavenueunited.ca
END:VEVENT
BEGIN:VEVENT
DTSTART;TZID=America/Toronto:20230422T090000
DTEND;TZID=America/Toronto:20230422T150000
DTSTAMP:20260423T194656
CREATED:20230419T162039Z
LAST-MODIFIED:20230419T162039Z
UID:48197-1682154000-1682175600@www.fairlawnchurch.ca
SUMMARY:Special Music ~ Rehearsal
DESCRIPTION:
URL:https://www.fairlawnchurch.ca/events/special-music-rehearsal/
LOCATION:Fairlawn Avenue United Church\, 28 Fairlawn Avenue\, Toronto\, Toronto\, M5M 1S7\, Canada
CATEGORIES:Music
ATTACH;FMTTYPE=image/jpeg:https://www.fairlawnchurch.ca/wp-content/uploads/2014/02/choir_eleanor_conducting.jpg
ORGANIZER;CN="Music":MAILTO:eleanor@fairlawnavenueunited.ca
END:VEVENT
END:VCALENDAR