BEGIN:VCALENDAR
VERSION:2.0
PRODID:-//Fairlawn Avenue United Church - ECPv6.15.20//NONSGML v1.0//EN
CALSCALE:GREGORIAN
METHOD:PUBLISH
X-WR-CALNAME:Fairlawn Avenue United Church
X-ORIGINAL-URL:https://www.fairlawnchurch.ca
X-WR-CALDESC:Events for Fairlawn Avenue United Church
REFRESH-INTERVAL;VALUE=DURATION:PT1H
X-Robots-Tag:noindex
X-PUBLISHED-TTL:PT1H
BEGIN:VTIMEZONE
TZID:America/Toronto
BEGIN:DAYLIGHT
TZOFFSETFROM:-0500
TZOFFSETTO:-0400
TZNAME:EDT
DTSTART:20250309T070000
END:DAYLIGHT
BEGIN:STANDARD
TZOFFSETFROM:-0400
TZOFFSETTO:-0500
TZNAME:EST
DTSTART:20251102T060000
END:STANDARD
BEGIN:DAYLIGHT
TZOFFSETFROM:-0500
TZOFFSETTO:-0400
TZNAME:EDT
DTSTART:20260308T070000
END:DAYLIGHT
BEGIN:STANDARD
TZOFFSETFROM:-0400
TZOFFSETTO:-0500
TZNAME:EST
DTSTART:20261101T060000
END:STANDARD
BEGIN:DAYLIGHT
TZOFFSETFROM:-0500
TZOFFSETTO:-0400
TZNAME:EDT
DTSTART:20270314T070000
END:DAYLIGHT
BEGIN:STANDARD
TZOFFSETFROM:-0400
TZOFFSETTO:-0500
TZNAME:EST
DTSTART:20271107T060000
END:STANDARD
END:VTIMEZONE
BEGIN:VEVENT
DTSTART;TZID=America/Toronto:20260422T193000
DTEND;TZID=America/Toronto:20260422T210000
DTSTAMP:20260423T164820
CREATED:20240728T052743Z
LAST-MODIFIED:20251230T235251Z
UID:60654-1776886200-1776891600@www.fairlawnchurch.ca
SUMMARY:Christian Meditation
DESCRIPTION:Wednesdays at 7:30pm to 9:00pm\, we gather online for Christian Meditation. \nThis group is open to anyone who is interested in Meditation at any level\, or are curious. All are welcome. \nPlease email moderator\, Patrick Sullivan\, at christianmeditation@fairlawnavenueunited.ca to receive the Zoom login details.
URL:https://www.fairlawnchurch.ca/events/christian-meditation-2/2026-04-22/
LOCATION:Online
CATEGORIES:Explore Spirituality,Meditation
ATTACH;FMTTYPE=image/jpeg:https://www.fairlawnchurch.ca/wp-content/uploads/2019/08/christian-meditation.jpg
ORGANIZER;CN="Explore Spirituality":MAILTO:es@fairlawnavenueunited.ca
END:VEVENT
BEGIN:VEVENT
DTSTART;TZID=America/Toronto:20260415T193000
DTEND;TZID=America/Toronto:20260415T210000
DTSTAMP:20260423T164820
CREATED:20240728T052743Z
LAST-MODIFIED:20251230T235250Z
UID:60653-1776281400-1776286800@www.fairlawnchurch.ca
SUMMARY:Christian Meditation
DESCRIPTION:Wednesdays at 7:30pm to 9:00pm\, we gather online for Christian Meditation. \nThis group is open to anyone who is interested in Meditation at any level\, or are curious. All are welcome. \nPlease email moderator\, Patrick Sullivan\, at christianmeditation@fairlawnavenueunited.ca to receive the Zoom login details.
URL:https://www.fairlawnchurch.ca/events/christian-meditation-2/2026-04-15/
LOCATION:Online
CATEGORIES:Explore Spirituality,Meditation
ATTACH;FMTTYPE=image/jpeg:https://www.fairlawnchurch.ca/wp-content/uploads/2019/08/christian-meditation.jpg
ORGANIZER;CN="Explore Spirituality":MAILTO:es@fairlawnavenueunited.ca
END:VEVENT
BEGIN:VEVENT
DTSTART;TZID=America/Toronto:20260414T170000
DTEND;TZID=America/Toronto:20260414T183000
DTSTAMP:20260423T164820
CREATED:20240715T041554Z
LAST-MODIFIED:20260126T194143Z
UID:59388-1776186000-1776191400@www.fairlawnchurch.ca
SUMMARY:Property Council Meeting
DESCRIPTION:The Property Council meet on the 2nd Tuesday of every month (September – June) from 5:00pm – 6:30pm. \nIf you have any property questions or would like to beome a member of the property council\, please contact chair Vicki Stuart at property@fairlawnavenueunited.ca
URL:https://www.fairlawnchurch.ca/events/property-council-meeting/2026-04-14/
LOCATION:Online
CATEGORIES:Property
ATTACH;FMTTYPE=image/jpeg:https://www.fairlawnchurch.ca/wp-content/uploads/2022/01/Fairlawn-Purpose-Logo-Main-Grey-e1661914323925.jpg
ORGANIZER;CN="Property Council":MAILTO:property@fairlawnavenueunited.ca
END:VEVENT
BEGIN:VEVENT
DTSTART;TZID=America/Toronto:20260408T193000
DTEND;TZID=America/Toronto:20260408T210000
DTSTAMP:20260423T164820
CREATED:20240728T052743Z
LAST-MODIFIED:20251230T235250Z
UID:60652-1775676600-1775682000@www.fairlawnchurch.ca
SUMMARY:Christian Meditation
DESCRIPTION:Wednesdays at 7:30pm to 9:00pm\, we gather online for Christian Meditation. \nThis group is open to anyone who is interested in Meditation at any level\, or are curious. All are welcome. \nPlease email moderator\, Patrick Sullivan\, at christianmeditation@fairlawnavenueunited.ca to receive the Zoom login details.
URL:https://www.fairlawnchurch.ca/events/christian-meditation-2/2026-04-08/
LOCATION:Online
CATEGORIES:Explore Spirituality,Meditation
ATTACH;FMTTYPE=image/jpeg:https://www.fairlawnchurch.ca/wp-content/uploads/2019/08/christian-meditation.jpg
ORGANIZER;CN="Explore Spirituality":MAILTO:es@fairlawnavenueunited.ca
END:VEVENT
BEGIN:VEVENT
DTSTART;TZID=America/Toronto:20260407T130000
DTEND;TZID=America/Toronto:20260407T143000
DTSTAMP:20260423T164820
CREATED:20241119T155948Z
LAST-MODIFIED:20241119T155948Z
UID:59720-1775566800-1775572200@www.fairlawnchurch.ca
SUMMARY:Women's Spirituality ~ Group I
DESCRIPTION:We have 2 women’s spirituality groups where women meet monthly to contemplate life’s questions and support each other. \nWomen’s Spirituality Group I meet online the first Tuesday of each month (October – June) from 1:00pm – 2:30pm. \nIf interested\, please reach out to es@fairlawnavenueunited.ca
URL:https://www.fairlawnchurch.ca/events/womens-spirituality-group-i-2/2026-04-07/
LOCATION:Online
CATEGORIES:Explore Spirituality,Women's Group
ATTACH;FMTTYPE=image/png:https://www.fairlawnchurch.ca/wp-content/uploads/2023/08/womens-I.png
ORGANIZER;CN="Explore Spirituality":MAILTO:es@fairlawnavenueunited.ca
END:VEVENT
BEGIN:VEVENT
DTSTART;TZID=America/Toronto:20260401T193000
DTEND;TZID=America/Toronto:20260401T210000
DTSTAMP:20260423T164820
CREATED:20240728T052743Z
LAST-MODIFIED:20251230T235250Z
UID:60651-1775071800-1775077200@www.fairlawnchurch.ca
SUMMARY:Christian Meditation
DESCRIPTION:Wednesdays at 7:30pm to 9:00pm\, we gather online for Christian Meditation. \nThis group is open to anyone who is interested in Meditation at any level\, or are curious. All are welcome. \nPlease email moderator\, Patrick Sullivan\, at christianmeditation@fairlawnavenueunited.ca to receive the Zoom login details.
URL:https://www.fairlawnchurch.ca/events/christian-meditation-2/2026-04-01/
LOCATION:Online
CATEGORIES:Explore Spirituality,Meditation
ATTACH;FMTTYPE=image/jpeg:https://www.fairlawnchurch.ca/wp-content/uploads/2019/08/christian-meditation.jpg
ORGANIZER;CN="Explore Spirituality":MAILTO:es@fairlawnavenueunited.ca
END:VEVENT
BEGIN:VEVENT
DTSTART;TZID=America/Toronto:20260325T193000
DTEND;TZID=America/Toronto:20260325T210000
DTSTAMP:20260423T164820
CREATED:20240728T052743Z
LAST-MODIFIED:20251230T235249Z
UID:60650-1774467000-1774472400@www.fairlawnchurch.ca
SUMMARY:Christian Meditation
DESCRIPTION:Wednesdays at 7:30pm to 9:00pm\, we gather online for Christian Meditation. \nThis group is open to anyone who is interested in Meditation at any level\, or are curious. All are welcome. \nPlease email moderator\, Patrick Sullivan\, at christianmeditation@fairlawnavenueunited.ca to receive the Zoom login details.
URL:https://www.fairlawnchurch.ca/events/christian-meditation-2/2026-03-25/
LOCATION:Online
CATEGORIES:Explore Spirituality,Meditation
ATTACH;FMTTYPE=image/jpeg:https://www.fairlawnchurch.ca/wp-content/uploads/2019/08/christian-meditation.jpg
ORGANIZER;CN="Explore Spirituality":MAILTO:es@fairlawnavenueunited.ca
END:VEVENT
BEGIN:VEVENT
DTSTART;TZID=America/Toronto:20260323T193000
DTEND;TZID=America/Toronto:20260323T210000
DTSTAMP:20260423T164820
CREATED:20240420T013409Z
LAST-MODIFIED:20240420T013409Z
UID:61632-1774294200-1774299600@www.fairlawnchurch.ca
SUMMARY:Broadview Discussion Group
DESCRIPTION:2026 Schedule and Zoom Login \nAll readers of the print and online editions are welcome. \nJoin us online for review and discussion of articles and features from the current issue of Broadview Magazine.
URL:https://www.fairlawnchurch.ca/events/broadview-discussion-group-5/2026-03-23/
LOCATION:Online
CATEGORIES:Experience Belonging
ATTACH;FMTTYPE=image/png:https://www.fairlawnchurch.ca/wp-content/uploads/2023/01/Broadview.png
ORGANIZER;CN="Experience Belonging":MAILTO:eb@fairlawnavenueunited.ca
END:VEVENT
BEGIN:VEVENT
DTSTART;TZID=America/Toronto:20260323T103000
DTEND;TZID=America/Toronto:20260323T113000
DTSTAMP:20260423T164820
CREATED:20240715T041552Z
LAST-MODIFIED:20250917T172822Z
UID:59340-1774261800-1774265400@www.fairlawnchurch.ca
SUMMARY:Breast Friends - Cancer Suport Group
DESCRIPTION:Breast Friends – Cancer Support Group\n\n\n\n\nWomen who have breast cancer\, or have survived it\, meet the fourth Monday of the month (September – June) on Zoom from 10:30am to 11:30am for information sharing\, encouragement\, fitness ideas and some fun social events. The group provides a supportive environment with women who understand this journey. It is open to anyone from the church or community who would like to join. \nIf interested\, please contact:  bcsupport@fairlawnavenueunited.ca
URL:https://www.fairlawnchurch.ca/events/breast-friends-cancer-suport-group-2024-05-27/2026-03-23/
LOCATION:Online
CATEGORIES:Cancer Support,Experience Belonging
ATTACH;FMTTYPE=image/jpeg:https://www.fairlawnchurch.ca/wp-content/uploads/2014/11/breast-cancer-support.jpg
ORGANIZER;CN="Experience Belonging":MAILTO:eb@fairlawnavenueunited.ca
END:VEVENT
BEGIN:VEVENT
DTSTART;TZID=America/Toronto:20260318T193000
DTEND;TZID=America/Toronto:20260318T210000
DTSTAMP:20260423T164820
CREATED:20240728T052743Z
LAST-MODIFIED:20251230T235249Z
UID:60649-1773862200-1773867600@www.fairlawnchurch.ca
SUMMARY:Christian Meditation
DESCRIPTION:Wednesdays at 7:30pm to 9:00pm\, we gather online for Christian Meditation. \nThis group is open to anyone who is interested in Meditation at any level\, or are curious. All are welcome. \nPlease email moderator\, Patrick Sullivan\, at christianmeditation@fairlawnavenueunited.ca to receive the Zoom login details.
URL:https://www.fairlawnchurch.ca/events/christian-meditation-2/2026-03-18/
LOCATION:Online
CATEGORIES:Explore Spirituality,Meditation
ATTACH;FMTTYPE=image/jpeg:https://www.fairlawnchurch.ca/wp-content/uploads/2019/08/christian-meditation.jpg
ORGANIZER;CN="Explore Spirituality":MAILTO:es@fairlawnavenueunited.ca
END:VEVENT
BEGIN:VEVENT
DTSTART;TZID=America/Toronto:20260317T170000
DTEND;TZID=America/Toronto:20260317T190000
DTSTAMP:20260423T164820
CREATED:20240715T041554Z
LAST-MODIFIED:20240715T041554Z
UID:61511-1773766800-1773774000@www.fairlawnchurch.ca
SUMMARY:Property Council Meeting
DESCRIPTION:The Property Council meet on the 2nd Tuesday of every month (September – June) from 5:00pm – 6:30pm. \nIf you have any property questions or would like to beome a member of the property council\, please contact chair Vicki Stuart at property@fairlawnavenueunited.ca
URL:https://www.fairlawnchurch.ca/events/property-council-meeting/2026-03-17/
LOCATION:Online
CATEGORIES:Property
ATTACH;FMTTYPE=image/jpeg:https://www.fairlawnchurch.ca/wp-content/uploads/2022/01/Fairlawn-Purpose-Logo-Main-Grey-e1661914323925.jpg
ORGANIZER;CN="Property Council":MAILTO:property@fairlawnavenueunited.ca
END:VEVENT
BEGIN:VEVENT
DTSTART;TZID=America/Toronto:20260317T160000
DTEND;TZID=America/Toronto:20260317T170000
DTSTAMP:20260423T164820
CREATED:20260315T205018Z
LAST-MODIFIED:20260414T160039Z
UID:61589-1773763200-1773766800@www.fairlawnchurch.ca
SUMMARY:ES Council Meeting
DESCRIPTION:The Explore Spirituality Council meet on the 3rd Tuesday of each month. \nIf you have questions about the ES Council\, worhip support or programming\, please reach out to es@fairlawnavenueunited.ca. \n  \n 
URL:https://www.fairlawnchurch.ca/events/es-council-meeting-4/2026-03-17/
LOCATION:Online
CATEGORIES:Explore Spirituality
ATTACH;FMTTYPE=image/jpeg:https://www.fairlawnchurch.ca/wp-content/uploads/2021/10/Fairlawn-Purpose-Logo-Main-ES.jpg
ORGANIZER;CN="Explore Spirituality":MAILTO:es@fairlawnavenueunited.ca
END:VEVENT
BEGIN:VEVENT
DTSTART;TZID=America/Toronto:20260317T153000
DTEND;TZID=America/Toronto:20260317T163000
DTSTAMP:20260423T164820
CREATED:20260311T200303Z
LAST-MODIFIED:20260311T200306Z
UID:61530-1773761400-1773765000@www.fairlawnchurch.ca
SUMMARY:EB Ministry Meeting
DESCRIPTION:Our United Church of Canada values remind us that “We are not alone.” We put this belief into action by offering connection and caring and a community for life. \nOur Experience Belonging Ministry Team meet quarterly online.  If you’d like more information\, please reach out to Rob Metcalf\, Chair at eb@fairlawnavenueunited.ca. \n 
URL:https://www.fairlawnchurch.ca/events/eb-ministry-meeting-2/
LOCATION:Online
ATTACH;FMTTYPE=image/jpeg:https://www.fairlawnchurch.ca/wp-content/uploads/2022/01/Fairlawn-Purpose-Logo-Main-EB-e1641827128571.jpg
ORGANIZER;CN="Experience Belonging":MAILTO:eb@fairlawnavenueunited.ca
END:VEVENT
BEGIN:VEVENT
DTSTART;TZID=America/Toronto:20260311T193000
DTEND;TZID=America/Toronto:20260311T210000
DTSTAMP:20260423T164820
CREATED:20240728T052743Z
LAST-MODIFIED:20251230T235249Z
UID:60648-1773257400-1773262800@www.fairlawnchurch.ca
SUMMARY:Christian Meditation
DESCRIPTION:Wednesdays at 7:30pm to 9:00pm\, we gather online for Christian Meditation. \nThis group is open to anyone who is interested in Meditation at any level\, or are curious. All are welcome. \nPlease email moderator\, Patrick Sullivan\, at christianmeditation@fairlawnavenueunited.ca to receive the Zoom login details.
URL:https://www.fairlawnchurch.ca/events/christian-meditation-2/2026-03-11/
LOCATION:Online
CATEGORIES:Explore Spirituality,Meditation
ATTACH;FMTTYPE=image/jpeg:https://www.fairlawnchurch.ca/wp-content/uploads/2019/08/christian-meditation.jpg
ORGANIZER;CN="Explore Spirituality":MAILTO:es@fairlawnavenueunited.ca
END:VEVENT
BEGIN:VEVENT
DTSTART;TZID=America/Toronto:20260304T193000
DTEND;TZID=America/Toronto:20260304T210000
DTSTAMP:20260423T164820
CREATED:20240728T052743Z
LAST-MODIFIED:20251230T235247Z
UID:60647-1772652600-1772658000@www.fairlawnchurch.ca
SUMMARY:Christian Meditation
DESCRIPTION:Wednesdays at 7:30pm to 9:00pm\, we gather online for Christian Meditation. \nThis group is open to anyone who is interested in Meditation at any level\, or are curious. All are welcome. \nPlease email moderator\, Patrick Sullivan\, at christianmeditation@fairlawnavenueunited.ca to receive the Zoom login details.
URL:https://www.fairlawnchurch.ca/events/christian-meditation-2/2026-03-04/
LOCATION:Online
CATEGORIES:Explore Spirituality,Meditation
ATTACH;FMTTYPE=image/jpeg:https://www.fairlawnchurch.ca/wp-content/uploads/2019/08/christian-meditation.jpg
ORGANIZER;CN="Explore Spirituality":MAILTO:es@fairlawnavenueunited.ca
END:VEVENT
BEGIN:VEVENT
DTSTART;TZID=America/Toronto:20260303T130000
DTEND;TZID=America/Toronto:20260303T143000
DTSTAMP:20260423T164820
CREATED:20241119T155948Z
LAST-MODIFIED:20241119T155948Z
UID:59719-1772542800-1772548200@www.fairlawnchurch.ca
SUMMARY:Women's Spirituality ~ Group I
DESCRIPTION:We have 2 women’s spirituality groups where women meet monthly to contemplate life’s questions and support each other. \nWomen’s Spirituality Group I meet online the first Tuesday of each month (October – June) from 1:00pm – 2:30pm. \nIf interested\, please reach out to es@fairlawnavenueunited.ca
URL:https://www.fairlawnchurch.ca/events/womens-spirituality-group-i-2/2026-03-03/
LOCATION:Online
CATEGORIES:Explore Spirituality,Women's Group
ATTACH;FMTTYPE=image/png:https://www.fairlawnchurch.ca/wp-content/uploads/2023/08/womens-I.png
ORGANIZER;CN="Explore Spirituality":MAILTO:es@fairlawnavenueunited.ca
END:VEVENT
BEGIN:VEVENT
DTSTART;TZID=America/Toronto:20260225T193000
DTEND;TZID=America/Toronto:20260225T210000
DTSTAMP:20260423T164820
CREATED:20240728T052743Z
LAST-MODIFIED:20251230T235247Z
UID:60646-1772047800-1772053200@www.fairlawnchurch.ca
SUMMARY:Christian Meditation
DESCRIPTION:Wednesdays at 7:30pm to 9:00pm\, we gather online for Christian Meditation. \nThis group is open to anyone who is interested in Meditation at any level\, or are curious. All are welcome. \nPlease email moderator\, Patrick Sullivan\, at christianmeditation@fairlawnavenueunited.ca to receive the Zoom login details.
URL:https://www.fairlawnchurch.ca/events/christian-meditation-2/2026-02-25/
LOCATION:Online
CATEGORIES:Explore Spirituality,Meditation
ATTACH;FMTTYPE=image/jpeg:https://www.fairlawnchurch.ca/wp-content/uploads/2019/08/christian-meditation.jpg
ORGANIZER;CN="Explore Spirituality":MAILTO:es@fairlawnavenueunited.ca
END:VEVENT
BEGIN:VEVENT
DTSTART;TZID=America/Toronto:20260223T103000
DTEND;TZID=America/Toronto:20260223T113000
DTSTAMP:20260423T164820
CREATED:20240715T041552Z
LAST-MODIFIED:20250917T172822Z
UID:59339-1771842600-1771846200@www.fairlawnchurch.ca
SUMMARY:Breast Friends - Cancer Suport Group
DESCRIPTION:Breast Friends – Cancer Support Group\n\n\n\n\nWomen who have breast cancer\, or have survived it\, meet the fourth Monday of the month (September – June) on Zoom from 10:30am to 11:30am for information sharing\, encouragement\, fitness ideas and some fun social events. The group provides a supportive environment with women who understand this journey. It is open to anyone from the church or community who would like to join. \nIf interested\, please contact:  bcsupport@fairlawnavenueunited.ca
URL:https://www.fairlawnchurch.ca/events/breast-friends-cancer-suport-group-2024-05-27/2026-02-23/
LOCATION:Online
CATEGORIES:Cancer Support,Experience Belonging
ATTACH;FMTTYPE=image/jpeg:https://www.fairlawnchurch.ca/wp-content/uploads/2014/11/breast-cancer-support.jpg
ORGANIZER;CN="Experience Belonging":MAILTO:eb@fairlawnavenueunited.ca
END:VEVENT
BEGIN:VEVENT
DTSTART;TZID=America/Toronto:20260218T193000
DTEND;TZID=America/Toronto:20260218T210000
DTSTAMP:20260423T164820
CREATED:20240728T052743Z
LAST-MODIFIED:20251230T235247Z
UID:60645-1771443000-1771448400@www.fairlawnchurch.ca
SUMMARY:Christian Meditation
DESCRIPTION:Wednesdays at 7:30pm to 9:00pm\, we gather online for Christian Meditation. \nThis group is open to anyone who is interested in Meditation at any level\, or are curious. All are welcome. \nPlease email moderator\, Patrick Sullivan\, at christianmeditation@fairlawnavenueunited.ca to receive the Zoom login details.
URL:https://www.fairlawnchurch.ca/events/christian-meditation-2/2026-02-18/
LOCATION:Online
CATEGORIES:Explore Spirituality,Meditation
ATTACH;FMTTYPE=image/jpeg:https://www.fairlawnchurch.ca/wp-content/uploads/2019/08/christian-meditation.jpg
ORGANIZER;CN="Explore Spirituality":MAILTO:es@fairlawnavenueunited.ca
END:VEVENT
BEGIN:VEVENT
DTSTART;TZID=America/Toronto:20260211T193000
DTEND;TZID=America/Toronto:20260211T210000
DTSTAMP:20260423T164820
CREATED:20240728T052743Z
LAST-MODIFIED:20251230T235246Z
UID:60644-1770838200-1770843600@www.fairlawnchurch.ca
SUMMARY:Christian Meditation
DESCRIPTION:Wednesdays at 7:30pm to 9:00pm\, we gather online for Christian Meditation. \nThis group is open to anyone who is interested in Meditation at any level\, or are curious. All are welcome. \nPlease email moderator\, Patrick Sullivan\, at christianmeditation@fairlawnavenueunited.ca to receive the Zoom login details.
URL:https://www.fairlawnchurch.ca/events/christian-meditation-2/2026-02-11/
LOCATION:Online
CATEGORIES:Explore Spirituality,Meditation
ATTACH;FMTTYPE=image/jpeg:https://www.fairlawnchurch.ca/wp-content/uploads/2019/08/christian-meditation.jpg
ORGANIZER;CN="Explore Spirituality":MAILTO:es@fairlawnavenueunited.ca
END:VEVENT
BEGIN:VEVENT
DTSTART;TZID=America/Toronto:20260204T193000
DTEND;TZID=America/Toronto:20260204T210000
DTSTAMP:20260423T164820
CREATED:20240728T052743Z
LAST-MODIFIED:20251230T235246Z
UID:60643-1770233400-1770238800@www.fairlawnchurch.ca
SUMMARY:Christian Meditation
DESCRIPTION:Wednesdays at 7:30pm to 9:00pm\, we gather online for Christian Meditation. \nThis group is open to anyone who is interested in Meditation at any level\, or are curious. All are welcome. \nPlease email moderator\, Patrick Sullivan\, at christianmeditation@fairlawnavenueunited.ca to receive the Zoom login details.
URL:https://www.fairlawnchurch.ca/events/christian-meditation-2/2026-02-04/
LOCATION:Online
CATEGORIES:Explore Spirituality,Meditation
ATTACH;FMTTYPE=image/jpeg:https://www.fairlawnchurch.ca/wp-content/uploads/2019/08/christian-meditation.jpg
ORGANIZER;CN="Explore Spirituality":MAILTO:es@fairlawnavenueunited.ca
END:VEVENT
BEGIN:VEVENT
DTSTART;TZID=America/Toronto:20260203T130000
DTEND;TZID=America/Toronto:20260203T143000
DTSTAMP:20260423T164820
CREATED:20241119T155948Z
LAST-MODIFIED:20241119T155948Z
UID:59718-1770123600-1770129000@www.fairlawnchurch.ca
SUMMARY:Women's Spirituality ~ Group I
DESCRIPTION:We have 2 women’s spirituality groups where women meet monthly to contemplate life’s questions and support each other. \nWomen’s Spirituality Group I meet online the first Tuesday of each month (October – June) from 1:00pm – 2:30pm. \nIf interested\, please reach out to es@fairlawnavenueunited.ca
URL:https://www.fairlawnchurch.ca/events/womens-spirituality-group-i-2/2026-02-03/
LOCATION:Online
CATEGORIES:Explore Spirituality,Women's Group
ATTACH;FMTTYPE=image/png:https://www.fairlawnchurch.ca/wp-content/uploads/2023/08/womens-I.png
ORGANIZER;CN="Explore Spirituality":MAILTO:es@fairlawnavenueunited.ca
END:VEVENT
BEGIN:VEVENT
DTSTART;TZID=America/Toronto:20260202T193000
DTEND;TZID=America/Toronto:20260202T210000
DTSTAMP:20260423T164820
CREATED:20240420T013409Z
LAST-MODIFIED:20260323T152125Z
UID:61142-1770060600-1770066000@www.fairlawnchurch.ca
SUMMARY:Broadview Discussion Group
DESCRIPTION:2026 Schedule and Zoom Login \nAll readers of the print and online editions are welcome. \nJoin us online for review and discussion of articles and features from the current issue of Broadview Magazine.
URL:https://www.fairlawnchurch.ca/events/broadview-discussion-group-5/2026-02-02/
LOCATION:Online
CATEGORIES:Experience Belonging
ATTACH;FMTTYPE=image/png:https://www.fairlawnchurch.ca/wp-content/uploads/2023/01/Broadview.png
ORGANIZER;CN="Experience Belonging":MAILTO:eb@fairlawnavenueunited.ca
END:VEVENT
BEGIN:VEVENT
DTSTART;TZID=America/Toronto:20260128T193000
DTEND;TZID=America/Toronto:20260128T210000
DTSTAMP:20260423T164820
CREATED:20240728T052743Z
LAST-MODIFIED:20251230T235246Z
UID:60642-1769628600-1769634000@www.fairlawnchurch.ca
SUMMARY:Christian Meditation
DESCRIPTION:Wednesdays at 7:30pm to 9:00pm\, we gather online for Christian Meditation. \nThis group is open to anyone who is interested in Meditation at any level\, or are curious. All are welcome. \nPlease email moderator\, Patrick Sullivan\, at christianmeditation@fairlawnavenueunited.ca to receive the Zoom login details.
URL:https://www.fairlawnchurch.ca/events/christian-meditation-2/2026-01-28/
LOCATION:Online
CATEGORIES:Explore Spirituality,Meditation
ATTACH;FMTTYPE=image/jpeg:https://www.fairlawnchurch.ca/wp-content/uploads/2019/08/christian-meditation.jpg
ORGANIZER;CN="Explore Spirituality":MAILTO:es@fairlawnavenueunited.ca
END:VEVENT
BEGIN:VEVENT
DTSTART;TZID=America/Toronto:20260127T160000
DTEND;TZID=America/Toronto:20260127T170000
DTSTAMP:20260423T164820
CREATED:20260126T183441Z
LAST-MODIFIED:20260126T183441Z
UID:61191-1769529600-1769533200@www.fairlawnchurch.ca
SUMMARY:ES Council Meeting
DESCRIPTION:Bi-monthly online ES Council Meeting (4th Tuesday) \nJanuary 27\, 2026 4:00pm – 5:00pm \nMarch 17\, 2026 4:00pm – 5:00pm (off-schedule)
URL:https://www.fairlawnchurch.ca/events/es-council-meeting-3/
LOCATION:Online
CATEGORIES:Explore Spirituality
ATTACH;FMTTYPE=image/jpeg:https://www.fairlawnchurch.ca/wp-content/uploads/2021/10/Fairlawn-Purpose-Logo-Main-ES.jpg
ORGANIZER;CN="Explore Spirituality":MAILTO:es@fairlawnavenueunited.ca
END:VEVENT
BEGIN:VEVENT
DTSTART;TZID=America/Toronto:20260121T193000
DTEND;TZID=America/Toronto:20260121T210000
DTSTAMP:20260423T164820
CREATED:20240728T052743Z
LAST-MODIFIED:20251230T235245Z
UID:60641-1769023800-1769029200@www.fairlawnchurch.ca
SUMMARY:Christian Meditation
DESCRIPTION:Wednesdays at 7:30pm to 9:00pm\, we gather online for Christian Meditation. \nThis group is open to anyone who is interested in Meditation at any level\, or are curious. All are welcome. \nPlease email moderator\, Patrick Sullivan\, at christianmeditation@fairlawnavenueunited.ca to receive the Zoom login details.
URL:https://www.fairlawnchurch.ca/events/christian-meditation-2/2026-01-21/
LOCATION:Online
CATEGORIES:Explore Spirituality,Meditation
ATTACH;FMTTYPE=image/jpeg:https://www.fairlawnchurch.ca/wp-content/uploads/2019/08/christian-meditation.jpg
ORGANIZER;CN="Explore Spirituality":MAILTO:es@fairlawnavenueunited.ca
END:VEVENT
BEGIN:VEVENT
DTSTART;TZID=America/Toronto:20260121T190000
DTEND;TZID=America/Toronto:20260121T203000
DTSTAMP:20260423T164820
CREATED:20250104T053826Z
LAST-MODIFIED:20260316T144218Z
UID:61012-1769022000-1769027400@www.fairlawnchurch.ca
SUMMARY:Pastoral Visitation Team Meeting
DESCRIPTION:Pastoral Visitation Team Meeting \nOur pastoral visitation ministry provides support and compassion for those who may occasionally experience difficulty in their lives and supports our senior members when they can no longer regularly attend church. We send cards and flowers and keep them connected to Fairlawn through phone calls and personal visits.  \nIf you have any questions or would like to be involved in this ministry\, please contact Kathy Salisbury or Elaine Pitts at pastoralcare@fairlawnavenueunited.ca.
URL:https://www.fairlawnchurch.ca/events/zoom-pastoral-visitation-team-meeting/2026-01-21/
LOCATION:Online
CATEGORIES:Pastoral Care
ATTACH;FMTTYPE=image/jpeg:https://www.fairlawnchurch.ca/wp-content/uploads/2021/11/church-people-clip-art-614926.jpg
ORGANIZER;CN="Pastoral Care":MAILTO:pastoralcare@fairlawnavenueunited.ca
END:VEVENT
BEGIN:VEVENT
DTSTART;TZID=America/Toronto:20260119T103000
DTEND;TZID=America/Toronto:20260119T113000
DTSTAMP:20260423T164820
CREATED:20240715T041552Z
LAST-MODIFIED:20240715T041552Z
UID:59423-1768818600-1768822200@www.fairlawnchurch.ca
SUMMARY:Breast Friends - Cancer Suport Group
DESCRIPTION:Breast Friends – Cancer Support Group\n\n\n\n\nWomen who have breast cancer\, or have survived it\, meet the fourth Monday of the month (September – June) on Zoom from 10:30am to 11:30am for information sharing\, encouragement\, fitness ideas and some fun social events. The group provides a supportive environment with women who understand this journey. It is open to anyone from the church or community who would like to join. \nIf interested\, please contact:  bcsupport@fairlawnavenueunited.ca
URL:https://www.fairlawnchurch.ca/events/breast-friends-cancer-suport-group-2024-05-27/2026-01-19/
LOCATION:Online
CATEGORIES:Cancer Support,Experience Belonging
ATTACH;FMTTYPE=image/jpeg:https://www.fairlawnchurch.ca/wp-content/uploads/2014/11/breast-cancer-support.jpg
ORGANIZER;CN="Experience Belonging":MAILTO:eb@fairlawnavenueunited.ca
END:VEVENT
BEGIN:VEVENT
DTSTART;TZID=America/Toronto:20260114T193000
DTEND;TZID=America/Toronto:20260114T210000
DTSTAMP:20260423T164820
CREATED:20240728T052743Z
LAST-MODIFIED:20251230T235245Z
UID:60640-1768419000-1768424400@www.fairlawnchurch.ca
SUMMARY:Christian Meditation
DESCRIPTION:Wednesdays at 7:30pm to 9:00pm\, we gather online for Christian Meditation. \nThis group is open to anyone who is interested in Meditation at any level\, or are curious. All are welcome. \nPlease email moderator\, Patrick Sullivan\, at christianmeditation@fairlawnavenueunited.ca to receive the Zoom login details.
URL:https://www.fairlawnchurch.ca/events/christian-meditation-2/2026-01-14/
LOCATION:Online
CATEGORIES:Explore Spirituality,Meditation
ATTACH;FMTTYPE=image/jpeg:https://www.fairlawnchurch.ca/wp-content/uploads/2019/08/christian-meditation.jpg
ORGANIZER;CN="Explore Spirituality":MAILTO:es@fairlawnavenueunited.ca
END:VEVENT
BEGIN:VEVENT
DTSTART;TZID=America/Toronto:20260114T190000
DTEND;TZID=America/Toronto:20260114T210000
DTSTAMP:20260423T164820
CREATED:20240715T041538Z
LAST-MODIFIED:20260115T182656Z
UID:58663-1768417200-1768424400@www.fairlawnchurch.ca
SUMMARY:Trustees Meeting
DESCRIPTION:The Trustees of Fairlawn Avenue United Church meet online quarterly. \nIf you have any questions please reach out to Tom Salisbury\, Chair and Liaison to Governing Council at trustees@fairlawnavenueunited.ca. \n 
URL:https://www.fairlawnchurch.ca/events/trustees-2024/2026-01-14/
LOCATION:Online
CATEGORIES:Trustees
ATTACH;FMTTYPE=image/jpeg:https://www.fairlawnchurch.ca/wp-content/uploads/2022/01/Fairlawn-Purpose-Logo-Main-Grey-e1661914323925.jpg
ORGANIZER;CN="Trustees":MAILTO:trustees@fairlawnavenueunited.ca
END:VEVENT
END:VCALENDAR